BEGIN:VCALENDAR
VERSION:2.0
PRODID:-// - ECPv6.15.12.2//NONSGML v1.0//EN
CALSCALE:GREGORIAN
METHOD:PUBLISH
X-ORIGINAL-URL:https://yourkeyconcierge.com
X-WR-CALDESC:Events for 
REFRESH-INTERVAL;VALUE=DURATION:PT1H
X-Robots-Tag:noindex
X-PUBLISHED-TTL:PT1H
BEGIN:VTIMEZONE
TZID:Europe/Madrid
BEGIN:DAYLIGHT
TZOFFSETFROM:+0100
TZOFFSETTO:+0200
TZNAME:CEST
DTSTART:20240331T010000
END:DAYLIGHT
BEGIN:STANDARD
TZOFFSETFROM:+0200
TZOFFSETTO:+0100
TZNAME:CET
DTSTART:20241027T010000
END:STANDARD
BEGIN:DAYLIGHT
TZOFFSETFROM:+0100
TZOFFSETTO:+0200
TZNAME:CEST
DTSTART:20250330T010000
END:DAYLIGHT
BEGIN:STANDARD
TZOFFSETFROM:+0200
TZOFFSETTO:+0100
TZNAME:CET
DTSTART:20251026T010000
END:STANDARD
BEGIN:DAYLIGHT
TZOFFSETFROM:+0100
TZOFFSETTO:+0200
TZNAME:CEST
DTSTART:20260329T010000
END:DAYLIGHT
BEGIN:STANDARD
TZOFFSETFROM:+0200
TZOFFSETTO:+0100
TZNAME:CET
DTSTART:20261025T010000
END:STANDARD
END:VTIMEZONE
BEGIN:VTIMEZONE
TZID:America/Cancun
BEGIN:STANDARD
TZOFFSETFROM:-0500
TZOFFSETTO:-0500
TZNAME:EST
DTSTART:20240101T000000
END:STANDARD
END:VTIMEZONE
BEGIN:VEVENT
DTSTART;TZID=Europe/Madrid:20251226T070000
DTEND;TZID=Europe/Madrid:20251227T010000
DTSTAMP:20260419T215525
CREATED:20251129T074226Z
LAST-MODIFIED:20251129T074226Z
UID:4222-1766732400-1766797200@yourkeyconcierge.com
SUMMARY:TEN IBIZA @ Vagalume Tulum
DESCRIPTION:Friday\, December 26\, 2025 – 7:00 PM to 1:00 AM\nVagalume Tulum – Ages 18+ \nTEN IBIZA returns to Tulum for another unforgettable edition of its signature experience\, blending beachside energy with world-class house music. Join us at Vagalume Tulum for a night of elevated sound\, immersive vibes\, and a community brought together under the Caribbean sky. \nStep into “A Journey Into House Music\,” where warm rhythms\, hypnotic grooves\, and electric performances set the tone for a magical Friday night in Tulum. \n🎶 LINE-UP \nFeaturing an incredible trio of rising and established talent: \nKid Bamboo \nMai Lawson \nAlexia Garcia \nExpect a curated sonic journey of deep house\, melodic beats\, and late-night momentum that defines the global TEN IBIZA sound. \n🎟 TICKETS\nGeneral Admission \nEarly Bird: Mex$605 \nFirst Release: Mex$880 \nSecond Release: Mex$1\,210 \nSecure your spot early — each tier is limited. \n🍾 VIP TABLES + BOTTLE SERVICE \nPremium reserved tables available for an elevated experience\, including bottle service and exclusive seating overlooking the dance floor. \nTable Options \nBlack Table: Mex$49\,680 \nGreen Table: Mex$24\,840 \nPink Table: Mex$18\,630 \nDinner Table: Mex$7\,590 \nPerfect for groups and guests seeking a more private\, luxurious night. \n✨ EVENT OVERVIEW \nVenue: Vagalume Tulum \nDate: December 26\, 2025 \nTime: 7:00 PM – 1:00 AM \nAge Requirement: 18+ \nDress Code: Jungle chic / Tulum beach elegance \nDance under the stars\, surrounded by ocean breeze\, firelight\, and Vagalume’s iconic beachfront architecture. This night promises energy\, connection\, and pure house music bliss.
URL:https://yourkeyconcierge.com/event/ten-ibiza-vagalume-tulum/
LOCATION:Vagalume Tulum Beach Club – Day & Night Experience\, Tulum\, Mexico
ATTACH;FMTTYPE=image/jpeg:https://yourkeyconcierge.com/wp-content/uploads/2025/11/ten-ibiza.jpg
END:VEVENT
BEGIN:VEVENT
DTSTART;TZID=Europe/Madrid:20251225T220000
DTEND;TZID=Europe/Madrid:20251226T040000
DTSTAMP:20260419T215525
CREATED:20251210T210203Z
LAST-MODIFIED:20251210T210203Z
UID:4530-1766700000-1766721600@yourkeyconcierge.com
SUMMARY:BORA UZER at Bonbonniere Tulum
DESCRIPTION:Step into an unforgettable Christmas Night as Bora Uzer brings his signature live electronic performance to Bonbonniere Tulum on Thursday\, December 25th\, from 10:00 PM until late.\n Experience a glamorous night of music\, style\, and high-energy celebration inside one of Tulum’s most iconic nightlife venues.\nBonbonniere’s luxurious atmosphere meets Bora Uzer’s magnetic sound—where deep grooves\, live instrumental elements\, and immersive beats create a night designed for those who live for extraordinary moments.\n⭐ What to Expect\nA world-class performance by BORA UZER\nElite nightlife energy in an upscale Tulum setting\nPremium sound\, lighting\, and immersive ambiance\nVIP bottle service tables available in multiple categories\nStrict dress code for an elevated luxury experience\n🎟️ Tickets\nTier 1: $1\,000 MXN (excl. fees)\n🥂 VIP Tables\nBackstage – $115\,000 MXN\nDiamond – $92\,000 MXN\nPlatinum – $69\,000 MXN\nGold – $57\,500 MXN\nSilver – $46\,000 MXN\nIncludes premium bottle service & exclusive areas depending on table category.\n👗 Dress Code – Formal\nTo preserve the luxury experience\, Bonbonniere enforces a strict formal dress code:\n❌ No swimwear\n❌ No caps\n❌ No sandals\n❌ No sport shorts\nEntry will be denied if dress code is not respected.\nCelebrate Christmas night in style—a glamorous evening\, extraordinary music\, and the magnetic energy of Tulum nightlife.
URL:https://yourkeyconcierge.com/event/bora-uzer-at-bonbonniere-tulum/
LOCATION:Bonbonniere Tulum\, Carretera Estatal Tulum–Boca Paila\, Parcela 1744-A\, Tulum\, Quintana Roo\, 777760\, Mexico
ATTACH;FMTTYPE=image/jpeg:https://yourkeyconcierge.com/wp-content/uploads/2025/12/db_file_img_135178_1200xauto.jpg
END:VEVENT
BEGIN:VEVENT
DTSTART;TZID=America/Cancun:20251225T190000
DTEND;TZID=America/Cancun:20251226T010000
DTSTAMP:20260419T215525
CREATED:20251210T205432Z
LAST-MODIFIED:20251210T205432Z
UID:4528-1766689200-1766710800@yourkeyconcierge.com
SUMMARY:MELLOW at Vagalume Tulum
DESCRIPTION:Step into the soul of Tulum’s electronic scene this December 25th as Vagalume presents MELLOW\, a night designed for rhythm seekers\, dreamers\, and lovers of immersive sound. From 7:00 PM to 1:00 AM\, lose yourself at one of Tulum’s most iconic beachfront venues\, where music\, nature\, and energy collide.\n✨ LINEUP\nFeel the pulse of the night with an exceptional artist selection:\nRAMYEN\nGAVIÑO\nMIUL\nLet hypnotic beats flow with the breeze as you dance beneath the stars\, surrounded by Vagalume’s signature wooden architecture and a stunning beachfront atmosphere.\n🎟 TICKETS\nChoose the release that best suits you:\nEarly Bird: $605 MXN\nFirst Release: $880 MXN\nSecond Release: $1\,210 MXN\nFinal Release: $1\,540 MXN\nReserve early—tickets increase as the event approaches.\n🍾 VIP TABLES & BOTTLE SERVICE\nElevate your night with premium table packages:\nWhite Table – $49\,680 MXN\nGreen Table – $24\,840 MXN\nPink Table – $18\,630 MXN\nDinner Table – $3\,795 MXN\nEnjoy dedicated service\, premium bottles\, and the best views of the stage. \n📍 Location:\nVagalume Tulum – A breathtaking beachfront venue in the heart of Tulum’s nightlife district.\n⏰ Event Time:\n7:00 PM – 1:00 AM\n👗 Dress Code:\nTulum Style – effortless\, chic\, and inspired by nature.\nDon’t miss your chance to experience a night of pure electronic magic. Get your tickets now and immerse yourself in the MELLOW rhythm at Vagalume Tulum.
URL:https://yourkeyconcierge.com/event/mellow-at-vagalume-tulum/
LOCATION:Vagalume Tulum Beach Club – Day & Night Experience\, Tulum\, Mexico
ATTACH;FMTTYPE=image/jpeg:https://yourkeyconcierge.com/wp-content/uploads/2025/12/db_file_img_134724_1200xauto.jpg
END:VEVENT
BEGIN:VEVENT
DTSTART;TZID=Europe/Madrid:20251224T220000
DTEND;TZID=Europe/Madrid:20251228T030000
DTSTAMP:20260419T215525
CREATED:20251221T221023Z
LAST-MODIFIED:20251221T221115Z
UID:4713-1766613600-1766890800@yourkeyconcierge.com
SUMMARY:Xmas Party: Ephimera x Deeplomatic
DESCRIPTION:Ephimera x Deeplomatic unite for a one-night-only Christmas Party that goes beyond tradition. No clichés\, no filler — just music with intent\, a curated crowd and an atmosphere that only happens once a year.\nFrom 10:00 PM till late\, experience two stages of underground sound featuring a hand-picked lineup of local and international selectors\, immersive energy and a setting designed for those who know why they’re there.\n📅 Wednesday\, December 24\, 2025\n🕙 10:00 PM – Late\n📍 Secret Location – Jacinto Pat\, Quintana Roo\n🔞 21+ | ID Required\n🚐 Free Shuttle Service Available\n🎟 Limited Capacity | Locals Discount with ID\nTables and Absolut Christmas packages available.
URL:https://yourkeyconcierge.com/event/xmas-party-ephimera-x-deeplomatic/
LOCATION:Cenote venue Tulum Jungle
ATTACH;FMTTYPE=image/png:https://yourkeyconcierge.com/wp-content/uploads/2025/12/Captura-de-pantalla-2025-12-21-a-las-11.09.07-a.m.png
END:VEVENT
BEGIN:VEVENT
DTSTART;TZID=America/Cancun:20251224T190000
DTEND;TZID=America/Cancun:20251225T010000
DTSTAMP:20260419T215525
CREATED:20251210T205040Z
LAST-MODIFIED:20251210T205514Z
UID:4526-1766602800-1766624400@yourkeyconcierge.com
SUMMARY:DOMINIK – Immersive Electronic Experience at Vagalume Tulum
DESCRIPTION:Step into DOMINIK — a deep\, emotional\, and sensory musical journey born in the heart of Tulum.\nThis December 24th\, Vagalume transforms into a space where routine melts away\, the ego disappears\, and authentic human connection flows through sound\, rhythm\, and energy.\nCreated in Tulum and inspired by its natural mystique\, DOMINIK unites locals and travelers in an atmosphere where organic jungle vibrations meet underground electronic beats. This is more than a party — it’s a return to your truest self through music.\n🌿 LINEUP\nExperience an unforgettable night with a powerful musical curation:\nGiorgio Stefano\nLeón V\nRebecca Lasmar\nIrinna\n🎟️ TICKETS\nChoose your access tier and secure your spot:\nEarly Bird: $605 MXN\nFirst Release: $880 MXN\nSecond Release: $1\,210 MXN\n🍾 VIP TABLES & BOTTLE SERVICE\nUpgrade your night with exclusive table options:\nWhite Table – $37\,260 MXN\nGreen Table – $18\,630 MXN\nDinner Table – $3\,795 MXN
URL:https://yourkeyconcierge.com/event/dominik-immersive-electronic-experience-at-vagalume-tulum/
LOCATION:Vagalume Tulum Beach Club – Day & Night Experience\, Tulum\, Mexico
ATTACH;FMTTYPE=image/jpeg:https://yourkeyconcierge.com/wp-content/uploads/2025/12/db_file_img_133668_1200xauto.jpg
END:VEVENT
BEGIN:VEVENT
DTSTART;TZID=Europe/Madrid:20251224T180000
DTEND;TZID=Europe/Madrid:20251224T230000
DTSTAMP:20260419T215525
CREATED:20251210T204631Z
LAST-MODIFIED:20251210T204631Z
UID:4520-1766599200-1766617200@yourkeyconcierge.com
SUMMARY:Christmas Dinner at Gitano Jungle
DESCRIPTION:Celebrate Christmas in true Tulum style at GITANO JUNGLE\, where holiday magic meets tropical mystique. On December 24th from 6:00 PM to 11:00 PM\, immerse yourself in a festive culinary experience beneath the palms\, surrounded by candlelight\, soulful music\, and the enchanting energy of the jungle.\nEnjoy a beautifully curated three-course Christmas dinner\, crafted with bold GITANO flavours and seasonal inspiration. Highlights include:\n✨ Starter Options\n• Golden fried camembert with blueberry jelly\n• Beet carpaccio with citrus punch\n✨ Main Course Options\n• Buttered cod with tropical herbs\n• Mushroom orzo with rich\, earthy flavours\n✨ Dessert\n• Apple & pear strudel with vanilla cream\nSip signature mezcal cocktails\, enjoy the warm ambiance\, and celebrate with elegance as you share a memorable evening with friends\, family\, or someone special. This is Christmas at GITANO—stylish\, soulful\, and unforgettable.\nTables are limited — reserve your spot early.\n📍 Event Details\n📅 Date: Wednesday\, December 24th\, 2025\n⏰ Time: 6:00 PM – 11:00 PM\n📌 Location: Gitano Jungle Tulum\, Quintana Roo\n👥 Ages: All ages welcome\n🎟 Tickets: MXN $1\,430 (incl. fees)\n⚠️ Important Information for Guests\n• Please arrive on time to fully enjoy the Christmas dining experience.\n• Reservations are held for the entire evening.\n• Gratuity not included.\n• Ideal for couples\, groups\, and holiday travelers wanting a unique Tulum celebration.
URL:https://yourkeyconcierge.com/event/christmas-dinner-at-gitano-jungle/
LOCATION:GITANO Jungle
ATTACH;FMTTYPE=image/png:https://yourkeyconcierge.com/wp-content/uploads/2025/12/085d44e2-8dbd-462c-b149-92072ced4a40.png
END:VEVENT
BEGIN:VEVENT
DTSTART;TZID=Europe/Madrid:20251224T150000
DTEND;TZID=Europe/Madrid:20251224T220000
DTSTAMP:20260419T215525
CREATED:20251210T203712Z
LAST-MODIFIED:20251210T204034Z
UID:4516-1766588400-1766613600@yourkeyconcierge.com
SUMMARY:Christmas Dinner at Gitano Beach
DESCRIPTION:Celebrate Christmas in true Tulum style—barefoot\, relaxed\, and surrounded by the magic of the Caribbean.\nJoin us on December 24th\, from 3:00 PM to 10:00 PM\, for a dreamy holiday experience at GITANO BEACH\, nestled on a historic coconut plantation overlooking turquoise sea views.\nSpend the afternoon unwinding beneath swaying palms\, savoring smoky mezcal cocktails\, and embracing the festive atmosphere of Tulum’s coastline. As daylight fades\, settle in for a three-course Christmas tasting menu that blends seasonal favorites with tropical elegance.\nEnjoy flavors such as fennel and orange salad\, tender beef steak or fresh fish fillet\, and finish the evening with rich chocolate textures crafted especially for the holiday.\nWhether you’re celebrating with friends\, family\, or enjoying a warm Christmas escape\, Gitano Beach offers a luxurious\, intimate dining experience steps from the ocean.\nEvent Highlights:\nChristmas tasting menu with Gitano’s signature tropical flair\nBeachfront setting with palm trees and ocean views\nMezcal cocktails & premium beverages available\nRelaxed luxury ambience perfect for holiday celebrations\nAll ages welcome\nDate & Time:\n📅 Wednesday\, December 24\, 2025\n⏰ 3:00 PM – 10:00 PM\n📍 Gitano Beach\, Tulum\, Quintana Roo
URL:https://yourkeyconcierge.com/event/christmas-dinner-at-gitano-beach/
LOCATION:GITANO Beach\, Av Boca Paila KM 9.5\, Tulum Beach\, Zona Costera\, Tulum\, Q.R.\, 77780\, Mexico
ATTACH;FMTTYPE=image/png:https://yourkeyconcierge.com/wp-content/uploads/2025/12/675b56c8-41ab-4b12-93e1-8b33d9ce0574.png
END:VEVENT
BEGIN:VEVENT
DTSTART;TZID=Europe/Madrid:20251223T190000
DTEND;TZID=Europe/Madrid:20251224T010000
DTSTAMP:20260419T215525
CREATED:20251210T210828Z
LAST-MODIFIED:20251210T210828Z
UID:4534-1766516400-1766538000@yourkeyconcierge.com
SUMMARY:GLASSTOWN – Reflections of Glasstown: Tulum Residency at Vagalume
DESCRIPTION:Step into a night where sound\, art\, and culture come together under the magic of Tulum’s sky. Reflections of Glasstown returns with a special residency at Vagalume Tulum\, launching on December 23 with an electrifying lineup curated by Sonvie.\nThe experience begins with Alexia Garcia\, one of Tulum’s rising local talents\, setting the tone with her organic-meets-electronic sound. The night then elevates with Hugo Cantarra\, celebrated French house producer supported by HUGEL\, Fatboy Slim\, Meduza\, Don Diablo\, and David Guetta\, with releases on iconic labels like Spinnin’ Records\, Pacha Recordings\, Ultra\, and Armada. Expect signature tracks such as 4 to the Floor\, Pump Up The Jam (Remix) and Look Into My Eyes (Remix).\nMore than a party\, Glasstown is an immersive journey — a fusion of global acts\, local artistry\, and Tulum’s unmistakable aesthetic. Let every beat guide you deeper into the night as you move between reflections of sound\, light\, and emotion.\n✨ A night designed for discovery. A space created for connection.\n✨ More reflections will be revealed soon.\n✨ LINEUP\nSonvie Invites\nHugo Cantarra\nAlexia Garcia\n🎟️ Tickets\nEarly Bird: $605 MXN\nFirst Release: $880 MXN\nSecond Release: $1\,210 MXN\nFinal Release: $1\,540 MXN\n⏰ Schedule\n7:00 PM – 1:00 AM\n👗 Dress Code\nTulum Style — elevated\, chic\, bohemian.\n🍾 VIP Tables / Bottle Service\nVIP bottle service packages are available.
URL:https://yourkeyconcierge.com/event/glasstown-reflections-of-glasstown-tulum-residency-at-vagalume/
LOCATION:Vagalume Tulum Beach Club – Day & Night Experience\, Tulum\, Mexico
ATTACH;FMTTYPE=image/jpeg:https://yourkeyconcierge.com/wp-content/uploads/2025/12/db_file_img_134033_300xauto.jpg
END:VEVENT
BEGIN:VEVENT
DTSTART;TZID=Europe/Madrid:20251221T220000
DTEND;TZID=Europe/Madrid:20251222T040000
DTSTAMP:20260419T215525
CREATED:20251221T220632Z
LAST-MODIFIED:20251221T220632Z
UID:4710-1766354400-1766376000@yourkeyconcierge.com
SUMMARY:Ancestral Soul at Bonbonniere Tulum
DESCRIPTION:Ancestral Soul arrives at Bonbonniere Tulum for a refined Sunday night experience blending deep electronic rhythms with elegant nightlife energy.\nFrom 10:00 PM till late\, immerse yourself in a curated sound journey led by Rami b2b Leonardo\, Moaré\, and Cuevas\, set inside one of Tulum’s most exclusive nightlife venues.\nExpect elevated production\, a sophisticated crowd and an intimate dancefloor atmosphere designed for late-night connection and movement.\n📅 Sunday\, December 21\, 2025\n🕙 10:00 PM – Late\n📍 Bonbonniere Tulum\, Quintana Roo\n🔞 18+ | Limited Capacity\n👔 Dress Code: Formal (Strictly Enforced)\nVIP tables and backstage experiences available.
URL:https://yourkeyconcierge.com/event/ancestral-soul-at-bonbonniere-tulum-2/
LOCATION:Bonbonniere Tulum\, Carretera Estatal Tulum–Boca Paila\, Parcela 1744-A\, Tulum\, Quintana Roo\, 777760\, Mexico
ATTACH;FMTTYPE=image/png:https://yourkeyconcierge.com/wp-content/uploads/2025/12/Captura-de-pantalla-2025-12-21-a-las-11.05.22-a.m.png
END:VEVENT
BEGIN:VEVENT
DTSTART;TZID=Europe/Madrid:20251221T190000
DTEND;TZID=Europe/Madrid:20251222T040000
DTSTAMP:20260419T215525
CREATED:20251218T001757Z
LAST-MODIFIED:20251220T233942Z
UID:4655-1766343600-1766376000@yourkeyconcierge.com
SUMMARY:Elysium at Vagalume Tulum
DESCRIPTION:Elysium returns to Tulum for an exclusive jungle residency at Vagalume. After a standout season in Ibiza and Europe\, Afshin Momadi brings his acclaimed concept back to Mexico for a night of immersive sound\, elevated energy\, and utopian vibes under the palms.\nFeaturing Afshin Momadi\, Belladona\, and Vite\, this curated experience blends melodic house\, world-class production\, and Tulum’s iconic atmosphere.\n📍 Vagalume Tulum\, Quintana Roo\n📅 Sunday\, December 21\, 2025 | 7:00 PM – 1:00 AM\n🔞 18+ event\n👗 Dress code: Tulum Style\n🎟️ General admission & VIP bottle service tables available
URL:https://yourkeyconcierge.com/event/elysium-at-vagalume-tulum-2/
LOCATION:Vagalume Tulum Beach Club – Day & Night Experience\, Tulum\, Mexico
ATTACH;FMTTYPE=image/jpeg:https://yourkeyconcierge.com/wp-content/uploads/2025/12/db_file_img_135371_1200xauto.jpg
END:VEVENT
BEGIN:VEVENT
DTSTART;TZID=Europe/Madrid:20251220T220000
DTEND;TZID=Europe/Madrid:20251221T040000
DTSTAMP:20260419T215525
CREATED:20251218T001630Z
LAST-MODIFIED:20251218T001630Z
UID:4651-1766268000-1766289600@yourkeyconcierge.com
SUMMARY:Oriol Calvo at Bonbonniere Tulum
DESCRIPTION:Join Oriol Calvo live at Bonbonniere Tulum for an exclusive luxury nightlife experience in the heart of the Riviera Maya.\nDance from 10:00 PM till late with world-class sound\, high-energy vibes\, and premium VIP table service.\n📍 Bonbonniere Tulum\, Quintana Roo\n📅 Saturday\, December 20\, 2025 | 10:00 PM – Late\n🔞 18+ event\n👗 Dress code strictly enforced: Formal attire only\n🎟️ General admission & VIP table reservations available
URL:https://yourkeyconcierge.com/event/oriol-calvo-at-bonbonniere-tulum/
LOCATION:Bonbonniere Tulum\, Carretera Estatal Tulum–Boca Paila\, Parcela 1744-A\, Tulum\, Quintana Roo\, 777760\, Mexico
ATTACH;FMTTYPE=image/jpeg:https://yourkeyconcierge.com/wp-content/uploads/2025/12/db_file_img_134239_1200xauto.jpg
END:VEVENT
BEGIN:VEVENT
DTSTART;TZID=Europe/Madrid:20251220T180000
DTEND;TZID=Europe/Madrid:20251221T030000
DTSTAMP:20260419T215525
CREATED:20251218T002025Z
LAST-MODIFIED:20251218T002025Z
UID:4657-1766253600-1766286000@yourkeyconcierge.com
SUMMARY:The New Moon at Papaya Playa Project – PPP x Det Gode Selskab
DESCRIPTION:Under the New Moon\, Papaya Playa Project joins forces with Det Gode Selskab for an intimate beachfront music journey in Tulum. Set where jungle meets the Caribbean\, this curated experience blends house and melodic sounds\, immersive art\, and barefoot dancing on the sand.\nFeaturing Portable\, Tod Louie\, Karl Fraunhofer\, and Andru\, the night invites connection\, rhythm\, and community in one of Tulum’s most iconic venues.\n📍 Papaya Playa Project\, Tulum\n📅 Saturday\, December 20\, 2025 | Doors 6:30 PM\n🔞 18+ event | Capacity limited\n👗 Dress code: Casual / Dinner-Casual\n✨ Mayan dinner experience\, room packages & VIP tables available
URL:https://yourkeyconcierge.com/event/the-new-moon-at-papaya-playa-project-ppp-x-det-gode-selskab/
LOCATION:Papaya Playa Project
ATTACH;FMTTYPE=image/png:https://yourkeyconcierge.com/wp-content/uploads/2025/12/2c2030ac-06dc-4d3b-8846-3547d13c6fbe.png
END:VEVENT
BEGIN:VEVENT
DTSTART;TZID=Europe/Madrid:20251220T120000
DTEND;TZID=Europe/Madrid:20251220T233000
DTSTAMP:20260419T215525
CREATED:20251220T233713Z
LAST-MODIFIED:20251220T233728Z
UID:4678-1766232000-1766273400@yourkeyconcierge.com
SUMMARY:BRYZ at Umi Beach Club Tulum
DESCRIPTION:BRYZ for the first time in Mexico\, bringing one of Romania’s most influential minimal & deep artists to Umi Beach Club Tulum. Known for his hypnotic\, precise\, and deeply emotional sound\, BRYZ headlines a full-day underground experience curated for true electronic music lovers.\nJoined by a carefully selected local lineup\, this immersive daytime journey blends music\, aesthetics\, and atmosphere in one of Tulum’s most iconic beach clubs.\n📍 Umi Beach Club\, Tulum (Hotel Zone)\n📅 Saturday\, December 20\, 2025 | From 12:00 PM\n🔞 18+ event\n🎶 Minimal & Deep Underground Music\n🎟️ Limited tickets available
URL:https://yourkeyconcierge.com/event/bryz-at-umi-beach-club-tulum/
LOCATION:UMI\, Carr. Tulum-Boca Paila Km 8.5\, Zona Hotelera Tulum\, Tulum\, Q.R.\, 77760\, Mexico
ATTACH;FMTTYPE=image/png:https://yourkeyconcierge.com/wp-content/uploads/2025/12/Captura-de-pantalla-2025-12-20-a-las-12.35.55-p.m.png
END:VEVENT
END:VCALENDAR