BEGIN:VCALENDAR
VERSION:2.0
PRODID:-// - ECPv6.15.12.2//NONSGML v1.0//EN
CALSCALE:GREGORIAN
METHOD:PUBLISH
X-ORIGINAL-URL:https://yourkeyconcierge.com
X-WR-CALDESC:Events for 
REFRESH-INTERVAL;VALUE=DURATION:PT1H
X-Robots-Tag:noindex
X-PUBLISHED-TTL:PT1H
BEGIN:VTIMEZONE
TZID:America/Cancun
BEGIN:STANDARD
TZOFFSETFROM:-0500
TZOFFSETTO:-0500
TZNAME:EST
DTSTART:20250101T000000
END:STANDARD
END:VTIMEZONE
BEGIN:VTIMEZONE
TZID:Europe/Madrid
BEGIN:DAYLIGHT
TZOFFSETFROM:+0100
TZOFFSETTO:+0200
TZNAME:CEST
DTSTART:20250330T010000
END:DAYLIGHT
BEGIN:STANDARD
TZOFFSETFROM:+0200
TZOFFSETTO:+0100
TZNAME:CET
DTSTART:20251026T010000
END:STANDARD
BEGIN:DAYLIGHT
TZOFFSETFROM:+0100
TZOFFSETTO:+0200
TZNAME:CEST
DTSTART:20260329T010000
END:DAYLIGHT
BEGIN:STANDARD
TZOFFSETFROM:+0200
TZOFFSETTO:+0100
TZNAME:CET
DTSTART:20261025T010000
END:STANDARD
BEGIN:DAYLIGHT
TZOFFSETFROM:+0100
TZOFFSETTO:+0200
TZNAME:CEST
DTSTART:20270328T010000
END:DAYLIGHT
BEGIN:STANDARD
TZOFFSETFROM:+0200
TZOFFSETTO:+0100
TZNAME:CET
DTSTART:20271031T010000
END:STANDARD
END:VTIMEZONE
BEGIN:VEVENT
DTSTART;TZID=America/Cancun:20260411T130000
DTEND;TZID=America/Cancun:20260412T010000
DTSTAMP:20260419T121404
CREATED:20260225T181138Z
LAST-MODIFIED:20260225T181138Z
UID:5220-1775912400-1775955600@yourkeyconcierge.com
SUMMARY:SINNER presents VITE + MIGANOVA (Long Set)
DESCRIPTION:SINNER returns to Vagalume Tulum on April 11\, 2026 (1PM–1AM) with a special extended long set by VITE + Miganova.\nNow in its fifth season\, SINNER continues its signature Saturday ritual in Tulum — blending boutique beach club energy\, immersive atmosphere\, and cutting-edge electronic music.\nLineup:\nVITE + Miganova (Long Set) · MIUL\nTickets:\nEarly Bird $605 MXN · First Release $880 MXN · Second Release $1\,210 MXN · Final Release $1\,540 MXN\nDress Code: All Black / Sexy Attire\nVIP Tables & Bottle Service Available\n18+ Event\nReserve your tickets or private table and experience one of the most exclusive Saturday electronic events in Tulum 2026
URL:https://yourkeyconcierge.com/event/sinner-presents-vite-miganova-long-set/
LOCATION:Vagalume Tulum Beach Club – Day & Night Experience\, Tulum\, Mexico
ATTACH;FMTTYPE=image/jpeg:https://yourkeyconcierge.com/wp-content/uploads/2026/02/db_file_img_139203_1200xauto.jpg
END:VEVENT
BEGIN:VEVENT
DTSTART;TZID=America/Cancun:20260411T180000
DTEND;TZID=America/Cancun:20260412T020000
DTSTAMP:20260419T121404
CREATED:20260225T181315Z
LAST-MODIFIED:20260225T181315Z
UID:5222-1775930400-1775959200@yourkeyconcierge.com
SUMMARY:PPP Presents: The Full Moon
DESCRIPTION:PPP presents The Full Moon at Papaya Playa Project on April 11–12\, 2026.\nExperience one of Tulum’s most iconic beachfront rituals — a night of music\, art\, and connection under the Caribbean moonlight. Dance barefoot on the sand as immersive sounds and celestial energy guide the celebration into the early hours.\nDoors Open: 6:00 PM\nLast Entry: 12:50 AM\n18+ Event\n🎟 Ticket Options\nEarly Bird – $2\,090 MXN\nTier 1 – $2\,200 MXN\nEvent + Mayan Dinner Experience (7:00 PM or 9:00 PM seating)\nEnhance your night with the exclusive Mayan Dinner Experience\, immersive art performances\, and signature cocktails in one of Tulum’s most renowned beach clubs.\nCapacity is limited to preserve the intimate Full Moon atmosphere. Secure your tickets early.
URL:https://yourkeyconcierge.com/event/ppp-presents-the-full-moon-4/
LOCATION:Papaya Playa Project
ATTACH;FMTTYPE=image/png:https://yourkeyconcierge.com/wp-content/uploads/2026/02/Captura-de-pantalla-2026-02-25-a-las-12.50.56-p.m.png
END:VEVENT
BEGIN:VEVENT
DTSTART;TZID=Europe/Madrid:20260416T190000
DTEND;TZID=Europe/Madrid:20260417T030000
DTSTAMP:20260419T121404
CREATED:20251204T084202Z
LAST-MODIFIED:20251204T084202Z
UID:4461-1776366000-1776394800@yourkeyconcierge.com
SUMMARY:GALA Ibiza at Vagalume Tulum
DESCRIPTION:✨ What Is GALA Ibiza?\nGALA Ibiza Tulum 2026 returns to Vagalume for its second consecutive year after a stunning season on the island of Ibiza.This globally recognized artistic and musical concept delivers a full‑immersion experience\, transforming the venue into a world of surrealism\, performance\, and avant‑garde electronic sound. \nGALA combines: \n\n\nCutting‑edge electronic music \n\n\nSurrealist artistic elements \n\n\nLive performers \n\n\nA visually iconic identity \n\n\nA dance floor designed as a living\, shifting stage \n\n\nThis is not just a party—it’s an artistic fusion that elevates nightlife into a multisensory journey. \n\n🎧 Lineup – GALA Ibiza Tulum 2026\nTBA – Official artist announcement coming soon. \nStay tuned for world‑class DJs and performers curated by Ibán Mendoza\, the visionary behind GALA. \n\n📅 Event Details\n\n\nDate: Thursday\, April 16\, 2026 \n\n\nTime: 19:00 – 1:00 \n\n\nLocation: Vagalume Tulum\, Quintana Roo\, Mexico \n\n\nAge Requirement: 18+ \n\n\n\n👗 Dress Code\nTulum StyleElegant\, artistic\, boho-chic silhouettes inspired by the surreal and mystical world of GALA. \n\n🎟️ Ticket Options\n\n\n\n\n\nTicket Type\nPrice\n\n\n\n\nEarly Bird\n$605 MXN\n\n\nFirst Release\n$880 MXN\n\n\nSecond Release\n$1\,210 MXN\n\n\nFinal Release\n$1\,540 MXN\n\n\n\n\n\n\n🍾 VIP Tables & Bottle Service\nElevate your GALA experience with exclusive table reservations. \nVIP Table Options\n\n\n\n\n\nTable Type\nPrice (MXN)\n\n\n\n\nWhite Table\n$49\,680 MXN\n\n\nGreen Table\n$24\,840 MXN\n\n\nPink Table\n$18\,630 MXN\n\n\nDinner Table\n$3\,795 MXN\n\n\n\n\n\n💬 For VIP bottle service inquiries:WhatsApp: +52 984 280 4226 \n\n🌴 Why You Can’t Miss GALA Ibiza Tulum 2026\n\n\nA globally acclaimed Ibiza-born electronic event \n\n\nHigh-end surrealist production \n\n\nInternational performers \n\n\nCarefully curated sonic journey \n\n\nIconic Tulum setting at Vagalume \n\n\nLimited capacity → tickets sell out early \n\n\nThis is one of Tulum’s most immersive artistic nightlife experiences—where music\, movement\, and visual fantasy collide. \n\n📍 Location\nVagalume TulumTulum\, Quintana Roo\, Mexico
URL:https://yourkeyconcierge.com/event/gala-ibiza-at-vagalume-tulum/
LOCATION:Vagalume Tulum Beach Club – Day & Night Experience\, Tulum\, Mexico
ATTACH;FMTTYPE=image/jpeg:https://yourkeyconcierge.com/wp-content/uploads/2025/12/gala.jpg
END:VEVENT
BEGIN:VEVENT
DTSTART;TZID=America/Cancun:20260418T130000
DTEND;TZID=America/Cancun:20260419T010000
DTSTAMP:20260419T121404
CREATED:20260225T181545Z
LAST-MODIFIED:20260225T181545Z
UID:5224-1776517200-1776560400@yourkeyconcierge.com
SUMMARY:SINNER presents Dino Lenny
DESCRIPTION:SINNER returns for its fifth season with a special edition featuring Dino Lenny at Vagalume Tulum.\n📅 April 18\, 2026\n⏰ 1:00 PM – 1:00 AM\n📍 Tulum\, Mexico\n🔞 18+\nCreated by VITE and Miganova\, SINNER is one of the top boutique electronic music events in Tulum\, blending cutting-edge sound\, immersive atmosphere\, and elevated beach club energy.\nLine Up:\nDino Lenny\nVITE + Miganova\nMIUL\n🎟 Tickets available (Early Bird to Final Release)\n🍾 VIP tables with bottle service available\n👗 Dress Code: All Black / Sexy Attire\nReserve in advance for the full SINNER experience at Vagalume.
URL:https://yourkeyconcierge.com/event/sinner-presents-dino-lenny/
LOCATION:Vagalume Tulum Beach Club – Day & Night Experience\, Tulum\, Mexico
ATTACH;FMTTYPE=image/jpeg:https://yourkeyconcierge.com/wp-content/uploads/2026/02/db_file_img_139203_1200xauto.jpg
END:VEVENT
BEGIN:VEVENT
DTSTART;TZID=America/Cancun:20260418T180000
DTEND;TZID=America/Cancun:20260419T020000
DTSTAMP:20260419T121404
CREATED:20260225T181723Z
LAST-MODIFIED:20260225T181723Z
UID:5226-1776535200-1776564000@yourkeyconcierge.com
SUMMARY:PPP Presents The New Moon
DESCRIPTION:PPP Presents The New Moon returns on April 18\, 2026 at Papaya Playa Project\, one of Tulum’s most iconic beachfront venues.\n📅 April 18\, 2026\n⏰ Doors Open: 6:00 PM | Last Entry: 12:50 AM\n📍 Tulum\, Mexico\n🔞 18+\nCelebrate under the New Moon with an immersive beachfront music journey featuring live performances\, art experiences\, and a conscious global community. Dance barefoot on the Caribbean sand surrounded by palm trees\, ocean breeze\, and signature PPP energy.\nTicket Options:\n• General Admission (music journey + welcome drink)\n• Event Access + Mayan Dinner Experience (7 PM or 9 PM seating)\n• VIP Tables with bottle service & culinary experience
URL:https://yourkeyconcierge.com/event/ppp-presents-the-new-moon/
LOCATION:Papaya Playa Project
ATTACH;FMTTYPE=image/png:https://yourkeyconcierge.com/wp-content/uploads/2026/02/Captura-de-pantalla-2026-02-25-a-las-12.51.26-p.m.png
END:VEVENT
BEGIN:VEVENT
DTSTART;TZID=America/Cancun:20260424T190000
DTEND;TZID=America/Cancun:20260425T010000
DTSTAMP:20260419T121404
CREATED:20260225T181933Z
LAST-MODIFIED:20260225T181933Z
UID:5228-1777057200-1777078800@yourkeyconcierge.com
SUMMARY:Renaissance | Vagalume Tulum
DESCRIPTION:Renaissance Tulum 2026 returns to Vagalume Tulum on April 24\, 2026\, for an exclusive electronic music experience on the Mayan Riviera.\n📅 April 24\, 2026\n⏰ 7:00 PM – 1:00 AM\n📍 Tulum\, Mexico\n🔞 18+\nJoin one of Tulum’s most anticipated electronic music events\, featuring world-class DJs (lineup TBA) under the iconic Vagalume tepee. A night of cutting-edge sound\, immersive energy\, and elevated beach club vibes.\nTickets:\n• Early Bird: $605 MXN\n• First Release: $880 MXN\n• Second Release: $1\,210 MXN\n• Final Release: $1\,540 MXN\n🍾 VIP tables with bottle service available\n👗 Dress Code: Tulum Style\nSecure your tickets early. Limited capacity.
URL:https://yourkeyconcierge.com/event/renaissance-vagalume-tulum/
LOCATION:Vagalume Tulum Beach Club – Day & Night Experience\, Tulum\, Mexico
ATTACH;FMTTYPE=image/jpeg:https://yourkeyconcierge.com/wp-content/uploads/2026/02/db_file_img_134392_1200xauto.jpg
END:VEVENT
BEGIN:VEVENT
DTSTART;TZID=America/Cancun:20260425T130000
DTEND;TZID=America/Cancun:20260426T010000
DTSTAMP:20260419T121404
CREATED:20260225T182101Z
LAST-MODIFIED:20260225T182101Z
UID:5230-1777122000-1777165200@yourkeyconcierge.com
SUMMARY:SINNER presents Kristijan Molnar
DESCRIPTION:SINNER returns for a special edition featuring Kristijan Molnar on April 25\, 2026 at Vagalume Tulum.\n📅 April 25\, 2026\n⏰ 1:00 PM – 1:00 AM\n📍 Tulum\, Mexico\n🔞 18+\nIn its fifth season\, SINNER is one of Tulum’s leading boutique electronic music events\, blending underground sound\, immersive atmosphere\, and elevated beach club energy.\nLine Up:\nKristijan Molnar\nVITE + Miganova\nRENÊ\n🎟 Tickets available (Early Bird to Final Release)\n🍾 VIP tables with bottle service available\n👗 Dress Code: All Black / Sexy Attire\nReserve early for one of the top Saturday electronic parties in Tulum.
URL:https://yourkeyconcierge.com/event/sinner-presents-kristijan-molnar/
LOCATION:Vagalume Tulum Beach Club – Day & Night Experience\, Tulum\, Mexico
ATTACH;FMTTYPE=image/jpeg:https://yourkeyconcierge.com/wp-content/uploads/2026/02/db_file_img_139203_1200xauto.jpg
END:VEVENT
BEGIN:VEVENT
DTSTART;TZID=America/Cancun:20260425T180000
DTEND;TZID=America/Cancun:20260426T143000
DTSTAMP:20260419T121404
CREATED:20260225T182225Z
LAST-MODIFIED:20260225T182225Z
UID:5232-1777140000-1777213800@yourkeyconcierge.com
SUMMARY:PPP Saturday Celebration
DESCRIPTION:PPP Saturday Celebration – Under The Sky Full of Stars returns on April 25\, 2026 at Papaya Playa Project.\n📅 April 25\, 2026\n⏰ Doors Open: 6:00 PM | Last Entry: 12:50 AM\n📍 Tulum\, Mexico\n🔞 18+\nExperience one of Tulum’s most iconic beachfront Saturday events. Dance barefoot under the stars on the Caribbean sand\, surrounded by palm trees\, ocean breeze\, immersive art\, and a curated music journey.\nTicket Options:\n• General Admission (music journey + welcome drink)\n• Event Access + Mayan Dinner Experience (7 PM or 9 PM seating)\n• VIP Tables with bottle service & culinary experience\n✨ Mayan dinner available\n✨ Room packages for a full weekend escape\n✨ Signature cocktails & curated wines\nLimited capacity. Advance booking recommended.
URL:https://yourkeyconcierge.com/event/ppp-saturday-celebration/
LOCATION:Papaya Playa Project
ATTACH;FMTTYPE=image/png:https://yourkeyconcierge.com/wp-content/uploads/2026/02/Captura-de-pantalla-2026-02-25-a-las-12.52.01-p.m.png
END:VEVENT
BEGIN:VEVENT
DTSTART;TZID=America/Cancun:20260502T130000
DTEND;TZID=America/Cancun:20260503T010000
DTSTAMP:20260419T121404
CREATED:20260225T182431Z
LAST-MODIFIED:20260225T182431Z
UID:5234-1777726800-1777770000@yourkeyconcierge.com
SUMMARY:Closing Season Party by The Edge (BR)
DESCRIPTION:The Closing Season Party by The Edge (BR) takes over Vagalume Tulum on May 2\, 2026 for one of the most anticipated electronic music events in Tulum.\n📅 May 2\, 2026\n⏰ 1:00 PM – 1:00 AM\n📍 Tulum\, Mexico\n🔞 18+\nA special SINNER edition closing the season with cutting-edge sound\, immersive beach club energy\, and elevated production.\nLine Up:\nRenato Ratier\nVITE + Miganova\nMIUL\n🎟 Tickets available (Early Bird to Final Release)\n🍾 VIP tables with bottle service available\n👗 Dress Code: All Black / Sexy Attire\nReserve early for one of the top Saturday parties in Tulum.
URL:https://yourkeyconcierge.com/event/closing-season-party-by-the-edge-br/
LOCATION:Vagalume Tulum Beach Club – Day & Night Experience\, Tulum\, Mexico
ATTACH;FMTTYPE=image/jpeg:https://yourkeyconcierge.com/wp-content/uploads/2026/02/db_file_img_139203_1200xauto.jpg
END:VEVENT
BEGIN:VEVENT
DTSTART;TZID=America/Cancun:20260507T190000
DTEND;TZID=America/Cancun:20260508T010000
DTSTAMP:20260419T121404
CREATED:20260225T182603Z
LAST-MODIFIED:20260225T182603Z
UID:5236-1778180400-1778202000@yourkeyconcierge.com
SUMMARY:Pendulum by Steve Lawler
DESCRIPTION:Pendulum returns to Vagalume Tulum on May 7\, 2026\, for a special edition led by Steve Lawler.\n📅 May 7\, 2026\n⏰ 7:00 PM – 1:00 AM\n📍 Tulum\, Mexico\n🔞 18+\nExperience one of Tulum’s premier underground electronic music nights as Steve Lawler brings his signature deep\, tribal grooves and hypnotic rhythms to the jungle setting of Vagalume.\nLine Up:\nSteve Lawler\nJesse Zotti\n🎟 Tickets available (Early Bird to Final Release)\n🍾 VIP tables with bottle service available\n👗 Dress Code: Tulum Style\nLimited capacity. Secure your tickets early for this exclusive electronic music event in Tulum.
URL:https://yourkeyconcierge.com/event/pendulum-by-steve-lawler/
LOCATION:Vagalume Tulum Beach Club – Day & Night Experience\, Tulum\, Mexico
ATTACH;FMTTYPE=image/png:https://yourkeyconcierge.com/wp-content/uploads/2026/02/Captura-de-pantalla-2026-02-25-a-las-12.49.37-p.m.png
END:VEVENT
END:VCALENDAR