BEGIN:VCALENDAR
VERSION:2.0
PRODID:-// - ECPv6.15.12.2//NONSGML v1.0//EN
CALSCALE:GREGORIAN
METHOD:PUBLISH
X-ORIGINAL-URL:https://yourkeyconcierge.com
X-WR-CALDESC:Events for 
REFRESH-INTERVAL;VALUE=DURATION:PT1H
X-Robots-Tag:noindex
X-PUBLISHED-TTL:PT1H
BEGIN:VTIMEZONE
TZID:America/Cancun
BEGIN:STANDARD
TZOFFSETFROM:-0500
TZOFFSETTO:-0500
TZNAME:EST
DTSTART:20250101T000000
END:STANDARD
END:VTIMEZONE
BEGIN:VEVENT
DTSTART;TZID=America/Cancun:20260418T130000
DTEND;TZID=America/Cancun:20260419T010000
DTSTAMP:20260419T101014
CREATED:20260225T181545Z
LAST-MODIFIED:20260225T181545Z
UID:5224-1776517200-1776560400@yourkeyconcierge.com
SUMMARY:SINNER presents Dino Lenny
DESCRIPTION:SINNER returns for its fifth season with a special edition featuring Dino Lenny at Vagalume Tulum.\n📅 April 18\, 2026\n⏰ 1:00 PM – 1:00 AM\n📍 Tulum\, Mexico\n🔞 18+\nCreated by VITE and Miganova\, SINNER is one of the top boutique electronic music events in Tulum\, blending cutting-edge sound\, immersive atmosphere\, and elevated beach club energy.\nLine Up:\nDino Lenny\nVITE + Miganova\nMIUL\n🎟 Tickets available (Early Bird to Final Release)\n🍾 VIP tables with bottle service available\n👗 Dress Code: All Black / Sexy Attire\nReserve in advance for the full SINNER experience at Vagalume.
URL:https://yourkeyconcierge.com/event/sinner-presents-dino-lenny/
LOCATION:Vagalume Tulum Beach Club – Day & Night Experience\, Tulum\, Mexico
ATTACH;FMTTYPE=image/jpeg:https://yourkeyconcierge.com/wp-content/uploads/2026/02/db_file_img_139203_1200xauto.jpg
END:VEVENT
BEGIN:VEVENT
DTSTART;TZID=America/Cancun:20260418T180000
DTEND;TZID=America/Cancun:20260419T020000
DTSTAMP:20260419T101014
CREATED:20260225T181723Z
LAST-MODIFIED:20260225T181723Z
UID:5226-1776535200-1776564000@yourkeyconcierge.com
SUMMARY:PPP Presents The New Moon
DESCRIPTION:PPP Presents The New Moon returns on April 18\, 2026 at Papaya Playa Project\, one of Tulum’s most iconic beachfront venues.\n📅 April 18\, 2026\n⏰ Doors Open: 6:00 PM | Last Entry: 12:50 AM\n📍 Tulum\, Mexico\n🔞 18+\nCelebrate under the New Moon with an immersive beachfront music journey featuring live performances\, art experiences\, and a conscious global community. Dance barefoot on the Caribbean sand surrounded by palm trees\, ocean breeze\, and signature PPP energy.\nTicket Options:\n• General Admission (music journey + welcome drink)\n• Event Access + Mayan Dinner Experience (7 PM or 9 PM seating)\n• VIP Tables with bottle service & culinary experience
URL:https://yourkeyconcierge.com/event/ppp-presents-the-new-moon/
LOCATION:Papaya Playa Project
ATTACH;FMTTYPE=image/png:https://yourkeyconcierge.com/wp-content/uploads/2026/02/Captura-de-pantalla-2026-02-25-a-las-12.51.26-p.m.png
END:VEVENT
END:VCALENDAR