BEGIN:VCALENDAR
VERSION:2.0
PRODID:-// - ECPv6.15.12.2//NONSGML v1.0//EN
CALSCALE:GREGORIAN
METHOD:PUBLISH
X-ORIGINAL-URL:https://yourkeyconcierge.com
X-WR-CALDESC:Events for 
REFRESH-INTERVAL;VALUE=DURATION:PT1H
X-Robots-Tag:noindex
X-PUBLISHED-TTL:PT1H
BEGIN:VTIMEZONE
TZID:America/Cancun
BEGIN:STANDARD
TZOFFSETFROM:-0500
TZOFFSETTO:-0500
TZNAME:EST
DTSTART:20250101T000000
END:STANDARD
END:VTIMEZONE
BEGIN:VEVENT
DTSTART;TZID=America/Cancun:20260327T190000
DTEND;TZID=America/Cancun:20260328T010000
DTSTAMP:20260419T133810
CREATED:20260225T175804Z
LAST-MODIFIED:20260225T175804Z
UID:5208-1774638000-1774659600@yourkeyconcierge.com
SUMMARY:NIDO TULUM MÉXICO
DESCRIPTION:NIDO Tulum México arrives at Vagalume Tulum on March 27\, 2026 (7PM–1AM). Born in Ibiza\, this iconic electronic music ritual brings its signature day-to-night energy to Tulum.\nLineup: Igor Marijuan\, Bodaishin\, Sorä\nTickets: Early Bird $605 MXN · First Release $880 MXN · Second Release $1\,210 MXN · Final Release $1\,540 MXN\nVIP Tables & Bottle Service Available\nDress Code: Tulum Style\n18+ Event\nSecure your tickets and experience one of the most anticipated electronic events in Tulum 2026.
URL:https://yourkeyconcierge.com/event/nido-tulum-mexico/
LOCATION:Vagalume Tulum Beach Club – Day & Night Experience\, Tulum\, Mexico
ATTACH;FMTTYPE=image/jpeg:https://yourkeyconcierge.com/wp-content/uploads/2026/02/db_file_img_139134_1200xauto.jpg
END:VEVENT
BEGIN:VEVENT
DTSTART;TZID=America/Cancun:20260327T220000
DTEND;TZID=America/Cancun:20260328T033000
DTSTAMP:20260419T133810
CREATED:20260302T184028Z
LAST-MODIFIED:20260302T184028Z
UID:5263-1774648800-1774668600@yourkeyconcierge.com
SUMMARY:Cuevas at Bonbonniere Tulum
DESCRIPTION:Join Cuevas live at Bonbonniere Tulum on Friday\, March 27\, 2026\, starting at 10 PM till late. Experience elevated Friday nightlife in Tulum with premium music\, an upscale crowd\, and an exclusive party atmosphere.\n🎟 Tickets: Early Bird\, Tier 1 & Tier 2 available\n🥂 VIP Tables: Silver\, Gold\, Diamond & Backstage packages\n🔞 Ages 18+\n👔 Dress Code: Formal attire strictly enforced (no swimsuits\, caps\, sandals\, or sport shorts)\nReserve your tickets or VIP table early and secure your place at one of Tulum’s most anticipated Friday night events.
URL:https://yourkeyconcierge.com/event/cuevas-at-bonbonniere-tulum/
LOCATION:Bonbonniere Tulum\, Carretera Estatal Tulum–Boca Paila\, Parcela 1744-A\, Tulum\, Quintana Roo\, 777760\, Mexico
ATTACH;FMTTYPE=image/jpeg:https://yourkeyconcierge.com/wp-content/uploads/2026/03/db_file_img_139610_1200xauto.jpg
END:VEVENT
BEGIN:VEVENT
DTSTART;TZID=America/Cancun:20260328T130000
DTEND;TZID=America/Cancun:20260329T010000
DTSTAMP:20260419T133810
CREATED:20260225T175947Z
LAST-MODIFIED:20260225T175947Z
UID:5210-1774702800-1774746000@yourkeyconcierge.com
SUMMARY:SINNER presents NICK WARREN
DESCRIPTION:SINNER presents Nick Warren live at Vagalume Tulum on March 28\, 2026 (1PM–1AM).\nNow in its fifth season\, SINNER takes over Saturdays in Tulum with its signature boutique energy — where music\, aesthetics\, and atmosphere merge into an unforgettable beach club experience.\nLineup:\nNick Warren · VITE · Miganova · Marwan · RENÊ b2b MIUL\nTickets:\nEarly Bird $605 MXN · First Release $880 MXN · Second Release $1\,210 MXN · Final Release $1\,540 MXN\nDress Code: All Black / Sexy Attire\nVIP Tables & Bottle Service Available\n18+ Event\nReserve your tickets or table and experience one of the most exclusive electronic music events in Tulum 2026.
URL:https://yourkeyconcierge.com/event/sinner-presents-nick-warren/
LOCATION:Vagalume Tulum Beach Club – Day & Night Experience\, Tulum\, Mexico
ATTACH;FMTTYPE=image/jpeg:https://yourkeyconcierge.com/wp-content/uploads/2026/02/db_file_img_139203_1200xauto.jpg
END:VEVENT
BEGIN:VEVENT
DTSTART;TZID=America/Cancun:20260328T180000
DTEND;TZID=America/Cancun:20260329T010000
DTSTAMP:20260419T133810
CREATED:20260225T180145Z
LAST-MODIFIED:20260225T180145Z
UID:5212-1774720800-1774746000@yourkeyconcierge.com
SUMMARY:PPP Saturday Celebration with Anja Schnejder
DESCRIPTION:PPP Saturday Celebration lands at Papaya Playa Project on March 28\, 2026. Dance barefoot by the Caribbean Sea as Anja Schnejder delivers warm grooves\, deep rhythms\, and melodic energy in one of Tulum’s most iconic beachfront venues.\nDoors Open: 6:00 PM\nLast Entry: 12:50 AM\n18+ Event\n🎟 Ticket Options\nGeneral Admission (from $2\,090 MXN)\nEvent + Mayan Dinner Experience\nVIP Tables with Bottle Service\nJungle & Oceanview Room Packages\nPrivate Beachfront Villa Packages\nEnhance your night with immersive art\, signature cocktails\, curated wines\, and the exclusive Mayan Dinner Experience.\nCapacity is limited to preserve the intimate beachfront atmosphere — secure your tickets or accommodation package early.
URL:https://yourkeyconcierge.com/event/ppp-saturday-celebration-with-anja-schnejder/
LOCATION:Papaya Playa Project
ATTACH;FMTTYPE=image/png:https://yourkeyconcierge.com/wp-content/uploads/2026/02/Captura-de-pantalla-2026-02-25-a-las-12.50.09-p.m.png
END:VEVENT
BEGIN:VEVENT
DTSTART;TZID=America/Cancun:20260328T220000
DTEND;TZID=America/Cancun:20260329T033000
DTSTAMP:20260419T133810
CREATED:20260302T184309Z
LAST-MODIFIED:20260302T184309Z
UID:5265-1774735200-1774755000@yourkeyconcierge.com
SUMMARY:Cuevas at Bonbonniere Tulum
DESCRIPTION:Experience Cuevas live at Bonbonniere Tulum on Saturday\, March 28\, 2026\, from 10 PM till late. Celebrate Saturday night in one of Tulum’s most exclusive nightlife venues with premium music\, upscale ambiance\, and an unforgettable party experience.\n🎟 Tickets: Early Bird\, Tier 1 & Tier 2 available\n🥂 VIP Table Reservations: Silver\, Gold\, Diamond & Backstage packages\n🔞 Ages 18+\n👔 Dress Code: Formal attire strictly enforced (no swimsuits\, caps\, sandals\, or sport shorts)\nSecure your tickets or VIP table early and elevate your weekend nightlife in Tulum.
URL:https://yourkeyconcierge.com/event/cuevas-at-bonbonniere-tulum-3/
LOCATION:Bonbonniere Tulum\, Carretera Estatal Tulum–Boca Paila\, Parcela 1744-A\, Tulum\, Quintana Roo\, 777760\, Mexico
ATTACH;FMTTYPE=image/jpeg:https://yourkeyconcierge.com/wp-content/uploads/2026/03/db_file_img_139612_1200xauto.jpg
END:VEVENT
END:VCALENDAR