BEGIN:VCALENDAR
VERSION:2.0
PRODID:-// - ECPv6.15.12.2//NONSGML v1.0//EN
CALSCALE:GREGORIAN
METHOD:PUBLISH
X-ORIGINAL-URL:https://yourkeyconcierge.com
X-WR-CALDESC:Events for 
REFRESH-INTERVAL;VALUE=DURATION:PT1H
X-Robots-Tag:noindex
X-PUBLISHED-TTL:PT1H
BEGIN:VTIMEZONE
TZID:America/Cancun
BEGIN:STANDARD
TZOFFSETFROM:-0500
TZOFFSETTO:-0500
TZNAME:EST
DTSTART:20250101T000000
END:STANDARD
END:VTIMEZONE
BEGIN:VEVENT
DTSTART;TZID=America/Cancun:20260313T190000
DTEND;TZID=America/Cancun:20260314T010000
DTSTAMP:20260419T120837
CREATED:20260225T173040Z
LAST-MODIFIED:20260225T173040Z
UID:5167-1773428400-1773450000@yourkeyconcierge.com
SUMMARY:NIDO Tulum México 2026 – From Ibiza to Tulum
DESCRIPTION:NIDO Tulum México arrives at Vagalume Tulum on Friday\, March 13\, 2026\, from 7:00 PM to 1:00 AM (18+).\nBorn in Ibiza\, NIDO is more than a party — it’s a ritual of music\, connection\, and energy. After becoming a Sunday reference in Ibiza\, this iconic concept lands in Tulum for a special March 2026 residency\, bringing its signature day & night spirit to the Riviera Maya.\n🎧 Lineup\nIgor Marijuan\nAlfonso Ares\nOn The Fritz (TDA)\n🎟 Tickets\nEarly Bird: $605 MXN\nFirst Release: $880 MXN\nSecond Release: $1\,210 MXN\nFinal Release: $1\,540 MXN\n🍾 VIP Tables & Bottle Service\nPremium table packages available.
URL:https://yourkeyconcierge.com/event/nido-tulum-mexico-2026-from-ibiza-to-tulum/
LOCATION:Vagalume Tulum Beach Club – Day & Night Experience\, Tulum\, Mexico
ATTACH;FMTTYPE=image/png:https://yourkeyconcierge.com/wp-content/uploads/2026/02/Captura-de-pantalla-2026-02-25-a-las-12.25.34-p.m.png
END:VEVENT
BEGIN:VEVENT
DTSTART;TZID=America/Cancun:20260313T220000
DTEND;TZID=America/Cancun:20260314T030000
DTSTAMP:20260419T120837
CREATED:20260225T173245Z
LAST-MODIFIED:20260225T173627Z
UID:5178-1773439200-1773457200@yourkeyconcierge.com
SUMMARY:Anto Zagu at Bonbonniere
DESCRIPTION:Experience an unforgettable night with Anto Zagu at Bonbonniere Tulum on Friday\, March 13\, 2026\, starting at 10:00 PM till late (18+).\nStep into one of Tulum’s most exclusive nightlife destinations for a high-energy electronic music experience in an elegant\, upscale atmosphere.\n🎟 Tickets\nEarly Bird: $500 MXN (plus fees)\nTier 1: $800 MXN (plus fees)\nTier 2: $1\,000 MXN (plus fees)\n🍾 VIP Table Packages\nBackstage: $115\,000 MXN\nDiamond: $69\,000 MXN\nPlatinum: $46\,000 MXN\nGold: $34\,500 MXN\nSilver: $23\,000 MXN\nPremium table experiences include priority access and exclusive service.\n👔 Dress Code (Strictly Enforced)\nFormal attire required.\nNo swimwear\, caps\, sandals\, or sports shorts.\nManagement reserves the right to refuse entry.\nSecure your tickets early and elevate your Friday night in Tulum.
URL:https://yourkeyconcierge.com/event/anto-zagu-at-bonbonniere/
LOCATION:Bonbonniere Tulum\, Carretera Estatal Tulum–Boca Paila\, Parcela 1744-A\, Tulum\, Quintana Roo\, 777760\, Mexico
ATTACH;FMTTYPE=image/png:https://yourkeyconcierge.com/wp-content/uploads/2026/02/Captura-de-pantalla-2026-02-25-a-las-12.26.22-p.m.png
END:VEVENT
BEGIN:VEVENT
DTSTART;TZID=America/Cancun:20260314T180000
DTEND;TZID=America/Cancun:20260315T033000
DTSTAMP:20260419T120837
CREATED:20260225T173945Z
LAST-MODIFIED:20260225T173945Z
UID:5183-1773511200-1773545400@yourkeyconcierge.com
SUMMARY:PPP Presents The New Moon 2026 @ISOLA DI MORTORIO
DESCRIPTION:PPP Presents The New Moon returns to Papaya Playa Project on March 14\, 2026 for a beachfront Music Journey under the stars.\nHeadlined by Isola Di Mortorio\, this New Moon celebration blends electronic music\, immersive art\, ocean energy\, and conscious connection in one of Tulum’s most iconic venues.\nDance barefoot on the Caribbean sand\, elevate your evening with the optional Mayan Dinner Experience\, or upgrade to exclusive room and villa packages for a full weekend escape.\nCapacity is limited to preserve the intimacy of the experience. Secure your tickets early.
URL:https://yourkeyconcierge.com/event/ppp-presents-the-new-moon-2026-isola-di-mortorio/
LOCATION:Papaya Playa Project
ATTACH;FMTTYPE=image/png:https://yourkeyconcierge.com/wp-content/uploads/2026/02/Captura-de-pantalla-2026-02-25-a-las-12.26.44-p.m.png
END:VEVENT
BEGIN:VEVENT
DTSTART;TZID=America/Cancun:20260314T190000
DTEND;TZID=America/Cancun:20260315T010000
DTSTAMP:20260419T120837
CREATED:20260225T173523Z
LAST-MODIFIED:20260225T173523Z
UID:5180-1773514800-1773536400@yourkeyconcierge.com
SUMMARY:Sinner Presents Dissonanza at Vagalume
DESCRIPTION:Sinner Presents Dissonanza takes over Vagalume Tulum on Saturday\, March 14\, 2026\, from 1:00 PM to 1:00 AM (18+).\nNow in its fifth season\, Sinner is one of Tulum’s most seductive boutique party experiences. Created by DJs and producers VITE & Miganova\, this immersive event blends music\, aesthetics\, and atmosphere into an unforgettable day-to-night journey.\nHeld every Saturday at Vagalume — Tulum’s most iconic beach club — Dissonanza invites you to surrender to sound\, energy\, and connection.\n🎧 Lineup\nCipy\nAuggië\nMouth Water\nVITE + Miganova\nMIUL\n🎟 Tickets\nEarly Bird: $605 MXN\nFirst Release: $880 MXN\nSecond Release: $1\,210 MXN\nFinal Release: $1\,540 MXN\n🍾 VIP Tables & Bottle Service\nGreen Table: $49\,680 MXN\nGrey Table: $24\,840 MXN\nWhite Table: $18\,630 MXN\nDinner Table: $7\,590 MXN \n👗 Dress Code: All Black / Sexy Attire
URL:https://yourkeyconcierge.com/event/sinner-presents-dissonanza-at-vagalume/
LOCATION:Vagalume Tulum Beach Club – Day & Night Experience\, Tulum\, Mexico
ATTACH;FMTTYPE=image/jpeg:https://yourkeyconcierge.com/wp-content/uploads/2026/02/db_file_img_138730_1200xauto.jpg
END:VEVENT
BEGIN:VEVENT
DTSTART;TZID=America/Cancun:20260314T220000
DTEND;TZID=America/Cancun:20260315T030000
DTSTAMP:20260419T120837
CREATED:20260225T174120Z
LAST-MODIFIED:20260225T174120Z
UID:5185-1773525600-1773543600@yourkeyconcierge.com
SUMMARY:Cuevas at Bonbonniere Tulum
DESCRIPTION:Cuevas takes over Bonbonniere Tulum on Saturday\, March 14\, 2026\, starting at 10:00 PM till late (18+).\nExperience an upscale electronic music night at one of Tulum’s most exclusive nightlife venues. Choose from General Admission tickets or elevate your evening with premium VIP table packages\, including Backstage and luxury bottle service options.\nDress Code: Formal (strictly enforced).\nNo swimwear\, caps\, sandals\, or sports shorts allowed.\nSecure your tickets early for one of Tulum’s most anticipated Saturday night events.
URL:https://yourkeyconcierge.com/event/cuevas-at-bonbonniere-tulum-2/
LOCATION:Bonbonniere Tulum\, Carretera Estatal Tulum–Boca Paila\, Parcela 1744-A\, Tulum\, Quintana Roo\, 777760\, Mexico
ATTACH;FMTTYPE=image/jpeg:https://yourkeyconcierge.com/wp-content/uploads/2026/02/db_file_img_139345_1200xauto.jpg
END:VEVENT
END:VCALENDAR