BEGIN:VCALENDAR
VERSION:2.0
PRODID:-// - ECPv6.15.12.2//NONSGML v1.0//EN
CALSCALE:GREGORIAN
METHOD:PUBLISH
X-ORIGINAL-URL:https://yourkeyconcierge.com
X-WR-CALDESC:Events for 
REFRESH-INTERVAL;VALUE=DURATION:PT1H
X-Robots-Tag:noindex
X-PUBLISHED-TTL:PT1H
BEGIN:VTIMEZONE
TZID:America/Cancun
BEGIN:STANDARD
TZOFFSETFROM:-0500
TZOFFSETTO:-0500
TZNAME:EST
DTSTART:20250101T000000
END:STANDARD
END:VTIMEZONE
BEGIN:VEVENT
DTSTART;TZID=America/Cancun:20260312T190000
DTEND;TZID=America/Cancun:20260313T010000
DTSTAMP:20260419T123925
CREATED:20260225T172434Z
LAST-MODIFIED:20260225T172434Z
UID:5165-1773342000-1773363600@yourkeyconcierge.com
SUMMARY:Summerians by Kintar at Vagalume Tulum
DESCRIPTION:Vagalume presents Summerians\, the immersive Afro Melodic & Ethnic House journey curated by Kintar\, closing its fifth jungle season on Thursday\, March 12th\, 2026\, at Vagalume Tulum.\nRunning from 7:00 PM to 1:00 AM\, this final gathering of the season blends ancestral instruments\, tribal rhythms\, and cutting-edge electronic sound design in a transformative beachfront setting.\nLineup includes Kintar\, Dante T\, and Negrinm.\nDress code: Tulum Style.\nVIP tables with bottle service are available. Dinner tables are sold out.
URL:https://yourkeyconcierge.com/event/summerians-by-kintar-at-vagalume-tulum-4/
LOCATION:Vagalume Tulum Beach Club – Day & Night Experience\, Tulum\, Mexico
ATTACH;FMTTYPE=image/jpeg:https://yourkeyconcierge.com/wp-content/uploads/2026/02/db_file_img_139071_1200xauto.jpg
END:VEVENT
BEGIN:VEVENT
DTSTART;TZID=America/Cancun:20260312T220000
DTEND;TZID=America/Cancun:20260313T040000
DTSTAMP:20260419T123925
CREATED:20260302T183051Z
LAST-MODIFIED:20260302T183051Z
UID:5254-1773352800-1773374400@yourkeyconcierge.com
SUMMARY:MJULA at Bonbonniere Tulum
DESCRIPTION:Experience MJULA live at Bonbonniere Tulum on Thursday\, March 12\, 2026\, from 10 PM till late. Discover one of Tulum’s premier nightlife destinations for a night of cutting-edge music\, luxury ambiance\, and unforgettable vibes.\n🎟 Tickets: Early Bird\, Tier 1 & Tier 2 available\n🥂 VIP Tables: Silver\, Gold\, Diamond & Backstage packages\n🔞 Ages 18+\n👔 Dress Code: Formal attire strictly enforced (no swimsuits\, caps\, sandals\, or sport shorts)\nReserve your tickets or VIP table early and be part of an exclusive Thursday night experience in Tulum.
URL:https://yourkeyconcierge.com/event/mjula-at-bonbonniere-tulum/
LOCATION:Bonbonniere Tulum\, Carretera Estatal Tulum–Boca Paila\, Parcela 1744-A\, Tulum\, Quintana Roo\, 777760\, Mexico
ATTACH;FMTTYPE=image/jpeg:https://yourkeyconcierge.com/wp-content/uploads/2026/03/db_file_img_139721_1200xauto.jpg
END:VEVENT
END:VCALENDAR