BEGIN:VCALENDAR
VERSION:2.0
PRODID:-// - ECPv6.15.12.2//NONSGML v1.0//EN
CALSCALE:GREGORIAN
METHOD:PUBLISH
X-ORIGINAL-URL:https://yourkeyconcierge.com
X-WR-CALDESC:Events for 
REFRESH-INTERVAL;VALUE=DURATION:PT1H
X-Robots-Tag:noindex
X-PUBLISHED-TTL:PT1H
BEGIN:VTIMEZONE
TZID:America/Cancun
BEGIN:STANDARD
TZOFFSETFROM:-0500
TZOFFSETTO:-0500
TZNAME:EST
DTSTART:20250101T000000
END:STANDARD
END:VTIMEZONE
BEGIN:VEVENT
DTSTART;TZID=America/Cancun:20260306T190000
DTEND;TZID=America/Cancun:20260307T010000
DTSTAMP:20260419T120641
CREATED:20260225T170929Z
LAST-MODIFIED:20260225T171236Z
UID:5150-1772823600-1772845200@yourkeyconcierge.com
SUMMARY:NIDO Tulum México at Vagalume Tulum
DESCRIPTION:Vagalume presents NIDO\, the iconic Ibiza-born Sunday ritual\, arriving in Tulum on Friday\, March 6th\, 2026\, at Vagalume Tulum.\nOriginally created in Ibiza with day sessions at Las Dalias Garden and night gatherings inside Akasha Club\, NIDO is more than a party — it’s a community-driven musical journey designed to close the week in connection and style. In March 2026\, it opens a new nest in Tulum\, bringing its signature day-to-night spirit to the Caribbean coast.\nFrom 7:00 PM to 1:00 AM\, experience a curated electronic lineup featuring Igor Marijuan\, Dee Montero\, and Elle J.\nDress code: Tulum Style.\nVIP tables with bottle service and dinner tables are available.
URL:https://yourkeyconcierge.com/event/nido-tulum-mexico-at-vagalume-tulum/
LOCATION:Vagalume Tulum Beach Club – Day & Night Experience\, Tulum\, Mexico
ATTACH;FMTTYPE=image/png:https://yourkeyconcierge.com/wp-content/uploads/2026/02/Captura-de-pantalla-2026-02-25-a-las-12.07.19-p.m.png
END:VEVENT
BEGIN:VEVENT
DTSTART;TZID=America/Cancun:20260306T220000
DTEND;TZID=America/Cancun:20260307T040000
DTSTAMP:20260419T120641
CREATED:20260302T182456Z
LAST-MODIFIED:20260302T182456Z
UID:5249-1772834400-1772856000@yourkeyconcierge.com
SUMMARY:OSARO | BONBONNIERE TULUM
DESCRIPTION:OSARO Live at Bonbonniere Tulum – March 6\, 2026 | Tickets & VIP Tables\nShort\, Polished\, UX-Optimized Description:\nExperience OSARO live at Bonbonniere Tulum on Friday\, March 6\, 2026\, from 10 PM till late. Step into one of Tulum’s most exclusive nightlife destinations for a high-energy night of music\, luxury\, and unforgettable atmosphere.\n🎟 Tickets: Early Bird\, Tier 1 & Tier 2 available\n🥂 VIP Tables: Silver\, Gold\, Diamond & Backstage packages\n🔞 Ages 18+\n👔 Dress Code: Formal attire strictly enforced (no swimsuits\, caps\, sandals\, or sport shorts)\nReserve your tickets or VIP table early and secure your place at one of Tulum’s premier nightlife events.
URL:https://yourkeyconcierge.com/event/osaro-bonbonniere-tulum/
LOCATION:Bonbonniere Tulum\, Carretera Estatal Tulum–Boca Paila\, Parcela 1744-A\, Tulum\, Quintana Roo\, 777760\, Mexico
ATTACH;FMTTYPE=image/jpeg:https://yourkeyconcierge.com/wp-content/uploads/2026/03/db_file_img_139719_1200xauto.jpg
END:VEVENT
BEGIN:VEVENT
DTSTART;TZID=America/Cancun:20260307T130000
DTEND;TZID=America/Cancun:20260308T010000
DTSTAMP:20260419T120641
CREATED:20260225T171121Z
LAST-MODIFIED:20260302T182612Z
UID:5154-1772888400-1772931600@yourkeyconcierge.com
SUMMARY:Sinner presents Colossio B2B Game at Vagalume Tulum
DESCRIPTION:Sinner returns for its fifth season at Vagalume Tulum on Saturday\, March 7th\, 2026\, delivering its signature seductive day-to-night ritual by the Caribbean Sea.\nThis special edition features Colossio B2B Game\, alongside VITE + Miganova\, Antares\, and Renê.\nFrom 1:00 PM to 1:00 AM\, expect a seamless journey of cutting-edge electronic music\, immersive aesthetics\, and beachfront energy.\nDress code: All Black / Sexy Attire.\nVIP tables with bottle service available.
URL:https://yourkeyconcierge.com/event/sinner-presents-colossio-b2b-game-at-vagalume-tulum/
LOCATION:Vagalume Tulum Beach Club – Day & Night Experience\, Tulum\, Mexico
ATTACH;FMTTYPE=image/jpeg:https://yourkeyconcierge.com/wp-content/uploads/2026/02/69a0ece0e69c38.54911384.jpg
END:VEVENT
BEGIN:VEVENT
DTSTART;TZID=America/Cancun:20260307T180000
DTEND;TZID=America/Cancun:20260308T030000
DTSTAMP:20260419T120641
CREATED:20260123T174639Z
LAST-MODIFIED:20260225T171421Z
UID:5014-1772906400-1772938800@yourkeyconcierge.com
SUMMARY:PPP Presents: The Full Moon – Music Journey with Musumeci
DESCRIPTION:The Full Moon Music Journey returns to Papaya Playa Project\, Tulum on Saturday\, February 7\, 2026\, featuring Musumeci\, Lehar\, and Denis Horvat.\nFrom 6:00 PM to 12:50 AM\, immerse yourself in a celestial night of music\, immersive art\, and moonlit energy by the sea. Let the rhythm\, stars\, and Full Moon guide a shared celebration of sound and connection.\nEnhance your experience with Mayan dinner options\, VIP tables\, or curated culinary pairings. Tickets are limited. \n📍 Venue: Papaya Playa Project\, Tulum\n📅 Date: Saturday\, February 7\, 2026\n⏰ Doors Open: 6:00 PM | Last Entry: 12:50 AM\n🔞 Age: 18+\n🎶 Lineup: Musumeci · Lehar · Denis Horvat\n🍽️ Options: Mayan dinner experiences & VIP tables
URL:https://yourkeyconcierge.com/event/ppp-presents-the-full-moon-music-journey-with-musumeci/
LOCATION:Papaya Playa Project
ATTACH;FMTTYPE=image/png:https://yourkeyconcierge.com/wp-content/uploads/2026/01/Captura-de-pantalla-2026-02-25-a-las-12.11.41-p.m.png
END:VEVENT
BEGIN:VEVENT
DTSTART;TZID=America/Cancun:20260307T220000
DTEND;TZID=America/Cancun:20260308T043000
DTSTAMP:20260419T120641
CREATED:20260302T182855Z
LAST-MODIFIED:20260302T182855Z
UID:5252-1772920800-1772944200@yourkeyconcierge.com
SUMMARY:Ruben Alegre Live at Bonbonniere Tulum
DESCRIPTION:Join Ruben Alegre live at Bonbonniere Tulum on Saturday\, March 7\, 2026\, starting at 10 PM till late. Experience a premium nightlife event in the heart of Tulum\, featuring high-energy music\, an exclusive crowd\, and an upscale atmosphere.\n🎟 Tickets: Early Bird\, Tier 1 & Tier 2 available\n🥂 VIP Table Reservations: Silver\, Gold\, Diamond & Backstage packages\n🔞 Ages 18+\n👔 Dress Code: Formal attire strictly enforced (no swimsuits\, caps\, sandals\, or sport shorts)\nSecure your tickets or reserve a VIP table early for one of Tulum’s most anticipated Saturday night events.
URL:https://yourkeyconcierge.com/event/ruben-alegre-live-at-bonbonniere-tulum/
LOCATION:Bonbonniere Tulum\, Carretera Estatal Tulum–Boca Paila\, Parcela 1744-A\, Tulum\, Quintana Roo\, 777760\, Mexico
ATTACH;FMTTYPE=image/jpeg:https://yourkeyconcierge.com/wp-content/uploads/2026/03/db_file_img_139722_1200xauto.jpg
END:VEVENT
END:VCALENDAR