BEGIN:VCALENDAR
VERSION:2.0
PRODID:-// - ECPv6.15.12.2//NONSGML v1.0//EN
CALSCALE:GREGORIAN
METHOD:PUBLISH
X-ORIGINAL-URL:https://yourkeyconcierge.com
X-WR-CALDESC:Events for 
REFRESH-INTERVAL;VALUE=DURATION:PT1H
X-Robots-Tag:noindex
X-PUBLISHED-TTL:PT1H
BEGIN:VTIMEZONE
TZID:America/Cancun
BEGIN:STANDARD
TZOFFSETFROM:-0500
TZOFFSETTO:-0500
TZNAME:EST
DTSTART:20250101T000000
END:STANDARD
END:VTIMEZONE
BEGIN:VEVENT
DTSTART;TZID=America/Cancun:20260225T190000
DTEND;TZID=America/Cancun:20260226T010000
DTSTAMP:20260419T120518
CREATED:20260123T190550Z
LAST-MODIFIED:20260123T190550Z
UID:5053-1772046000-1772067600@yourkeyconcierge.com
SUMMARY:DOMINIK at Vagalume Tulum | Jungle Electronic Experience
DESCRIPTION:DOMINIK returns to Vagalume Tulum on Wednesday\, February 25th\, 2026\, offering a deep\, sensory-driven electronic journey rooted in connection and presence. Born in Tulum\, Dominik blends organic jungle textures with underground rhythms\, creating a space where music leads and ego fades.\nFeaturing Bob Tosh\, Giorgio & Tiano\, N.I.M\, and Irenne\, this midweek gathering invites you to disconnect from routine and reconnect through sound\, movement\, and shared energy in one of Tulum’s most iconic venues.
URL:https://yourkeyconcierge.com/event/dominik-at-vagalume-tulum-jungle-electronic-experience/
LOCATION:Vagalume Tulum Beach Club – Day & Night Experience\, Tulum\, Mexico
ATTACH;FMTTYPE=image/jpeg:https://yourkeyconcierge.com/wp-content/uploads/2026/01/db_file_img_137300_1200xauto.jpg
END:VEVENT
BEGIN:VEVENT
DTSTART;TZID=America/Cancun:20260226T190000
DTEND;TZID=America/Cancun:20260227T010000
DTSTAMP:20260419T120518
CREATED:20260125T215849Z
LAST-MODIFIED:20260218T185931Z
UID:5063-1772132400-1772154000@yourkeyconcierge.com
SUMMARY:SUMMERIANS by KINTAR at Vagalume Tulum
DESCRIPTION:SUMMERIANS by KINTAR returns to Vagalume Tulum on Thursday\, February 26th\, 2026\, as part of its fifth consecutive season in the jungle. Curated and led by Argentine DJ and producer KINTAR\, this immersive experience blends Afro Melodic and Ethnic House with ancestral instruments\, organic textures\, and cutting-edge electronic soundscapes.\nBorn in Ibiza and celebrated worldwide\, SUMMERIANS is a multisensory journey designed to awaken the senses and connect music lovers with the rhythm of the earth\, the energy of the tribe\, and their own inner flow. Each night unfolds as a unique chapter\, inviting guests to dance\, connect\, and fully immerse themselves in one of Tulum’s most iconic weekly rituals.
URL:https://yourkeyconcierge.com/event/summerians-by-kintar-at-vagalume-tulum-3/
LOCATION:Vagalume Tulum Beach Club – Day & Night Experience\, Tulum\, Mexico
ATTACH;FMTTYPE=image/jpeg:https://yourkeyconcierge.com/wp-content/uploads/2026/01/db_file_img_139063_1200xauto.jpg
END:VEVENT
BEGIN:VEVENT
DTSTART;TZID=America/Cancun:20260226T220000
DTEND;TZID=America/Cancun:20260227T030000
DTSTAMP:20260419T120518
CREATED:20260218T190239Z
LAST-MODIFIED:20260218T190239Z
UID:5126-1772143200-1772161200@yourkeyconcierge.com
SUMMARY:Airrica at Bonbonniere Tulum
DESCRIPTION:Airrica takes over Bonbonniere Tulum on Thursday\, February 26th\, 2026\, for a refined late-night electronic experience in one of Tulum’s most exclusive nightlife destinations.\nFrom 10:00 PM till late\, enjoy a high-energy set driven by deep\, sophisticated rhythms\, joined by Xandro\, inside an upscale club atmosphere designed for premium nightlife. VIP tables with bottle service are available. Dress code is strictly formal.
URL:https://yourkeyconcierge.com/event/airrica-at-bonbonniere-tulum/
LOCATION:Bonbonniere Tulum\, Carretera Estatal Tulum–Boca Paila\, Parcela 1744-A\, Tulum\, Quintana Roo\, 777760\, Mexico
ATTACH;FMTTYPE=image/jpeg:https://yourkeyconcierge.com/wp-content/uploads/2026/02/db_file_img_137734_1200xauto.jpg
END:VEVENT
END:VCALENDAR