BEGIN:VCALENDAR
VERSION:2.0
PRODID:-// - ECPv6.15.12.2//NONSGML v1.0//EN
CALSCALE:GREGORIAN
METHOD:PUBLISH
X-ORIGINAL-URL:https://yourkeyconcierge.com
X-WR-CALDESC:Events for 
REFRESH-INTERVAL;VALUE=DURATION:PT1H
X-Robots-Tag:noindex
X-PUBLISHED-TTL:PT1H
BEGIN:VTIMEZONE
TZID:America/Cancun
BEGIN:STANDARD
TZOFFSETFROM:-0500
TZOFFSETTO:-0500
TZNAME:EST
DTSTART:20250101T000000
END:STANDARD
END:VTIMEZONE
BEGIN:VEVENT
DTSTART;TZID=America/Cancun:20260221T190000
DTEND;TZID=America/Cancun:20260222T010000
DTSTAMP:20260419T133811
CREATED:20260218T184100Z
LAST-MODIFIED:20260218T184100Z
UID:5102-1771700400-1771722000@yourkeyconcierge.com
SUMMARY:SINNER Presents: Vite & Miganova & Friends at Vagalume Tulum
DESCRIPTION:Embrace Tulum’s most seductive Saturday ritual with SINNER Presents: Vite & Miganova & Friends on Saturday\, February 21\, 2026\, from 1:00 PM to 1:00 AM\, at Vagalume Tulum.\nNow in its fourth season\, SINNER is a boutique party concept created by Vite and Miganova\, where music\, aesthetics\, and atmosphere intertwine to awaken the senses. This edition features an immersive lineup including Dumas\, Luz Michel b2b Emanuel Dip\, and Renê\, delivering a seamless day-to-night journey.\nSet at Tulum’s most iconic beach club\, SINNER invites you to surrender to rhythm\, connection\, and desire.\n🎟️ General Admission & VIP Tables with Bottle Service Available\n📍 Location: Vagalume Tulum\, Quintana Roo\n🖤 Dress Code: All Black / Sexy Attire\n🔞 Age: 18+
URL:https://yourkeyconcierge.com/event/sinner-presents-vite-miganova-friends-at-vagalume-tulum/
LOCATION:Vagalume Tulum Beach Club – Day & Night Experience\, Tulum\, Mexico
ATTACH;FMTTYPE=image/png:https://yourkeyconcierge.com/wp-content/uploads/2026/02/Captura-de-pantalla-2026-02-18-a-las-1.40.28-p.m.png
END:VEVENT
BEGIN:VEVENT
DTSTART;TZID=America/Cancun:20260221T190000
DTEND;TZID=America/Cancun:20260222T030000
DTSTAMP:20260419T133811
CREATED:20260123T190249Z
LAST-MODIFIED:20260218T184449Z
UID:5046-1771700400-1771729200@yourkeyconcierge.com
SUMMARY:PPP Saturday Celebration ft. M.A.N.D.Y at Papaya Playa Project
DESCRIPTION:Celebrate under the stars at PPP Saturday Celebration – Music Journey by M.A.N.D.Y on Saturday\, February 21\, 2026\, at Papaya Playa Project.\nFrom 6:00 PM until late\, this iconic beachfront sanctuary in Tulum hosts a carefully curated lineup blending warm grooves\, deep rhythms\, and melodic energy featuring:\n🎶 M.A.N.D.Y.\n🎶 JO.KE\n🎶 FRESHH\nDance barefoot on the Caribbean sand as the ocean breeze carries the music through the palms. More than a party\, this is a celebration of music\, nature\, and connection in one of Tulum’s most iconic venues.\nEnhance Your Experience\n✨ Mayan Dinner Experience (7:00 PM or 9:00 PM seating)\n✨ VIP Tables with bottle service\n✨ Room packages at Art Village Tulum\n✨ Signature cocktails & curated wines\nDoors Open: 6:00 PM\nLast Entry: 12:50 AM\nAge: 18+\nDress Code: Casual / Dinner-Casual for dining guests
URL:https://yourkeyconcierge.com/event/ppp-saturday-celebration-at-papaya-playa-project/
LOCATION:Papaya Playa Project
ATTACH;FMTTYPE=image/png:https://yourkeyconcierge.com/wp-content/uploads/2026/02/Captura-de-pantalla-2026-02-18-a-las-1.42.41-p.m.png
END:VEVENT
BEGIN:VEVENT
DTSTART;TZID=America/Cancun:20260221T220000
DTEND;TZID=America/Cancun:20260222T010000
DTSTAMP:20260419T133811
CREATED:20260218T184730Z
LAST-MODIFIED:20260218T184730Z
UID:5108-1771711200-1771722000@yourkeyconcierge.com
SUMMARY:Oriol Calvo & Jim Rider at Bonbonniere Tulum
DESCRIPTION:Oriol Calvo and Jim Rider take over Bonbonniere Tulum on Saturday\, February 21st\, 2026\, for an exclusive late-night club experience in one of Tulum’s most prestigious nightlife venues.\nFrom 10:00 PM till late\, expect a high-energy electronic set\, refined production\, and a sophisticated atmosphere designed for premium nightlife lovers. VIP tables with bottle service are available for those seeking an elevated experience. Dress code is strictly formal.
URL:https://yourkeyconcierge.com/event/oriol-calvo-jim-rider-at-bonbonniere-tulum/
LOCATION:Bonbonniere Tulum\, Carretera Estatal Tulum–Boca Paila\, Parcela 1744-A\, Tulum\, Quintana Roo\, 777760\, Mexico
ATTACH;FMTTYPE=image/jpeg:https://yourkeyconcierge.com/wp-content/uploads/2026/02/db_file_img_138355_1200xauto.jpg
END:VEVENT
BEGIN:VEVENT
DTSTART;TZID=America/Cancun:20260222T130000
DTEND;TZID=America/Cancun:20260223T010000
DTSTAMP:20260419T133811
CREATED:20260218T185203Z
LAST-MODIFIED:20260218T185203Z
UID:5114-1771765200-1771808400@yourkeyconcierge.com
SUMMARY:Mixmag at Vagalume Tulum | Caribbean Electronic Showcase
DESCRIPTION:Vagalume Tulum presents Mixmag on Sunday\, February 22nd\, 2026\, for a full-day Caribbean electronic showcase from 1:00 PM to 1:00 AM. Designed for deep listening and collective energy\, this immersive gathering blends groove\, tension\, and hypnotic flow in one of Tulum’s most iconic beachfront venues.\nHeadlined by Adam Ten\, alongside Ares Carter\, Animam\, Laus\, Samia\, and Svetlan Dimitrova\, the lineup delivers a seamless sonic journey where rhythm and atmosphere merge into a powerful dancefloor experience. Expect international sounds\, elevated production\, and a crowd united by movement and music.
URL:https://yourkeyconcierge.com/event/mixmag-at-vagalume-tulum-caribbean-electronic-showcase/
LOCATION:Vagalume Tulum Beach Club – Day & Night Experience\, Tulum\, Mexico
ATTACH;FMTTYPE=image/png:https://yourkeyconcierge.com/wp-content/uploads/2026/02/Captura-de-pantalla-2026-02-18-a-las-1.51.32-p.m.png
END:VEVENT
BEGIN:VEVENT
DTSTART;TZID=America/Cancun:20260222T190000
DTEND;TZID=America/Cancun:20260223T230000
DTSTAMP:20260419T133811
CREATED:20260218T184955Z
LAST-MODIFIED:20260218T184955Z
UID:5111-1771786800-1771887600@yourkeyconcierge.com
SUMMARY:DeepLove x Karma Tulum | Margarita Rituals Jungle Nights at Kanan Tulum
DESCRIPTION:DeepLove x Karma Tulum presents Margarita Rituals • Jungle Nights at Kanan Tulum on February 22–23\, 2026\, celebrating International Margarita Day with an intimate underground experience deep in the jungle.\nFeaturing Corcuera\, Gianfranco Corradi\, Kevin Grossman\, and Vit\, this special edition blends immersive electronic sounds\, speakeasy-inspired ambiance\, and raw jungle energy. From 11 PM till late\, step into a ritual where rhythm\, connection\, and cocktails merge into one unforgettable night.\nYour entrance includes a welcome Margarita by Tequila Herradura Cristal\, setting the tone for an evening where music and ritual flow together. Capacity is limited — early arrival is recommended.
URL:https://yourkeyconcierge.com/event/deeplove-x-karma-tulum-margarita-rituals-jungle-nights-at-kanan-tulum/
LOCATION:Kanan\, Carretera Tulum Boca Paila Km 7.5 Mza 020 reg 009\, Tulum\, QRoo\, 77780\, Mexico
ATTACH;FMTTYPE=image/png:https://yourkeyconcierge.com/wp-content/uploads/2026/02/Captura-de-pantalla-2026-02-18-a-las-1.49.30-p.m.png
END:VEVENT
BEGIN:VEVENT
DTSTART;TZID=America/Cancun:20260222T220000
DTEND;TZID=America/Cancun:20260223T030000
DTSTAMP:20260419T133811
CREATED:20260218T185617Z
LAST-MODIFIED:20260218T185617Z
UID:5117-1771797600-1771815600@yourkeyconcierge.com
SUMMARY:Ancestral Soul at Bonbonniere Tulum | Sunday Night Experience
DESCRIPTION:Ancestral Soul returns to Bonbonniere Tulum on Sunday\, February 22nd\, 2026\, delivering a refined late-night journey driven by deep\, hypnotic electronic sounds.\nFrom 10:00 PM till late\, the dancefloor comes alive with sets by Kid Bamboo\, Leonardo\, and Xandro\, blending atmosphere\, rhythm\, and elegance in one of Tulum’s most exclusive nightlife destinations. VIP tables with bottle service are available. Dress code is strictly formal.
URL:https://yourkeyconcierge.com/event/ancestral-soul-at-bonbonniere-tulum-sunday-night-experience/
LOCATION:Bonbonniere Tulum\, Carretera Estatal Tulum–Boca Paila\, Parcela 1744-A\, Tulum\, Quintana Roo\, 777760\, Mexico
ATTACH;FMTTYPE=image/jpeg:https://yourkeyconcierge.com/wp-content/uploads/2026/02/db_file_img_137945_1200xauto.jpg
END:VEVENT
END:VCALENDAR