BEGIN:VCALENDAR
VERSION:2.0
PRODID:-// - ECPv6.15.12.2//NONSGML v1.0//EN
CALSCALE:GREGORIAN
METHOD:PUBLISH
X-ORIGINAL-URL:https://yourkeyconcierge.com
X-WR-CALDESC:Events for 
REFRESH-INTERVAL;VALUE=DURATION:PT1H
X-Robots-Tag:noindex
X-PUBLISHED-TTL:PT1H
BEGIN:VTIMEZONE
TZID:America/Cancun
BEGIN:STANDARD
TZOFFSETFROM:-0500
TZOFFSETTO:-0500
TZNAME:EST
DTSTART:20250101T000000
END:STANDARD
END:VTIMEZONE
BEGIN:VEVENT
DTSTART;TZID=America/Cancun:20260219T190000
DTEND;TZID=America/Cancun:20260220T130000
DTSTAMP:20260419T152341
CREATED:20260123T185833Z
LAST-MODIFIED:20260123T185833Z
UID:5040-1771527600-1771592400@yourkeyconcierge.com
SUMMARY:SUMMERIANS by KINTAR at Vagalume Tulum
DESCRIPTION:SUMMERIANS by KINTAR returns to Vagalume Tulum starting Thursday\, February 19th\, marking its fifth consecutive season in the jungle. This immersive experience unfolds across four exclusive Thursday nights\, blending Afro Melodic\, Ethnic House\, and ancestral rhythms into a powerful multisensory journey.\nCurated and led by Argentine DJ and producer KINTAR\, SUMMERIANS invites you to reconnect with your inner rhythm through organic instruments\, tribal energy\, and cutting-edge electronic soundscapes—where each night becomes a chapter of transformation\, connection\, and collective celebration. \n📍 Venue: Vagalume Tulum\n📅 Dates: February 19 & 26 · March 5 & 12\, 2026\n⏰ Time: 7:00 PM – 1:00 AM\n🔞 Age: 18+\n🎶 Music: Afro Melodic · Ethnic House\n🌴 Dress Code: Tulum Style
URL:https://yourkeyconcierge.com/event/summerians-by-kintar-at-vagalume-tulum/
LOCATION:Vagalume Tulum Beach Club – Day & Night Experience\, Tulum\, Mexico
ATTACH;FMTTYPE=image/jpeg:https://yourkeyconcierge.com/wp-content/uploads/2026/01/db_file_img_134380_1200xauto.jpg
END:VEVENT
BEGIN:VEVENT
DTSTART;TZID=America/Cancun:20260219T220000
DTEND;TZID=America/Cancun:20260220T030000
DTSTAMP:20260419T152341
CREATED:20260209T182730Z
LAST-MODIFIED:20260209T182730Z
UID:5095-1771538400-1771556400@yourkeyconcierge.com
SUMMARY:Angelos at Bonbonniere Tulum
DESCRIPTION:Experience a night of elevated sound and sophistication with Angelos at Bonbonniere Tulum on Thursday\, February 19\, 2026\, starting at 10:00 PM till late.\nFeaturing Cuevas\, this exclusive event delivers a refined musical journey inside one of Tulum’s most iconic luxury nightclubs\, where premium service and world-class ambiance define the experience.\nThis 18+ event enforces a strict formal dress code to maintain the signature Bonbonniere atmosphere. Entry may be denied if dress code requirements are not met.\n🎟️ General Admission & VIP Tables Available\n📍 Location: Bonbonniere Tulum\, Quintana Roo\n👔 Dress Code: Formal (no swimwear\, caps\, sandals\, or sports shorts)\nReserve your tickets or VIP table and enjoy an unforgettable Thursday night in Tulum.
URL:https://yourkeyconcierge.com/event/angelos-at-bonbonniere-tulum/
LOCATION:Bonbonniere Tulum\, Carretera Estatal Tulum–Boca Paila\, Parcela 1744-A\, Tulum\, Quintana Roo\, 777760\, Mexico
ATTACH;FMTTYPE=image/jpeg:https://yourkeyconcierge.com/wp-content/uploads/2026/02/db_file_img_138204_1200xauto.jpg
END:VEVENT
BEGIN:VEVENT
DTSTART;TZID=America/Cancun:20260220T190000
DTEND;TZID=America/Cancun:20260221T010000
DTSTAMP:20260419T152341
CREATED:20260123T190051Z
LAST-MODIFIED:20260123T190051Z
UID:5043-1771614000-1771635600@yourkeyconcierge.com
SUMMARY:TEN IBIZA at Vagalume Tulum
DESCRIPTION:TEN IBIZA returns to Vagalume Tulum on Friday\, February 20th\, 2026\, delivering a high-energy journey into House Music set in the heart of the jungle. Known for its Ibiza-inspired sound and vibrant atmosphere\, TEN IBIZA brings together international talent and an electric crowd for an unforgettable Friday night experience.\nFeaturing Oriol Calvo\, CJ Jeff\, and Giorgio Stefano\, this edition promises deep grooves\, uplifting rhythms\, and a dance floor that stays alive from sunset to late night. VIP tables with bottle service are available for those seeking an elevated experience.
URL:https://yourkeyconcierge.com/event/ten-ibiza-at-vagalume-tulum-4/
LOCATION:Vagalume Tulum Beach Club – Day & Night Experience\, Tulum\, Mexico
ATTACH;FMTTYPE=image/png:https://yourkeyconcierge.com/wp-content/uploads/2026/01/Captura-de-pantalla-2026-01-23-a-las-2.00.27-p.m.png
END:VEVENT
BEGIN:VEVENT
DTSTART;TZID=America/Cancun:20260220T220000
DTEND;TZID=America/Cancun:20260221T030000
DTSTAMP:20260419T152341
CREATED:20260209T183006Z
LAST-MODIFIED:20260209T183006Z
UID:5098-1771624800-1771642800@yourkeyconcierge.com
SUMMARY:Alan Dixon at Bonbonniere Tulum
DESCRIPTION:Celebrate a premium Friday night with Alan Dixon at Bonbonniere Tulum on Friday\, February 20\, 2026\, starting at 10:00 PM till late.\nFeaturing Billy K and Xandro\, this exclusive event brings together influential talent\, refined sound\, and Bonbonniere’s signature upscale atmosphere for an unforgettable nightlife experience in Tulum.\nThis 18+ event enforces a strict formal dress code to maintain the venue’s elevated standard. Entry may be denied if dress code requirements are not met.\n🎟️ General Admission & VIP Tables Available\n📍 Location: Bonbonniere Tulum\, Quintana Roo\n👔 Dress Code: Formal (no swimwear\, caps\, sandals\, or sports shorts)\nSecure your tickets or VIP table early and experience one of Tulum’s most anticipated Friday nights.
URL:https://yourkeyconcierge.com/event/alan-dixon-at-bonbonniere-tulum/
LOCATION:Bonbonniere Tulum\, Carretera Estatal Tulum–Boca Paila\, Parcela 1744-A\, Tulum\, Quintana Roo\, 777760\, Mexico
ATTACH;FMTTYPE=image/jpeg:https://yourkeyconcierge.com/wp-content/uploads/2026/02/db_file_img_137732_1200xauto.jpg
END:VEVENT
END:VCALENDAR