BEGIN:VCALENDAR
VERSION:2.0
PRODID:-// - ECPv6.15.12.2//NONSGML v1.0//EN
CALSCALE:GREGORIAN
METHOD:PUBLISH
X-ORIGINAL-URL:https://yourkeyconcierge.com
X-WR-CALDESC:Events for 
REFRESH-INTERVAL;VALUE=DURATION:PT1H
X-Robots-Tag:noindex
X-PUBLISHED-TTL:PT1H
BEGIN:VTIMEZONE
TZID:America/Cancun
BEGIN:STANDARD
TZOFFSETFROM:-0500
TZOFFSETTO:-0500
TZNAME:EST
DTSTART:20250101T000000
END:STANDARD
END:VTIMEZONE
BEGIN:VEVENT
DTSTART;TZID=America/Cancun:20260213T180000
DTEND;TZID=America/Cancun:20260214T010000
DTSTAMP:20260419T141632
CREATED:20260123T184025Z
LAST-MODIFIED:20260123T184025Z
UID:5025-1771005600-1771030800@yourkeyconcierge.com
SUMMARY:Gitano Jungle Friday Fiesta
DESCRIPTION:Gitano Jungle Friday Fiesta is the signature Friday night experience at GITANO Jungle Tulum\, combining dinner\, live performances\, and an unforgettable party beneath the palms.\nThe evening begins at 6:00 PM with a candlelit Modern Mexican dinner\, mezcal cocktails\, and jungle glamour. As the night builds\, enjoy exclusive GITANO cabaret performances\, world-class DJs including The Versa and Karla Mercedes\, and a vibrant dance floor illuminated by Gitano’s iconic disco ball. Bottle service elevates the experience as the fiesta reaches its peak.\nDinner seating available from 6:00 PM to 11:00 PM. Tables are reserved all night. Limited availability. \n📍 Venue: Gitano Jungle Tulum\, Quintana Roo\n📅 Date: Friday\, February 13\, 2026\n⏰ Start Time: 6:00 PM\n👥 All Ages\n🎶 Music & Performances: The Versa · Karla Mercedes · Gitano Cabaret\n🍽️ Dinner + Party Experience\n🍾 VIP & Bottle Service Available
URL:https://yourkeyconcierge.com/event/gitano-jungle-friday-fiesta/
LOCATION:GITANO Jungle
ATTACH;FMTTYPE=image/png:https://yourkeyconcierge.com/wp-content/uploads/2026/01/Captura-de-pantalla-2026-01-23-a-las-1.39.49-p.m.png
END:VEVENT
BEGIN:VEVENT
DTSTART;TZID=America/Cancun:20260213T190000
DTEND;TZID=America/Cancun:20260214T010000
DTSTAMP:20260419T141632
CREATED:20260123T184328Z
LAST-MODIFIED:20260123T184328Z
UID:5028-1771009200-1771030800@yourkeyconcierge.com
SUMMARY:TEN Ibiza at Vagalume Tulum
DESCRIPTION:TEN Ibiza arrives at Vagalume Tulum for an immersive House Music journey inspired by the iconic Ibiza sound.\nFrom 7:00 PM to 1:00 AM\, experience a high-energy night where deep grooves\, hypnotic rhythms\, and jungle vibes collide. Featuring a powerful lineup with Oriol Calvo\, Marcel BS\, and Omikami\, TEN Ibiza delivers a refined electronic experience in one of Tulum’s most iconic venues.\nVIP tables with bottle service are available for those seeking an elevated night under the stars. \n📍 Venue: Vagalume Tulum\, Quintana Roo\n📅 Date: Friday\, February 13\, 2026\n⏰ Time: 7:00 PM – 1:00 AM\n🔞 Age: 18+\n🎶 Music: House Music\n🎧 Lineup: Oriol Calvo · Marcel BS · Omikami\n🍾 VIP Tables & Bottle Service Available
URL:https://yourkeyconcierge.com/event/ten-ibiza-at-vagalume-tulum-3/
LOCATION:Vagalume Tulum Beach Club – Day & Night Experience\, Tulum\, Mexico
ATTACH;FMTTYPE=image/png:https://yourkeyconcierge.com/wp-content/uploads/2026/01/Captura-de-pantalla-2026-01-23-a-las-1.42.42-p.m.png
END:VEVENT
BEGIN:VEVENT
DTSTART;TZID=America/Cancun:20260213T220000
DTEND;TZID=America/Cancun:20260214T050000
DTSTAMP:20260419T141632
CREATED:20260209T180732Z
LAST-MODIFIED:20260209T180732Z
UID:5077-1771020000-1771045200@yourkeyconcierge.com
SUMMARY:Andre Buljat at Bonbonniere Tulum
DESCRIPTION:Join an elevated nightlife experience with Andre Buljat at Bonbonniere Tulum on Friday\, February 13\, 2026\, starting at 10:00 PM till late. Featuring Felipe Alemais and Xandro\, this exclusive night delivers cutting-edge sound\, refined energy\, and Bonbonniere’s signature luxury atmosphere.\nThis 18+ event follows a strict formal dress code to preserve the upscale experience. Entry may be denied if dress code requirements are not met.\n🎟️ General Admission & VIP Tables Available\n📍 Location: Bonbonniere Tulum\, Quintana Roo\n👔 Dress Code: Formal (no swimwear\, caps\, sandals\, or sports shorts)\nReserve your tickets or VIP table and experience one of Tulum’s most sophisticated nights.
URL:https://yourkeyconcierge.com/event/andre-buljat-at-bonbonniere-tulum/
LOCATION:Bonbonniere Tulum\, Carretera Estatal Tulum–Boca Paila\, Parcela 1744-A\, Tulum\, Quintana Roo\, 777760\, Mexico
ATTACH;FMTTYPE=image/jpeg:https://yourkeyconcierge.com/wp-content/uploads/2026/02/db_file_img_137730_1200xauto.jpg
END:VEVENT
BEGIN:VEVENT
DTSTART;TZID=America/Cancun:20260214T130000
DTEND;TZID=America/Cancun:20260215T010000
DTSTAMP:20260419T141632
CREATED:20260209T181200Z
LAST-MODIFIED:20260209T181200Z
UID:5080-1771074000-1771117200@yourkeyconcierge.com
SUMMARY:SINNER Presents: LUST – Valentine’s Edition at Vagalume Tulum
DESCRIPTION:This Valentine’s Day\, surrender to temptation at SINNER Presents: LUST – Valentine’s Edition on Saturday\, February 14\, 2026\, at Vagalume Tulum\, from 1:00 PM to late.\nNow in its fourth season\, SINNER is Tulum’s most seductive boutique experience\, created by DJs and producers VITE & Miganova. A carefully curated fusion of music\, aesthetics\, and atmosphere designed to awaken the senses and redefine daytime indulgence.\nEnjoy an elevated lineup featuring Beswerda\, VITE + Miganova\, Adi Dassler\, and Miul\, set against the iconic backdrop of Vagalume Beach Club.\n🎟️ General Admission & VIP Tables with Bottle Service Available\n📍 Location: Vagalume Tulum\, Quintana Roo\n🖤 Dress Code: All Black / Sexy Attire\n🔞 Age: 18+\nReserve your table and experience the perfect blend of desire\, sound\, and style.
URL:https://yourkeyconcierge.com/event/sinner-presents-lust-valentines-edition-at-vagalume-tulum/
LOCATION:Vagalume Tulum Beach Club – Day & Night Experience\, Tulum\, Mexico
ATTACH;FMTTYPE=image/png:https://yourkeyconcierge.com/wp-content/uploads/2026/02/Captura-de-pantalla-2026-02-09-a-las-1.08.32-p.m.png
END:VEVENT
BEGIN:VEVENT
DTSTART;TZID=America/Cancun:20260214T130000
DTEND;TZID=America/Cancun:20260215T010000
DTSTAMP:20260419T141632
CREATED:20260209T181553Z
LAST-MODIFIED:20260209T181553Z
UID:5083-1771074000-1771117200@yourkeyconcierge.com
SUMMARY:Mixmag at Vagalume Tulum ft. Claptone
DESCRIPTION:Mixmag returns to Tulum with a special Caribbean edition at Vagalume Tulum on Sunday\, February 15\, 2026\, from 1:00 PM to 1:00 AM.\nHeadlined by Claptone\, this immersive daytime-to-night experience brings together a carefully curated lineup including Vite\, Aarón Reynoso\, Dirtee Disco\, Muslija\, and Womack. Designed for long-form storytelling on the dancefloor\, the event flows through house-driven rhythms that connect moments rather than chase peaks.\nSet in one of Tulum’s most iconic beach clubs\, Mixmag at Vagalume is a space to listen\, move\, and stay present — from the first track to the last.\n🎟️ General Admission & VIP Tables with Bottle Service Available\n📍 Location: Vagalume Tulum\, Quintana Roo\n👗 Dress Code: Tulum Style\n🔞 Age: 18+\nSecure your tickets and experience one of the most anticipated electronic music events in Tulum.
URL:https://yourkeyconcierge.com/event/mixmag-at-vagalume-tulum-ft-claptone/
LOCATION:Vagalume Tulum Beach Club – Day & Night Experience\, Tulum\, Mexico
ATTACH;FMTTYPE=image/png:https://yourkeyconcierge.com/wp-content/uploads/2026/02/Captura-de-pantalla-2026-02-09-a-las-1.15.07-p.m.png
END:VEVENT
BEGIN:VEVENT
DTSTART;TZID=America/Cancun:20260214T190000
DTEND;TZID=America/Cancun:20260215T030000
DTSTAMP:20260419T141632
CREATED:20260123T184649Z
LAST-MODIFIED:20260123T184649Z
UID:5031-1771095600-1771124400@yourkeyconcierge.com
SUMMARY:The New Moon at Papaya Playa Project
DESCRIPTION:Papaya Playa Project presents The New Moon\, a beachfront Music Journey guided by Phillou\, celebrating music\, connection\, and movement under the Caribbean sky.\nOn Saturday\, February 14th\, dance barefoot on the sand as warm grooves\, deep rhythms\, and melodic energy flow from sunset into late night. Surrounded by palm trees\, ocean breeze\, and Papaya Playa Project’s iconic atmosphere\, this intimate New Moon gathering invites you to connect through sound\, nature\, and shared experience.\nEnhance your night with the Mayan Dinner Experience\, signature cocktails\, curated wines\, and exclusive room packages for a full weekend escape. \n📍 Venue: Papaya Playa Project\, Tulum\n📅 Date: Saturday\, February 14\, 2026\n⏰ Doors Open: 5:00 PM\n⏳ Last Entry: 12:50 AM\n🔞 Age: 18+\n🎶 Music: Deep\, melodic & organic electronic\n🎧 Line-up: Phillou · Nancy Kid · Dobao\n🌊 Setting: Beachfront · Barefoot dancing encouraged
URL:https://yourkeyconcierge.com/event/the-new-moon-at-papaya-playa-project/
LOCATION:Papaya Playa Project
ATTACH;FMTTYPE=image/png:https://yourkeyconcierge.com/wp-content/uploads/2026/01/Captura-de-pantalla-2026-01-23-a-las-1.46.12-p.m.png
END:VEVENT
BEGIN:VEVENT
DTSTART;TZID=America/Cancun:20260214T220000
DTEND;TZID=America/Cancun:20260215T010000
DTSTAMP:20260419T141632
CREATED:20260123T184951Z
LAST-MODIFIED:20260123T184951Z
UID:5034-1771106400-1771117200@yourkeyconcierge.com
SUMMARY:AR/CO at Bonbonniere Tulum
DESCRIPTION:AR/CO takes over Bonbonniere Tulum on Saturday\, February 14th\, delivering a high-energy night of refined electronic music in one of Tulum’s most exclusive nightlife destinations.\nFrom 10:00 PM till late\, experience a sleek\, upscale atmosphere where cutting-edge sound\, elegant design\, and luxury bottle service come together for an unforgettable Valentine’s weekend celebration. Expect a sophisticated crowd\, world-class production\, and an elevated club experience inside Bonbonniere’s iconic venue. \n📍 Venue: Bonbonniere Tulum\n📅 Date: Saturday\, February 14\, 2026\n⏰ Time: 10:00 PM – Till Late\n🔞 Age: 18+\n🎶 Artist: AR/CO\n🖤 Vibe: Luxury · Nightclub · High-energy electronic
URL:https://yourkeyconcierge.com/event/ar-co-at-bonbonniere-tulum/
LOCATION:Bonbonniere Tulum\, Carretera Estatal Tulum–Boca Paila\, Parcela 1744-A\, Tulum\, Quintana Roo\, 777760\, Mexico
ATTACH;FMTTYPE=image/jpeg:https://yourkeyconcierge.com/wp-content/uploads/2026/01/db_file_img_137419_1200xauto.jpg
END:VEVENT
END:VCALENDAR