BEGIN:VCALENDAR
VERSION:2.0
PRODID:-// - ECPv6.15.12.2//NONSGML v1.0//EN
CALSCALE:GREGORIAN
METHOD:PUBLISH
X-ORIGINAL-URL:https://yourkeyconcierge.com
X-WR-CALDESC:Events for 
REFRESH-INTERVAL;VALUE=DURATION:PT1H
X-Robots-Tag:noindex
X-PUBLISHED-TTL:PT1H
BEGIN:VTIMEZONE
TZID:America/Cancun
BEGIN:STANDARD
TZOFFSETFROM:-0500
TZOFFSETTO:-0500
TZNAME:EST
DTSTART:20250101T000000
END:STANDARD
END:VTIMEZONE
BEGIN:VEVENT
DTSTART;TZID=America/Cancun:20260211T070000
DTEND;TZID=America/Cancun:20260212T010000
DTSTAMP:20260419T143055
CREATED:20260123T183236Z
LAST-MODIFIED:20260123T183236Z
UID:5020-1770793200-1770858000@yourkeyconcierge.com
SUMMARY:THIS. PLACE Tulum Residency at Vagalum
DESCRIPTION:THIS. PLACE\, the acclaimed Polish-born electronic music project\, returns to Vagalume Tulum on Wednesday\, February 11\, 2026. Known for sold-out events in unconventional spaces across Europe\, this residency delivers a refined\, forward-thinking sound to the jungle.\nFrom 7:00 PM to 1:00 AM\, enjoy a curated lineup featuring Sideral (Habitat / Afterlife)\, Pysh (Sincopad)\, and Belle Tropique. VIP tables with bottle service are available. Dress code: Tulum style. Limited tickets available. \n📍 Venue: Vagalume Tulum\, Quintana Roo\n📅 Date: Wednesday\, February 11\, 2026\n⏰ Time: 7:00 PM – 1:00 AM\n🔞 Age: 18+\n🎶 Lineup: Sideral · Pysh · Belle Tropique\n🍾 VIP Tables: Bottle service available
URL:https://yourkeyconcierge.com/event/this-place-tulum-residency-at-vagalum/
LOCATION:Vagalume Tulum Beach Club – Day & Night Experience\, Tulum\, Mexico
ATTACH;FMTTYPE=image/jpeg:https://yourkeyconcierge.com/wp-content/uploads/2026/01/db_file_img_134839_1200xauto.jpg
END:VEVENT
BEGIN:VEVENT
DTSTART;TZID=America/Cancun:20260212T190000
DTEND;TZID=America/Cancun:20260213T010000
DTSTAMP:20260419T143055
CREATED:20260123T183523Z
LAST-MODIFIED:20260123T183523Z
UID:5022-1770922800-1770944400@yourkeyconcierge.com
SUMMARY:Pendulum at Vagalume Tulum
DESCRIPTION:Following its acclaimed 2025 residency\, PENDULUM returns to Vagalume Tulum on Thursday\, February 12\, 2026\, for a limited series of immersive jungle nights.\nLed by legendary DJ Steve Lawler\, this special edition delivers deep\, tribal\, underground sounds designed to suspend time and ignite the dance floor. Joined by Jesse Zotti\, Pendulum blends hypnotic rhythms\, dramatic lighting\, and Tulum’s raw energy for an unforgettable experience.\nEvent runs from 7:00 PM to 1:00 AM. VIP tables with bottle service available. Dress code: Tulum style. Limited tickets. \n📍 Venue: Vagalume Tulum\, Quintana Roo\n📅 Date: Thursday\, February 12\, 2026\n⏰ Time: 7:00 PM – 1:00 AM\n🔞 Age: 18+\n🎧 Lineup: Steve Lawler · Jesse Zotti\n🍾 VIP Tables: Bottle service available
URL:https://yourkeyconcierge.com/event/pendulum-at-vagalume-tulum/
LOCATION:Vagalume Tulum Beach Club – Day & Night Experience\, Tulum\, Mexico
ATTACH;FMTTYPE=image/png:https://yourkeyconcierge.com/wp-content/uploads/2026/01/Captura-de-pantalla-2026-01-23-a-las-1.34.37-p.m.png
END:VEVENT
BEGIN:VEVENT
DTSTART;TZID=America/Cancun:20260212T220000
DTEND;TZID=America/Cancun:20260213T040000
DTSTAMP:20260419T143055
CREATED:20260209T180508Z
LAST-MODIFIED:20260209T180508Z
UID:5073-1770933600-1770955200@yourkeyconcierge.com
SUMMARY:KY William at Bonbonniere Tulum
DESCRIPTION:Experience an exclusive nightlife event with KY William at Bonbonniere Tulum on Thursday\, February 12\, 2026\, starting at 10:00 PM till late. One of Tulum’s most iconic luxury nightclubs sets the stage for an unforgettable night of high-energy music\, upscale ambiance\, and elite table service.\nThis 18+ event enforces a strict formal dress code to maintain the signature Bonbonniere experience. Guests not complying with the dress code may be denied entry.\n🎟️ Tickets & VIP Tables Available\n📍 Location: Bonbonniere Tulum\, Quintana Roo\n👔 Dress Code: Formal (no swimwear\, caps\, sandals\, sports shorts)\nSecure your tickets early and elevate your night in Tulum.
URL:https://yourkeyconcierge.com/event/ky-william-at-bonbonniere-tulum/
LOCATION:Bonbonniere Tulum\, Carretera Estatal Tulum–Boca Paila\, Parcela 1744-A\, Tulum\, Quintana Roo\, 777760\, Mexico
ATTACH;FMTTYPE=image/jpeg:https://yourkeyconcierge.com/wp-content/uploads/2026/02/db_file_img_137721_1200xauto.jpg
END:VEVENT
END:VCALENDAR