BEGIN:VCALENDAR
VERSION:2.0
PRODID:-// - ECPv6.15.12.2//NONSGML v1.0//EN
CALSCALE:GREGORIAN
METHOD:PUBLISH
X-ORIGINAL-URL:https://yourkeyconcierge.com
X-WR-CALDESC:Events for 
REFRESH-INTERVAL;VALUE=DURATION:PT1H
X-Robots-Tag:noindex
X-PUBLISHED-TTL:PT1H
BEGIN:VTIMEZONE
TZID:America/Cancun
BEGIN:STANDARD
TZOFFSETFROM:-0500
TZOFFSETTO:-0500
TZNAME:EST
DTSTART:20250101T000000
END:STANDARD
END:VTIMEZONE
BEGIN:VEVENT
DTSTART;TZID=America/Cancun:20260206T190000
DTEND;TZID=America/Cancun:20260207T010000
DTSTAMP:20260419T141340
CREATED:20260123T170859Z
LAST-MODIFIED:20260123T170859Z
UID:5008-1770404400-1770426000@yourkeyconcierge.com
SUMMARY:TEN Ibiza at Vagalume Tulum
DESCRIPTION:Straight from Ibiza\, TEN Ibiza brings its signature house music journey to Vagalume Tulum on Friday\, February 6\, 2026.\nFrom 7:00 PM to 1:00 AM\, dance to a high-energy lineup featuring Rayco Santos\, Ben Weiss\, and NegrinM\, set against the iconic jungle-meets-ocean atmosphere of Vagalume. VIP tables with bottle service are available. Limited tickets — secure yours early. \n📍 Venue: Vagalume Tulum\, Quintana Roo\n📅 Date: Friday\, February 6\, 2026\n⏰ Time: 7:00 PM – 1:00 AM\n🔞 Age: 18+\n🎶 Lineup: Rayco Santos · Ben Weiss · NegrinM\n🍾 VIP Tables: Bottle service available
URL:https://yourkeyconcierge.com/event/ten-ibiza-at-vagalume-tulum-2/
LOCATION:Vagalume Tulum Beach Club – Day & Night Experience\, Tulum\, Mexico
ATTACH;FMTTYPE=image/png:https://yourkeyconcierge.com/wp-content/uploads/2026/01/Captura-de-pantalla-2026-01-23-a-las-12.08.22-p.m.png
END:VEVENT
BEGIN:VEVENT
DTSTART;TZID=America/Cancun:20260206T220000
DTEND;TZID=America/Cancun:20260207T040000
DTSTAMP:20260419T141340
CREATED:20260123T171422Z
LAST-MODIFIED:20260123T171422Z
UID:5011-1770415200-1770436800@yourkeyconcierge.com
SUMMARY:Lohrasp Kansara at Bonbonniere Tulum
DESCRIPTION:Lohrasp Kansara takes over Bonbonniere Tulum on Friday\, February 6\, 2026\, for an exclusive late-night performance.\nFrom 10:00 PM till late\, experience a refined club night powered by deep\, hypnotic electronic sounds in one of Tulum’s most iconic venues. VIP tables are available for a premium nightlife experience. Dress code is strictly formal. \n📍 Venue: Bonbonniere Tulum\, Quintana Roo\n📅 Date: Friday\, February 6\, 2026\n⏰ Time: 10:00 PM – Till Late\n🔞 Age: 18+\n🎶 Artist: Lohrasp Kansara\n🍾 VIP Tables: Backstage\, Diamond\, Platinum\, Gold & Silver
URL:https://yourkeyconcierge.com/event/lohrasp-kansara-at-bonbonniere-tulum/
LOCATION:Bonbonniere Tulum\, Carretera Estatal Tulum–Boca Paila\, Parcela 1744-A\, Tulum\, Quintana Roo\, 777760\, Mexico
ATTACH;FMTTYPE=image/jpeg:https://yourkeyconcierge.com/wp-content/uploads/2026/01/db_file_img_137315_1200xauto.jpg
END:VEVENT
BEGIN:VEVENT
DTSTART;TZID=America/Cancun:20260207T220000
DTEND;TZID=America/Cancun:20260208T050000
DTSTAMP:20260419T141340
CREATED:20260123T183038Z
LAST-MODIFIED:20260123T183038Z
UID:5017-1770501600-1770526800@yourkeyconcierge.com
SUMMARY:Fran Arés at Bonbonniere Tulum
DESCRIPTION:Fran Arés takes over Bonbonniere Tulum on Saturday\, February 7\, 2026\, for an exclusive late-night performance.\nFrom 10:00 PM till late\, experience a refined club night driven by deep\, sophisticated electronic sounds in one of Tulum’s most iconic venues. VIP tables are available for an elevated nightlife experience. Dress code is strictly formal. \n📍 Venue: Bonbonniere Tulum\, Quintana Roo\n📅 Date: Saturday\, February 7\, 2026\n⏰ Time: 10:00 PM – Till Late\n🔞 Age: 18+\n🎶 Artist: Fran Arés\n🍾 VIP Tables: Backstage\, Diamond\, Platinum\, Gold & Silver
URL:https://yourkeyconcierge.com/event/fran-ares-at-bonbonniere-tulum/
LOCATION:Bonbonniere Tulum\, Carretera Estatal Tulum–Boca Paila\, Parcela 1744-A\, Tulum\, Quintana Roo\, 777760\, Mexico
ATTACH;FMTTYPE=image/jpeg:https://yourkeyconcierge.com/wp-content/uploads/2026/01/db_file_img_137317_1200xauto.jpg
END:VEVENT
END:VCALENDAR