BEGIN:VCALENDAR
VERSION:2.0
PRODID:-// - ECPv6.15.12.2//NONSGML v1.0//EN
CALSCALE:GREGORIAN
METHOD:PUBLISH
X-ORIGINAL-URL:https://yourkeyconcierge.com
X-WR-CALDESC:Events for 
REFRESH-INTERVAL;VALUE=DURATION:PT1H
X-Robots-Tag:noindex
X-PUBLISHED-TTL:PT1H
BEGIN:VTIMEZONE
TZID:America/Cancun
BEGIN:STANDARD
TZOFFSETFROM:-0500
TZOFFSETTO:-0500
TZNAME:EST
DTSTART:20250101T000000
END:STANDARD
END:VTIMEZONE
BEGIN:VEVENT
DTSTART;TZID=America/Cancun:20260204T190000
DTEND;TZID=America/Cancun:20260205T010000
DTSTAMP:20260419T142948
CREATED:20260123T165431Z
LAST-MODIFIED:20260123T165431Z
UID:5000-1770231600-1770253200@yourkeyconcierge.com
SUMMARY:THIS. PLACE Tulum Residency at Vagalume
DESCRIPTION:THIS. PLACE\, the acclaimed Polish-born electronic music project\, arrives at Vagalume Tulum on Wednesday\, February 4\, 2026. Known for sold-out events in unconventional spaces across Europe\, this residency brings a refined\, forward-thinking sound to the jungle.\nFrom 7:00 PM to 1:00 AM\, experience a carefully curated lineup featuring Arude (Armada)\, Sincz (Atlant Renaissance)\, and Mauro Torretta. VIP tables with bottle service are available. Dress code: Tulum style. Limited tickets available. \n📍 Venue: Vagalume Tulum\, Quintana Roo\n📅 Date: Wednesday\, February 4\, 2026\n⏰ Time: 7:00 PM – 1:00 AM\n🔞 Age: 18+\n🎶 Lineup: Arude · Sincz · Mauro Torretta\n🍾 VIP Tables: Bottle service available
URL:https://yourkeyconcierge.com/event/this-place-tulum-residency-at-vagalume-2/
LOCATION:Vagalume Tulum Beach Club – Day & Night Experience\, Tulum\, Mexico
ATTACH;FMTTYPE=image/jpeg:https://yourkeyconcierge.com/wp-content/uploads/2026/01/db_file_img_134839_1200xauto.jpg
END:VEVENT
BEGIN:VEVENT
DTSTART;TZID=America/Cancun:20260205T190000
DTEND;TZID=America/Cancun:20260206T010000
DTSTAMP:20260419T142948
CREATED:20260123T165720Z
LAST-MODIFIED:20260123T165720Z
UID:5002-1770318000-1770339600@yourkeyconcierge.com
SUMMARY:GALA Ibiza at Vagalume Tulum
DESCRIPTION:Born in Ibiza and celebrated across international destinations\, GALA by Ibán Mendoza returns to Vagalume Tulum for its second consecutive year on Thursday\, February 5\, 2026.\nGALA is a fully immersive experience\, blending cutting-edge electronic music\, surreal visual identity\, and live performances that transform the dance floor into a dynamic\, living stage.\nFrom 7:00 PM to 1:00 AM\, step into a night where art\, music\, and atmosphere merge. VIP tables with bottle service are available. Dress code: Tulum style. \n📍 Venue: Vagalume Tulum\, Quintana Roo\n📅 Date: Thursday\, February 5\, 2026\n⏰ Time: 7:00 PM – 1:00 AM\n🔞 Age: 18+\n🎶 Lineup: TBA\n🍾 VIP Tables: Bottle service available
URL:https://yourkeyconcierge.com/event/gala-ibiza-at-vagalume-tulum-2/
LOCATION:Vagalume Tulum Beach Club – Day & Night Experience\, Tulum\, Mexico
ATTACH;FMTTYPE=image/jpeg:https://yourkeyconcierge.com/wp-content/uploads/2026/01/db_file_img_131049_1200xauto.jpg
END:VEVENT
BEGIN:VEVENT
DTSTART;TZID=America/Cancun:20260205T220000
DTEND;TZID=America/Cancun:20260206T030000
DTSTAMP:20260419T142948
CREATED:20260123T165926Z
LAST-MODIFIED:20260123T165926Z
UID:5004-1770328800-1770346800@yourkeyconcierge.com
SUMMARY:Emanuel Satie at Bonbonniere Tulum
DESCRIPTION:Internationally acclaimed DJ and producer Emanuel Satie takes over Bonbonniere Tulum on Thursday\, February 5\, 2026\, for an exclusive late-night performance.\nFrom 10:00 PM till late\, expect a refined club experience driven by deep\, melodic electronic sound in one of Tulum’s most iconic venues. VIP tables are available for a premium night out. Dress code is strictly formal. \n📍 Venue: Bonbonniere Tulum\, Quintana Roo\n📅 Date: Thursday\, February 5\, 2026\n⏰ Time: 10:00 PM – Till Late\n🔞 Age: 18+\n🎶 Artist: Emanuel Satie\n🍾 VIP Tables: Backstage\, Diamond\, Platinum\, Gold & Silver
URL:https://yourkeyconcierge.com/event/emanuel-satie-at-bonbonniere-tulum/
LOCATION:Bonbonniere Tulum\, Carretera Estatal Tulum–Boca Paila\, Parcela 1744-A\, Tulum\, Quintana Roo\, 777760\, Mexico
ATTACH;FMTTYPE=image/jpeg:https://yourkeyconcierge.com/wp-content/uploads/2026/01/db_file_img_137417_1200xauto.jpg
END:VEVENT
END:VCALENDAR