BEGIN:VCALENDAR
VERSION:2.0
PRODID:-// - ECPv6.15.12.2//NONSGML v1.0//EN
CALSCALE:GREGORIAN
METHOD:PUBLISH
X-ORIGINAL-URL:https://yourkeyconcierge.com
X-WR-CALDESC:Events for 
REFRESH-INTERVAL;VALUE=DURATION:PT1H
X-Robots-Tag:noindex
X-PUBLISHED-TTL:PT1H
BEGIN:VTIMEZONE
TZID:America/Cancun
BEGIN:STANDARD
TZOFFSETFROM:-0500
TZOFFSETTO:-0500
TZNAME:EST
DTSTART:20250101T000000
END:STANDARD
END:VTIMEZONE
BEGIN:VEVENT
DTSTART;TZID=America/Cancun:20260203T190000
DTEND;TZID=America/Cancun:20260204T010000
DTSTAMP:20260419T140344
CREATED:20260203T164941Z
LAST-MODIFIED:20260203T164941Z
UID:5069-1770145200-1770166800@yourkeyconcierge.com
SUMMARY:Vagalume Sessions with Øostil at Vagalume Tulum
DESCRIPTION:Vagalume Sessions returns to Vagalume Tulum on Tuesday\, February 3rd\, 2026\, for a night dedicated to connection through electronic music. Under the stars\, this special edition features Øostil\, joined by Cami Ricci\, delivering an immersive journey of melodic rhythms and emotional soundscapes.\nFrom 7:00 PM to 1:00 AM\, experience a refined atmosphere where music\, nature\, and human connection converge in one of Tulum’s most iconic venues. Expect deep grooves\, an open dance floor\, and a crowd drawn together by shared energy and sound.
URL:https://yourkeyconcierge.com/event/vagalume-sessions-with-oostil-at-vagalume-tulum-2/
LOCATION:Vagalume Tulum Beach Club – Day & Night Experience\, Tulum\, Mexico
ATTACH;FMTTYPE=image/png:https://yourkeyconcierge.com/wp-content/uploads/2026/02/Captura-de-pantalla-2026-02-03-a-las-11.49.09-a.m.png
END:VEVENT
BEGIN:VEVENT
DTSTART;TZID=America/Cancun:20260204T190000
DTEND;TZID=America/Cancun:20260205T010000
DTSTAMP:20260419T140344
CREATED:20260123T165431Z
LAST-MODIFIED:20260123T165431Z
UID:5000-1770231600-1770253200@yourkeyconcierge.com
SUMMARY:THIS. PLACE Tulum Residency at Vagalume
DESCRIPTION:THIS. PLACE\, the acclaimed Polish-born electronic music project\, arrives at Vagalume Tulum on Wednesday\, February 4\, 2026. Known for sold-out events in unconventional spaces across Europe\, this residency brings a refined\, forward-thinking sound to the jungle.\nFrom 7:00 PM to 1:00 AM\, experience a carefully curated lineup featuring Arude (Armada)\, Sincz (Atlant Renaissance)\, and Mauro Torretta. VIP tables with bottle service are available. Dress code: Tulum style. Limited tickets available. \n📍 Venue: Vagalume Tulum\, Quintana Roo\n📅 Date: Wednesday\, February 4\, 2026\n⏰ Time: 7:00 PM – 1:00 AM\n🔞 Age: 18+\n🎶 Lineup: Arude · Sincz · Mauro Torretta\n🍾 VIP Tables: Bottle service available
URL:https://yourkeyconcierge.com/event/this-place-tulum-residency-at-vagalume-2/
LOCATION:Vagalume Tulum Beach Club – Day & Night Experience\, Tulum\, Mexico
ATTACH;FMTTYPE=image/jpeg:https://yourkeyconcierge.com/wp-content/uploads/2026/01/db_file_img_134839_1200xauto.jpg
END:VEVENT
END:VCALENDAR