BEGIN:VCALENDAR
VERSION:2.0
PRODID:-// - ECPv6.15.12.2//NONSGML v1.0//EN
CALSCALE:GREGORIAN
METHOD:PUBLISH
X-ORIGINAL-URL:https://yourkeyconcierge.com
X-WR-CALDESC:Events for 
REFRESH-INTERVAL;VALUE=DURATION:PT1H
X-Robots-Tag:noindex
X-PUBLISHED-TTL:PT1H
BEGIN:VTIMEZONE
TZID:America/Cancun
BEGIN:STANDARD
TZOFFSETFROM:-0500
TZOFFSETTO:-0500
TZNAME:EST
DTSTART:20250101T000000
END:STANDARD
END:VTIMEZONE
BEGIN:VEVENT
DTSTART;TZID=America/Cancun:20260131T130000
DTEND;TZID=America/Cancun:20260201T010000
DTSTAMP:20260419T142948
CREATED:20260123T164214Z
LAST-MODIFIED:20260123T164214Z
UID:4982-1769864400-1769907600@yourkeyconcierge.com
SUMMARY:SINNER x VISIONARI @ Vagalume Tulum
DESCRIPTION:SINNER x VISIONARI returns to Vagalume Tulum for an extended Saturday daytime-to-night experience\, blending music\, aesthetics\, and seductive energy in one of Tulum’s most iconic beach clubs.\nNow in its fourth season\, SINNER—created by DJs and producers VITE & Miganova—has become a signature boutique party where sound\, atmosphere\, and style merge seamlessly. Every detail is designed to elevate the senses\, inviting you to surrender to the rhythm and the moment.\nThis special edition features a curated line-up led by VITE + MIGANOVA\, alongside international and rising talents delivering a deep\, hypnotic musical journey from afternoon into late night.\n✨ Event Highlights:\nBoutique electronic music experience\nDay-to-night journey (1 PM – 1 AM)\nOne of Tulum’s most iconic beach clubs\nVIP tables with bottle service\nFashion-forward\, curated crowd\n🎶 Line-up:\nVITE + MIGANOVA\nEtna\nGlauco Di Mambro\nJoel Kim\nMagnetique\nPaloma\n📍 Venue: Vagalume Tulum\n🗓 Date: Saturday\, January 31\, 2026\n🕐 Time: 1:00 PM – 1:00 AM\n🔞 Age: 18+\n👗 Dress Code:\nAll Black / Sexy Attire
URL:https://yourkeyconcierge.com/event/sinner-x-visionari-vagalume-tulum/
LOCATION:Vagalume Tulum Beach Club – Day & Night Experience\, Tulum\, Mexico
ATTACH;FMTTYPE=image/png:https://yourkeyconcierge.com/wp-content/uploads/2026/01/Captura-de-pantalla-2026-01-23-a-las-11.41.30-a.m.png
END:VEVENT
BEGIN:VEVENT
DTSTART;TZID=America/Cancun:20260131T180000
DTEND;TZID=America/Cancun:20260201T040000
DTSTAMP:20260419T142948
CREATED:20260123T164530Z
LAST-MODIFIED:20260123T164530Z
UID:4985-1769882400-1769918400@yourkeyconcierge.com
SUMMARY:PPP Presents: The Full Moon
DESCRIPTION:Experience The Full Moon Music Journey at Papaya Playa Project\, Tulum\, featuring Viken Arman\, alongside Rui Vargas and AWA.\nOn Saturday\, January 31\, 2026\, immerse yourself in a night of celestial rhythms\, immersive art\, and soulful connection under the moonlight.\nDoors open at 6:00 PM with last entry at 12:50 AM. Choose from General Admission\, Mayan Dinner + Music Journey\, VIP Tables\, or exclusive room packages for the ultimate beachfront weekend escape.\nLimited tickets available — trust the vibe and secure your spot.\n📍 Venue: Papaya Playa Project\, Tulum\n📅 Date: Saturday\, January 31\, 2026\n⏰ Doors Open: 6:00 PM | Last Entry: 12:50 AM\n🔞 Age: 18+\n🎶 Lineup: Viken Arman · Rui Vargas · AWA\n🍽️ Enhance Your Night: Mayan dinner experiences\, VIP tables & hotel room packages available
URL:https://yourkeyconcierge.com/event/ppp-presents-the-full-moon/
LOCATION:Papaya Playa Project
ATTACH;FMTTYPE=image/png:https://yourkeyconcierge.com/wp-content/uploads/2026/01/Captura-de-pantalla-2026-01-23-a-las-11.45.02-a.m.png
END:VEVENT
BEGIN:VEVENT
DTSTART;TZID=America/Cancun:20260131T220000
DTEND;TZID=America/Cancun:20260201T010000
DTSTAMP:20260419T142948
CREATED:20260123T164800Z
LAST-MODIFIED:20260123T164800Z
UID:4988-1769896800-1769907600@yourkeyconcierge.com
SUMMARY:420 Paradise Tulum – Immersive Jungle & Cenote Experience
DESCRIPTION:420 Paradise Tulum is a one-of-a-kind immersive celebration hidden in the Mayan jungle\, set around a private cenote in Tulum.\nFrom Saturday\, January 31 to March 1\, 2026\, step into a 24-hour night-to-day-to-night journey where music\, nature\, luxury\, art\, and the 420 spirit unite.\nExpect a very special guest from Afterlife\, 8+ international artists\, immersive stage design\, live performances\, wellness activations\, and curated VIP experiences. Limited capacity\, highly curated guests\, and elevated jungle energy.\n📍 Venue: Escaip Light Tulum – Hidden Cenote\, Tulum Jungle\n📅 Dates: January 31 – March 1\, 2026\n⏰ Opening Hours: From 10:00 PM\n🔞 Age: 18+\n🎶 Lineup: Very Special Guest (Afterlife) + International Artists\n🌿 Experience: Private cenote · Art & wellness · Day-to-night journey
URL:https://yourkeyconcierge.com/event/420-paradise-tulum-immersive-jungle-cenote-experience/
LOCATION:Cenote venue Tulum Jungle
ATTACH;FMTTYPE=image/png:https://yourkeyconcierge.com/wp-content/uploads/2026/01/Captura-de-pantalla-2026-01-23-a-las-11.47.19-a.m.png
END:VEVENT
BEGIN:VEVENT
DTSTART;TZID=America/Cancun:20260201T220000
DTEND;TZID=America/Cancun:20260202T030000
DTSTAMP:20260419T142948
CREATED:20260123T165238Z
LAST-MODIFIED:20260123T165238Z
UID:4994-1769983200-1770001200@yourkeyconcierge.com
SUMMARY:Ancestral Soul at Bonbonniere Tulum
DESCRIPTION:Ancestral Soul takes over Bonbonniere Tulum on Sunday\, February 1\, 2026\, delivering a refined late-night experience driven by deep\, hypnotic rhythms and elevated atmosphere.\nFrom 10:00 PM till late\, Leo Gira\, Rami\, and Cuevas set the tone for an immersive night where sound\, style\, and energy converge. VIP tables are available for those seeking an exclusive club experience. Dress code is strictly formal.\n📍 Venue: Bonbonniere Tulum\, Quintana Roo\n📅 Date: Sunday\, February 1\, 2026\n⏰ Time: 10:00 PM – Till Late\n🔞 Age: 18+\n🎶 Lineup: Leo Gira · Rami · Cuevas\n🍾 VIP Tables: Backstage\, Diamond\, Platinum\, Gold & Silver
URL:https://yourkeyconcierge.com/event/ancestral-soul-at-bonbonniere-tulum-6/
LOCATION:Bonbonniere Tulum\, Carretera Estatal Tulum–Boca Paila\, Parcela 1744-A\, Tulum\, Quintana Roo\, 777760\, Mexico
ATTACH;FMTTYPE=image/jpeg:https://yourkeyconcierge.com/wp-content/uploads/2026/01/db_file_img_137542_1200xauto.jpg
END:VEVENT
END:VCALENDAR