BEGIN:VCALENDAR
VERSION:2.0
PRODID:-// - ECPv6.15.12.2//NONSGML v1.0//EN
CALSCALE:GREGORIAN
METHOD:PUBLISH
X-ORIGINAL-URL:https://yourkeyconcierge.com
X-WR-CALDESC:Events for 
REFRESH-INTERVAL;VALUE=DURATION:PT1H
X-Robots-Tag:noindex
X-PUBLISHED-TTL:PT1H
BEGIN:VTIMEZONE
TZID:America/Cancun
BEGIN:STANDARD
TZOFFSETFROM:-0500
TZOFFSETTO:-0500
TZNAME:EST
DTSTART:20250101T000000
END:STANDARD
END:VTIMEZONE
BEGIN:VEVENT
DTSTART;TZID=America/Cancun:20260129T130000
DTEND;TZID=America/Cancun:20260130T010000
DTSTAMP:20260419T141340
CREATED:20260120T185833Z
LAST-MODIFIED:20260120T185833Z
UID:4970-1769691600-1769734800@yourkeyconcierge.com
SUMMARY:Vagalume Sessions x TLT
DESCRIPTION:Vagalume Sessions x TLT returns on Thursday\, January 29\, 2026\, delivering a day-to-night electronic music journey at Vagalume Tulum\, one of the Riviera Maya’s most iconic beach clubs.\nFrom 1:00 PM to 1:00 AM\, immerse yourself in a carefully curated experience designed to celebrate human connection through music\, rhythm\, and atmosphere. Set beneath the Tulum sky\, this extended session blends melodic energy\, deep grooves\, and vibrant performances in a relaxed yet elevated setting.\nThe lineup features a powerful series of back-to-back performances\, creating a seamless musical flow throughout the day and into the night.\n🎧 Line-up:\nRENÊ b2b MIUL\nIRENA b2b FER URIBE\nGIORGIO STEFANO b2b JULIOO\nKLEINFINGER b2b MOIQUE\nKARLA MERCEDES b2b AAK\nSERGEY TUTTY b2b CALATRAVA\n🔞 Age: 18+\n🕐 Time: 1:00 PM – 1:00 AM\n👗 Dress Code: Tulum Style\n🍾 VIP tables & bottle service available
URL:https://yourkeyconcierge.com/event/vagalume-sessions-x-tlt/
LOCATION:Vagalume Tulum Beach Club – Day & Night Experience\, Tulum\, Mexico
ATTACH;FMTTYPE=image/jpeg:https://yourkeyconcierge.com/wp-content/uploads/2026/01/db_file_img_135582_1200xauto.jpg
END:VEVENT
BEGIN:VEVENT
DTSTART;TZID=America/Cancun:20260130T180000
DTEND;TZID=America/Cancun:20260130T230000
DTSTAMP:20260419T141340
CREATED:20260123T163029Z
LAST-MODIFIED:20260123T163029Z
UID:4974-1769796000-1769814000@yourkeyconcierge.com
SUMMARY:Gitano Jungle Gypsy Disco
DESCRIPTION:Gypsy Disco is the iconic Friday night dinner & party experience at GITANO Jungle Tulum\, where gastronomy\, music\, and nightlife merge beneath the jungle canopy.\nThe evening begins at 6:00 PM with a candlelit Modern Mexican dinner\, handcrafted mezcal cocktails\, and the unmistakable glamour of dining under the palms. As night falls\, the energy builds with exclusive GITANO cabaret performances\, world-class DJs\, and a vibrant dance floor illuminated by shimmering disco lights and the signature mirror ball.\nFor an elevated experience\, VIP tables and bottle service bring the celebration straight to your table as Gypsy Disco reaches its peak.\n✨ Experience highlights:\nDinner & party in one immersive night\nJungle setting with disco energy\nLive cabaret performances\nCurated DJ sessions\nBottle service & group dining options\n📍 Venue: Gitano Jungle Tulum\n🕕 Doors Open: 6:00 PM\n🍽 Dinner Seating: 6:00 PM – 11:00 PM\n🎟 Tables reserved all night\n👥 All ages
URL:https://yourkeyconcierge.com/event/gitano-jungle-gypsy-disco-4/
LOCATION:GITANO Jungle
ATTACH;FMTTYPE=image/png:https://yourkeyconcierge.com/wp-content/uploads/2025/12/1678a6c5-e913-4059-b5af-0a734aac243b.png
END:VEVENT
BEGIN:VEVENT
DTSTART;TZID=America/Cancun:20260130T190000
DTEND;TZID=America/Cancun:20260131T010000
DTSTAMP:20260419T141340
CREATED:20260123T163419Z
LAST-MODIFIED:20260123T163419Z
UID:4976-1769799600-1769821200@yourkeyconcierge.com
SUMMARY:TEN Ibiza @ Vagalume Tulum
DESCRIPTION:TEN Ibiza lands at Vagalume Tulum for an unforgettable journey into House Music\, blending hypnotic rhythms\, tropical energy\, and the unmistakable spirit of Ibiza — right in the heart of the Riviera Maya.\nFrom 7:00 PM to 1:00 AM\, immerse yourself in a curated night of electronic sounds surrounded by Vagalume’s iconic open-air setting\, elevated production\, and vibrant crowd.\n🎧 Line-Up:\nCristina Tossio\nWalther\nN.I.M\nWhether you join the dance floor or elevate your night with VIP tables and bottle service\, TEN Ibiza offers the perfect soundtrack for a Friday night in Tulum.\n✨ Event Highlights:\nHouse music inspired by Ibiza’s nightlife\nOpen-air jungle-meets-beach venue\nPremium sound & production\nVIP tables with bottle service\nInternational DJ lineup\n📍 Venue: Vagalume Tulum\n🗓 Date: Friday\, January 30\, 2026\n🕖 Time: 7:00 PM – 1:00 AM\n🔞 Age: 18+\n🎟 Tickets available now — limited capacity.
URL:https://yourkeyconcierge.com/event/ten-ibiza-vagalume-tulum-2/
LOCATION:Vagalume Tulum Beach Club – Day & Night Experience\, Tulum\, Mexico
ATTACH;FMTTYPE=image/jpeg:https://yourkeyconcierge.com/wp-content/uploads/2026/01/db_file_img_136266_1200xauto.jpg
END:VEVENT
BEGIN:VEVENT
DTSTART;TZID=America/Cancun:20260130T220000
DTEND;TZID=America/Cancun:20260131T040000
DTSTAMP:20260419T141340
CREATED:20260123T163642Z
LAST-MODIFIED:20260123T163642Z
UID:4979-1769810400-1769832000@yourkeyconcierge.com
SUMMARY:VITE + MIGANOVA @ Bonbonniere Tulum
DESCRIPTION:VITE + MIGANOVA take over Bonbonniere Tulum for an exclusive Friday night experience inside one of the most luxurious nightlife venues in the Riviera Maya.\nFrom 10:00 PM till late\, immerse yourself in a refined atmosphere where cutting-edge electronic music\, elegant design\, and an upscale crowd come together for a night designed to impress.\nJoining the line-up are Alexia Garcia and Cuevas\, setting the tone for a high-energy yet sophisticated journey on the dance floor.\n✨ Event Highlights:\nInternational electronic music selectors\nOne of Tulum’s most exclusive nightclubs\nPremium sound and lighting\nVIP tables with bottle service\nUpscale\, fashion-forward crowd\n📍 Venue: Bonbonniere Tulum\n🗓 Date: Friday\, January 30\, 2026\n🕙 Time: 10:00 PM – Till Late\n🔞 Age: 18+
URL:https://yourkeyconcierge.com/event/vite-miganova-bonbonniere-tulum/
LOCATION:Bonbonniere Tulum\, Carretera Estatal Tulum–Boca Paila\, Parcela 1744-A\, Tulum\, Quintana Roo\, 777760\, Mexico
ATTACH;FMTTYPE=image/jpeg:https://yourkeyconcierge.com/wp-content/uploads/2026/01/db_file_img_136266_1200xauto-1.jpg
END:VEVENT
END:VCALENDAR