BEGIN:VCALENDAR
VERSION:2.0
PRODID:-// - ECPv6.15.12.2//NONSGML v1.0//EN
CALSCALE:GREGORIAN
METHOD:PUBLISH
X-ORIGINAL-URL:https://yourkeyconcierge.com
X-WR-CALDESC:Events for 
REFRESH-INTERVAL;VALUE=DURATION:PT1H
X-Robots-Tag:noindex
X-PUBLISHED-TTL:PT1H
BEGIN:VTIMEZONE
TZID:America/Cancun
BEGIN:STANDARD
TZOFFSETFROM:-0500
TZOFFSETTO:-0500
TZNAME:EST
DTSTART:20250101T000000
END:STANDARD
END:VTIMEZONE
BEGIN:VEVENT
DTSTART;TZID=America/Cancun:20260128T190000
DTEND;TZID=America/Cancun:20260129T010000
DTSTAMP:20260419T140400
CREATED:20260120T185423Z
LAST-MODIFIED:20260120T185423Z
UID:4964-1769626800-1769648400@yourkeyconcierge.com
SUMMARY:THIS. PLACE Tulum Residency at Vagalume
DESCRIPTION:THIS. PLACE lands in Tulum with an exclusive residency at Vagalume on Wednesday\, January 28\, 2026.\nBorn in Poland and active since 2019\, this.place has become known for hosting cutting-edge electronic events in unique locations such as theaters\, museums\, and rooftops across Europe. With a reputation for curating forward-thinking lineups and a high sell-out rate\, the project now brings its distinctive energy to the Mayan Riviera.\nFrom 7:00 PM to 1:00 AM\, experience a carefully selected lineup of Polish and European artists under the iconic Vagalume tepee\, surrounded by jungle ambiance and beachfront atmosphere.\n🎧 Line-up:\nEweerseen (Unreleased Records)\nSincz (Atlant Renaissance)\nVacos\n🌴 Dress Code: Tulum Style\n🔞 Age: 18+\n🍾 VIP tables & bottle service available
URL:https://yourkeyconcierge.com/event/this-place-tulum-residency-at-vagalume/
LOCATION:Vagalume Tulum Beach Club – Day & Night Experience\, Tulum\, Mexico
ATTACH;FMTTYPE=image/jpeg:https://yourkeyconcierge.com/wp-content/uploads/2026/01/db_file_img_134836_1200xauto.jpg
END:VEVENT
BEGIN:VEVENT
DTSTART;TZID=America/Cancun:20260128T220000
DTEND;TZID=America/Cancun:20260129T040000
DTSTAMP:20260419T140400
CREATED:20260120T185625Z
LAST-MODIFIED:20260120T185625Z
UID:4967-1769637600-1769659200@yourkeyconcierge.com
SUMMARY:Oriol Calvo at Bonbonniere Tulum
DESCRIPTION:Oriol Calvo takes over Bonbonniere Tulum on Wednesday\, January 28\, 2026\, delivering a high-energy night of electronic music in one of Tulum’s most exclusive nightlife venues.\nStarting at 10:00 PM till late\, the night features a powerful lineup led by Oriol Calvo\, joined by Kid Bamboo\, setting the tone for a refined and immersive club experience defined by elegance\, sound\, and atmosphere.\nBonbonniere is known for its upscale ambiance\, world-class production\, and curated crowd—making this event a must for those seeking a premium nightlife experience in Tulum.\n🎧 Line-up:\nOriol Calvo\nKid Bamboo\n🔞 Age: 18+\n👔 Dress Code: Formal (strictly enforced)\n🍾 VIP tables & bottle service available
URL:https://yourkeyconcierge.com/event/oriol-calvo-at-bonbonniere-tulum-2/
LOCATION:Bonbonniere Tulum\, Carretera Estatal Tulum–Boca Paila\, Parcela 1744-A\, Tulum\, Quintana Roo\, 777760\, Mexico
ATTACH;FMTTYPE=image/png:https://yourkeyconcierge.com/wp-content/uploads/2026/01/Captura-de-pantalla-2026-01-20-a-las-1.55.00-p.m.png
END:VEVENT
BEGIN:VEVENT
DTSTART;TZID=America/Cancun:20260129T130000
DTEND;TZID=America/Cancun:20260130T010000
DTSTAMP:20260419T140400
CREATED:20260120T185833Z
LAST-MODIFIED:20260120T185833Z
UID:4970-1769691600-1769734800@yourkeyconcierge.com
SUMMARY:Vagalume Sessions x TLT
DESCRIPTION:Vagalume Sessions x TLT returns on Thursday\, January 29\, 2026\, delivering a day-to-night electronic music journey at Vagalume Tulum\, one of the Riviera Maya’s most iconic beach clubs.\nFrom 1:00 PM to 1:00 AM\, immerse yourself in a carefully curated experience designed to celebrate human connection through music\, rhythm\, and atmosphere. Set beneath the Tulum sky\, this extended session blends melodic energy\, deep grooves\, and vibrant performances in a relaxed yet elevated setting.\nThe lineup features a powerful series of back-to-back performances\, creating a seamless musical flow throughout the day and into the night.\n🎧 Line-up:\nRENÊ b2b MIUL\nIRENA b2b FER URIBE\nGIORGIO STEFANO b2b JULIOO\nKLEINFINGER b2b MOIQUE\nKARLA MERCEDES b2b AAK\nSERGEY TUTTY b2b CALATRAVA\n🔞 Age: 18+\n🕐 Time: 1:00 PM – 1:00 AM\n👗 Dress Code: Tulum Style\n🍾 VIP tables & bottle service available
URL:https://yourkeyconcierge.com/event/vagalume-sessions-x-tlt/
LOCATION:Vagalume Tulum Beach Club – Day & Night Experience\, Tulum\, Mexico
ATTACH;FMTTYPE=image/jpeg:https://yourkeyconcierge.com/wp-content/uploads/2026/01/db_file_img_135582_1200xauto.jpg
END:VEVENT
END:VCALENDAR