BEGIN:VCALENDAR
VERSION:2.0
PRODID:-// - ECPv6.15.12.2//NONSGML v1.0//EN
CALSCALE:GREGORIAN
METHOD:PUBLISH
X-ORIGINAL-URL:https://yourkeyconcierge.com
X-WR-CALDESC:Events for 
REFRESH-INTERVAL;VALUE=DURATION:PT1H
X-Robots-Tag:noindex
X-PUBLISHED-TTL:PT1H
BEGIN:VTIMEZONE
TZID:America/Cancun
BEGIN:STANDARD
TZOFFSETFROM:-0500
TZOFFSETTO:-0500
TZNAME:EST
DTSTART:20250101T000000
END:STANDARD
END:VTIMEZONE
BEGIN:VEVENT
DTSTART;TZID=America/Cancun:20260124T130000
DTEND;TZID=America/Cancun:20260125T010000
DTSTAMP:20260419T160723
CREATED:20260120T183646Z
LAST-MODIFIED:20260120T183646Z
UID:4944-1769259600-1769302800@yourkeyconcierge.com
SUMMARY:SINNER x Julian Prince at Vagalume Tulum
DESCRIPTION:SINNER returns to Vagalume Tulum for a special edition featuring Julian Prince on Saturday\, January 24\, 2026.\nFrom 1:00 PM to 1:00 AM\, immerse yourself in Tulum’s most seductive boutique party\, where music\, aesthetics\, and atmosphere blend into a sensual\, high-energy experience. Curated by VITE and Miganova\, SINNER is designed to elevate your senses and invite you to surrender to the rhythm.\n👗 Dress Code: All Black / Sexy Attire\n🔞 Age: 18+\n🍾 VIP tables with bottle service available\nThis is where temptation meets sound — every saint has a past\, every sinner has a future.
URL:https://yourkeyconcierge.com/event/sinner-x-julian-prince-at-vagalume-tulum/
LOCATION:Vagalume Tulum Beach Club – Day & Night Experience\, Tulum\, Mexico
ATTACH;FMTTYPE=image/png:https://yourkeyconcierge.com/wp-content/uploads/2026/01/Captura-de-pantalla-2026-01-20-a-las-1.34.34-p.m.png
END:VEVENT
BEGIN:VEVENT
DTSTART;TZID=America/Cancun:20260124T180000
DTEND;TZID=America/Cancun:20260125T020000
DTSTAMP:20260419T160723
CREATED:20260120T183953Z
LAST-MODIFIED:20260120T183953Z
UID:4947-1769277600-1769306400@yourkeyconcierge.com
SUMMARY:The New Moon by Hunter/Game at Papaya Playa Project
DESCRIPTION:Papaya Playa Project presents The New Moon\, a curated music journey led by Hunter/Game\, on Saturday\, January 24\, 2026\, on the Caribbean shores of Tulum.\nFrom 6:00 PM onward\, experience an immersive beachfront celebration where melodic rhythms\, deep grooves\, and warm electronic energy guide the night from sunset into late hours. Dance barefoot on the sand\, surrounded by palm trees\, ocean breeze\, and the unique atmosphere of Papaya Playa Project.\n✨ Mayan dinner experience\, room packages\, and VIP options available\n👗 Dress Code: Casual / Dinner-Casual\n🔞 Age: 18+\nThis is more than a party — it’s a moment of connection\, movement\, and renewal by the sea.
URL:https://yourkeyconcierge.com/event/the-new-moon-by-hunter-game-at-papaya-playa-project/
LOCATION:Papaya Playa Project
ATTACH;FMTTYPE=image/png:https://yourkeyconcierge.com/wp-content/uploads/2026/01/Captura-de-pantalla-2026-01-20-a-las-1.37.55-p.m.png
END:VEVENT
BEGIN:VEVENT
DTSTART;TZID=America/Cancun:20260124T190000
DTEND;TZID=America/Cancun:20260125T013000
DTSTAMP:20260419T160723
CREATED:20260123T190415Z
LAST-MODIFIED:20260123T190415Z
UID:5051-1769281200-1769304600@yourkeyconcierge.com
SUMMARY:LAGA Records Presents GALGO at Vagalume Tulum
DESCRIPTION:LAGA Records lands at Vagalume Tulum on Tuesday\, February 24th\, 2026\, with a forward-thinking night of electronic music led by GALGO\, joined by Doseof_11 and Vitto Brion.\nExpect hypnotic grooves\, progressive energy\, and cosmic club sounds in an immersive setting designed for true dancefloor connection. From sunset to late night\, LAGA Records delivers a global sound experience where atmosphere\, movement\, and music come first.
URL:https://yourkeyconcierge.com/event/laga-records-presents-galgo-at-vagalume-tulum/
LOCATION:Vagalume Tulum Beach Club – Day & Night Experience\, Tulum\, Mexico
ATTACH;FMTTYPE=image/jpeg:https://yourkeyconcierge.com/wp-content/uploads/2026/01/db_file_img_137425_1200xauto.jpg
END:VEVENT
BEGIN:VEVENT
DTSTART;TZID=America/Cancun:20260124T220000
DTEND;TZID=America/Cancun:20260125T040000
DTSTAMP:20260419T160723
CREATED:20260120T184205Z
LAST-MODIFIED:20260120T184205Z
UID:4950-1769292000-1769313600@yourkeyconcierge.com
SUMMARY:Vanjee at Bonbonniere Tulum
DESCRIPTION:Vanjee takes over Bonbonniere Tulum on Saturday\, January 24\, 2026\, for an exclusive late-night electronic music experience in one of Tulum’s most luxurious nightlife venues.\nStarting at 10:00 PM till late\, expect high-energy sound\, refined production\, and an elegant crowd in a premium nightclub atmosphere.\n👗 Dress Code: Formal (strictly enforced)\n🚫 No swimwear\, caps\, sandals\, or sports shorts\n🔞 Age: 18+\nSecure your tickets or VIP table and experience elite nightlife in Tulum.
URL:https://yourkeyconcierge.com/event/vanjee-at-bonbonniere-tulum/
LOCATION:Bonbonniere Tulum\, Carretera Estatal Tulum–Boca Paila\, Parcela 1744-A\, Tulum\, Quintana Roo\, 777760\, Mexico
ATTACH;FMTTYPE=image/jpeg:https://yourkeyconcierge.com/wp-content/uploads/2026/01/db_file_img_136077_1200xauto.jpg
END:VEVENT
BEGIN:VEVENT
DTSTART;TZID=America/Cancun:20260125T190000
DTEND;TZID=America/Cancun:20260126T010000
DTSTAMP:20260419T160723
CREATED:20260120T184427Z
LAST-MODIFIED:20260120T184427Z
UID:4952-1769367600-1769389200@yourkeyconcierge.com
SUMMARY:Go Deeva at Vagalume Tulum
DESCRIPTION:Go Deeva arrives at Vagalume Tulum on Sunday\, January 25\, 2026\, bringing one of the most respected electronic music labels to the heart of the Riviera Maya.\nFounded by Italian DJ and producer Simone Vitullo\, Go Deeva Records has shaped the global afro house and melodic house scene for over two decades\, with releases supported by icons such as Black Coffee\, Keinemusik\, Bedouin\, Monolink\, and Lee Burridge.\nFrom 7:00 PM to 1:00 AM\, experience a refined yet energetic journey blending organic rhythms\, emotive melodies\, and deep grooves in Vagalume’s iconic jungle-meets-beach setting.\n🎧 Lineup:\nSimone Vitullo · The Neighbors · Babayaga · Evka · Special Guest\n👗 Dress Code: Tulum Style\n🔞 Age: 18+\n🍾 VIP tables & bottle service available
URL:https://yourkeyconcierge.com/event/go-deeva-at-vagalume-tulum/
LOCATION:Vagalume Tulum Beach Club – Day & Night Experience\, Tulum\, Mexico
ATTACH;FMTTYPE=image/jpeg:https://yourkeyconcierge.com/wp-content/uploads/2026/01/db_file_img_135189_1200xauto.jpg
END:VEVENT
BEGIN:VEVENT
DTSTART;TZID=America/Cancun:20260125T220000
DTEND;TZID=America/Cancun:20260126T040000
DTSTAMP:20260419T160723
CREATED:20260120T184734Z
LAST-MODIFIED:20260120T184734Z
UID:4955-1769378400-1769400000@yourkeyconcierge.com
SUMMARY:Ancestral Soul at Bonbonniere Tulum
DESCRIPTION:Ancestral Soul takes over Bonbonniere Tulum on Sunday\, January 25\, 2026\, delivering a refined late-night journey through deep\, afro\, and organic electronic sounds in one of Tulum’s most exclusive nightclubs.\nFrom 10:00 PM till late\, experience an elevated musical atmosphere powered by:\n🎧 Lineup:\nCato Anaya · Juany Bravo · Cezar Aragón · Cuevas\nExpect sophisticated rhythms\, immersive energy\, and Bonbonniere’s signature luxury setting.\n👗 Dress Code: Formal (strictly enforced)\n🚫 No swimwear\, caps\, sandals\, or sports shorts\n🔞 Age: 18+\n🍾 VIP tables & bottle service available
URL:https://yourkeyconcierge.com/event/ancestral-soul-at-bonbonniere-tulum-5/
LOCATION:Bonbonniere Tulum\, Carretera Estatal Tulum–Boca Paila\, Parcela 1744-A\, Tulum\, Quintana Roo\, 777760\, Mexico
ATTACH;FMTTYPE=image/png:https://yourkeyconcierge.com/wp-content/uploads/2026/01/Captura-de-pantalla-2026-01-20-a-las-1.46.41-p.m.png
END:VEVENT
END:VCALENDAR