BEGIN:VCALENDAR
VERSION:2.0
PRODID:-// - ECPv6.15.12.2//NONSGML v1.0//EN
CALSCALE:GREGORIAN
METHOD:PUBLISH
X-ORIGINAL-URL:https://yourkeyconcierge.com
X-WR-CALDESC:Events for 
REFRESH-INTERVAL;VALUE=DURATION:PT1H
X-Robots-Tag:noindex
X-PUBLISHED-TTL:PT1H
BEGIN:VTIMEZONE
TZID:America/Cancun
BEGIN:STANDARD
TZOFFSETFROM:-0500
TZOFFSETTO:-0500
TZNAME:EST
DTSTART:20250101T000000
END:STANDARD
END:VTIMEZONE
BEGIN:VEVENT
DTSTART;TZID=America/Cancun:20260121T190000
DTEND;TZID=America/Cancun:20260122T010000
DTSTAMP:20260419T160541
CREATED:20260115T150652Z
LAST-MODIFIED:20260115T150652Z
UID:4915-1769022000-1769043600@yourkeyconcierge.com
SUMMARY:THIS. PLACE Tulum Residency at Vagalume | Electronic Music Night
DESCRIPTION:Vagalume presents: THIS. PLACE Tulum Residency\, making its debut at this.place on Wednesday\, January 21\, 2026\, at Vagalume Tulum.\nFrom 7:00 PM to 1:00 AM\, experience a powerful night of electronic music featuring an international lineup led by TABU (Kitsuné Musique)\, the Polish duo behind the viral “Dakiti” remix\, alongside RAIDHO (Sol Selectas)\, a global veteran of the electronic scene\, and RENATTA\, representing the vibrant local sound.\nExpect an immersive atmosphere\, cutting-edge music\, and Tulum’s signature energy in a venue designed for connection\, rhythm\, and style.\n🎟️ Tickets & VIP tables with bottle service available\n👗 Dress Code: Tulum Style\n🔞 Age: 18+\nBe part of the launch of THIS. PLACE in Tulum and experience a night where global talent meets local artistry.\n🎧 Lineup\nTABU (Kitsuné Musique)\nRAIDHO (Sol Selectas)\nRENATTA
URL:https://yourkeyconcierge.com/event/this-place-tulum-residency-at-vagalume-electronic-music-night/
LOCATION:Vagalume Tulum Beach Club – Day & Night Experience\, Tulum\, Mexico
ATTACH;FMTTYPE=image/jpeg:https://yourkeyconcierge.com/wp-content/uploads/2026/01/69379d8ea261e5.90469931.jpg
END:VEVENT
BEGIN:VEVENT
DTSTART;TZID=America/Cancun:20260121T220000
DTEND;TZID=America/Cancun:20260122T040000
DTSTAMP:20260419T160541
CREATED:20260115T150949Z
LAST-MODIFIED:20260115T150949Z
UID:4918-1769032800-1769054400@yourkeyconcierge.com
SUMMARY:Golden Tempo at Bonbonniere Tulum | Exclusive Night Experience
DESCRIPTION:Golden Tempo arrives at Bonbonniere Tulum on Wednesday\, January 21\, 2026\, for an exclusive late-night experience in one of Tulum’s most iconic luxury venues.\nStarting at 10:00 PM till late\, expect an elevated nightlife atmosphere defined by style\, energy\, and sophistication. This is a premium event designed for an upscale crowd\, featuring refined music\, world-class service\, and an elegant setting.\n👗 Dress Code: Formal (strictly enforced)\n🚫 No swimwear\, caps\, sandals\, or sports shorts\n🔞 Age: 18+\nSecure your tickets or VIP table and experience Tulum nightlife at its finest.
URL:https://yourkeyconcierge.com/event/golden-tempo-at-bonbonniere-tulum-exclusive-night-experience/
LOCATION:Bonbonniere Tulum\, Carretera Estatal Tulum–Boca Paila\, Parcela 1744-A\, Tulum\, Quintana Roo\, 777760\, Mexico
ATTACH;FMTTYPE=image/jpeg:https://yourkeyconcierge.com/wp-content/uploads/2026/01/6944510b50b260.15494510.jpg
END:VEVENT
BEGIN:VEVENT
DTSTART;TZID=America/Cancun:20260122T190000
DTEND;TZID=America/Cancun:20260123T010000
DTSTAMP:20260419T160541
CREATED:20260115T151136Z
LAST-MODIFIED:20260115T151136Z
UID:4923-1769108400-1769130000@yourkeyconcierge.com
SUMMARY:GALA Ibiza at Vagalume Tulum | Immersive Electronic Art Experience
DESCRIPTION:Vagalume presents GALA Ibiza\, the iconic event born in Ibiza and celebrated worldwide\, returning to Vagalume Tulum for its second consecutive year on Thursday\, January 22\, 2026.\nFrom 7:00 PM to 1:00 AM\, GALA delivers a fully immersive experience that blends cutting-edge electronic music\, surreal visual identity\, and live performances\, transforming the dance floor into a dynamic artistic stage. Curated by Ibán Mendoza\, this event fuses music and art into a powerful\, sensorial journey inspired by the spirit of the White Island.\n👗 Dress Code: Tulum Style\n🔞 Age: 18+\n🍾 VIP tables with bottle service available
URL:https://yourkeyconcierge.com/event/gala-ibiza-at-vagalume-tulum-immersive-electronic-art-experience/
LOCATION:Vagalume Tulum Beach Club – Day & Night Experience\, Tulum\, Mexico
ATTACH;FMTTYPE=image/jpeg:https://yourkeyconcierge.com/wp-content/uploads/2026/01/692e70a983fb52.98812831.jpg
END:VEVENT
BEGIN:VEVENT
DTSTART;TZID=America/Cancun:20260122T220000
DTEND;TZID=America/Cancun:20260123T040000
DTSTAMP:20260419T160541
CREATED:20260115T153957Z
LAST-MODIFIED:20260115T153957Z
UID:4925-1769119200-1769140800@yourkeyconcierge.com
SUMMARY:Butch at Bonbonniere Tulum | Exclusive Nightclub Experience
DESCRIPTION:Butch takes over Bonbonniere Tulum on Thursday\, January 22\, 2026\, for an exclusive late-night electronic music experience in one of Tulum’s most prestigious venues.\nStarting at 10:00 PM till late\, expect a high-energy atmosphere\, premium sound\, and a refined crowd in a luxury nightclub setting designed for unforgettable nights.\n👗 Dress Code: Formal (strictly enforced)\n🚫 No swimwear\, caps\, sandals\, or sports shorts\n🔞 Age: 18+\nSecure your tickets or VIP table and experience world-class nightlife in Tulum.
URL:https://yourkeyconcierge.com/event/butch-at-bonbonniere-tulum-exclusive-nightclub-experience/
LOCATION:Bonbonniere Tulum\, Carretera Estatal Tulum–Boca Paila\, Parcela 1744-A\, Tulum\, Quintana Roo\, 777760\, Mexico
ATTACH;FMTTYPE=image/jpeg:https://yourkeyconcierge.com/wp-content/uploads/2026/01/692715dcb74593.40192334.jpg
END:VEVENT
BEGIN:VEVENT
DTSTART;TZID=America/Cancun:20260122T220000
DTEND;TZID=America/Cancun:20260123T040000
DTSTAMP:20260419T160541
CREATED:20260120T182844Z
LAST-MODIFIED:20260120T182844Z
UID:4931-1769119200-1769140800@yourkeyconcierge.com
SUMMARY:Leonardo at Bonbonniere Tulum
DESCRIPTION:Leonardo takes over Bonbonniere Tulum on Thursday\, January 22\, 2026\, for an exclusive late-night experience in one of Tulum’s most luxurious nightlife venues.\nStarting at 10:00 PM till late\, expect refined electronic music\, premium sound\, and an upscale crowd in a high-end club setting designed for unforgettable nights.\n👗 Dress Code: Formal (strictly enforced)\n🚫 No swimwear\, caps\, sandals\, or sports shorts\n🔞 Age: 18+\nSecure your tickets or VIP table and experience elite nightlife in Tulum.
URL:https://yourkeyconcierge.com/event/leonardo-at-bonbonniere-tulum/
LOCATION:Bonbonniere Tulum\, Carretera Estatal Tulum–Boca Paila\, Parcela 1744-A\, Tulum\, Quintana Roo\, 777760\, Mexico
ATTACH;FMTTYPE=image/png:https://yourkeyconcierge.com/wp-content/uploads/2026/01/Captura-de-pantalla-2026-01-20-a-las-1.27.13-p.m.png
END:VEVENT
END:VCALENDAR