BEGIN:VCALENDAR
VERSION:2.0
PRODID:-// - ECPv6.15.12.2//NONSGML v1.0//EN
CALSCALE:GREGORIAN
METHOD:PUBLISH
X-ORIGINAL-URL:https://yourkeyconcierge.com
X-WR-CALDESC:Events for 
REFRESH-INTERVAL;VALUE=DURATION:PT1H
X-Robots-Tag:noindex
X-PUBLISHED-TTL:PT1H
BEGIN:VTIMEZONE
TZID:America/Cancun
BEGIN:STANDARD
TZOFFSETFROM:-0500
TZOFFSETTO:-0500
TZNAME:EST
DTSTART:20250101T000000
END:STANDARD
END:VTIMEZONE
BEGIN:VEVENT
DTSTART;TZID=America/Cancun:20260120T130000
DTEND;TZID=America/Cancun:20260121T010000
DTSTAMP:20260419T160646
CREATED:20260115T150430Z
LAST-MODIFIED:20260115T150430Z
UID:4912-1768914000-1768957200@yourkeyconcierge.com
SUMMARY:Sasha at Vagalume Sessions Tulum | Electronic Music Experience
DESCRIPTION:Vagalume Sessions presents Sasha for an unforgettable electronic music experience in Tulum.\nOn Tuesday\, January 20\, 2026\, immerse yourself in a full-day journey of sound\, connection\, and rhythm at Vagalume Tulum\, set under the Caribbean sky.\nFrom 1:00 PM to 1:00 AM\, enjoy world-class electronic music with an international lineup led by Sasha\, alongside Hardt Antoine\, Neo Human\, and Nadi Cabbad. Experience the essence of Tulum’s music culture with a stylish crowd\, vibrant energy\, and premium production.\n🎟️ Tickets & VIP tables with bottle service available\n👗 Dress Code: Tulum Style\n🔞 Age: 18+\nJoin us and rediscover the magic of human connection through music at one of Tulum’s most iconic venues. \n🎧 Lineup\nSASHA\nHardt Antoine\nNeo Human\nNadi Cabbad
URL:https://yourkeyconcierge.com/event/sasha-at-vagalume-sessions-tulum-electronic-music-experience/
LOCATION:Vagalume Tulum Beach Club – Day & Night Experience\, Tulum\, Mexico
ATTACH;FMTTYPE=image/jpeg:https://yourkeyconcierge.com/wp-content/uploads/2026/01/694c33ea4c4ba1.73155795.jpg
END:VEVENT
BEGIN:VEVENT
DTSTART;TZID=America/Cancun:20260121T190000
DTEND;TZID=America/Cancun:20260122T010000
DTSTAMP:20260419T160646
CREATED:20260115T150652Z
LAST-MODIFIED:20260115T150652Z
UID:4915-1769022000-1769043600@yourkeyconcierge.com
SUMMARY:THIS. PLACE Tulum Residency at Vagalume | Electronic Music Night
DESCRIPTION:Vagalume presents: THIS. PLACE Tulum Residency\, making its debut at this.place on Wednesday\, January 21\, 2026\, at Vagalume Tulum.\nFrom 7:00 PM to 1:00 AM\, experience a powerful night of electronic music featuring an international lineup led by TABU (Kitsuné Musique)\, the Polish duo behind the viral “Dakiti” remix\, alongside RAIDHO (Sol Selectas)\, a global veteran of the electronic scene\, and RENATTA\, representing the vibrant local sound.\nExpect an immersive atmosphere\, cutting-edge music\, and Tulum’s signature energy in a venue designed for connection\, rhythm\, and style.\n🎟️ Tickets & VIP tables with bottle service available\n👗 Dress Code: Tulum Style\n🔞 Age: 18+\nBe part of the launch of THIS. PLACE in Tulum and experience a night where global talent meets local artistry.\n🎧 Lineup\nTABU (Kitsuné Musique)\nRAIDHO (Sol Selectas)\nRENATTA
URL:https://yourkeyconcierge.com/event/this-place-tulum-residency-at-vagalume-electronic-music-night/
LOCATION:Vagalume Tulum Beach Club – Day & Night Experience\, Tulum\, Mexico
ATTACH;FMTTYPE=image/jpeg:https://yourkeyconcierge.com/wp-content/uploads/2026/01/69379d8ea261e5.90469931.jpg
END:VEVENT
BEGIN:VEVENT
DTSTART;TZID=America/Cancun:20260121T220000
DTEND;TZID=America/Cancun:20260122T040000
DTSTAMP:20260419T160646
CREATED:20260115T150949Z
LAST-MODIFIED:20260115T150949Z
UID:4918-1769032800-1769054400@yourkeyconcierge.com
SUMMARY:Golden Tempo at Bonbonniere Tulum | Exclusive Night Experience
DESCRIPTION:Golden Tempo arrives at Bonbonniere Tulum on Wednesday\, January 21\, 2026\, for an exclusive late-night experience in one of Tulum’s most iconic luxury venues.\nStarting at 10:00 PM till late\, expect an elevated nightlife atmosphere defined by style\, energy\, and sophistication. This is a premium event designed for an upscale crowd\, featuring refined music\, world-class service\, and an elegant setting.\n👗 Dress Code: Formal (strictly enforced)\n🚫 No swimwear\, caps\, sandals\, or sports shorts\n🔞 Age: 18+\nSecure your tickets or VIP table and experience Tulum nightlife at its finest.
URL:https://yourkeyconcierge.com/event/golden-tempo-at-bonbonniere-tulum-exclusive-night-experience/
LOCATION:Bonbonniere Tulum\, Carretera Estatal Tulum–Boca Paila\, Parcela 1744-A\, Tulum\, Quintana Roo\, 777760\, Mexico
ATTACH;FMTTYPE=image/jpeg:https://yourkeyconcierge.com/wp-content/uploads/2026/01/6944510b50b260.15494510.jpg
END:VEVENT
END:VCALENDAR