BEGIN:VCALENDAR
VERSION:2.0
PRODID:-// - ECPv6.15.12.2//NONSGML v1.0//EN
CALSCALE:GREGORIAN
METHOD:PUBLISH
X-ORIGINAL-URL:https://yourkeyconcierge.com
X-WR-CALDESC:Events for 
REFRESH-INTERVAL;VALUE=DURATION:PT1H
X-Robots-Tag:noindex
X-PUBLISHED-TTL:PT1H
BEGIN:VTIMEZONE
TZID:America/Cancun
BEGIN:STANDARD
TZOFFSETFROM:-0500
TZOFFSETTO:-0500
TZNAME:EST
DTSTART:20250101T000000
END:STANDARD
END:VTIMEZONE
BEGIN:VEVENT
DTSTART;TZID=America/Cancun:20260119T130000
DTEND;TZID=America/Cancun:20260120T010000
DTSTAMP:20260419T160711
CREATED:20260112T174602Z
LAST-MODIFIED:20260112T174602Z
UID:4906-1768827600-1768870800@yourkeyconcierge.com
SUMMARY:Pablo Fierro Presents: We’re Here at Vagalume Tulum
DESCRIPTION:We’re Here arrives at Vagalume Tulum on Monday\, January 19\, 2026\, led by Pablo Fierro and joined by Monkey Safari\, Oui\, and Negrinm. A 12-hour journey of Afro-house and electronic rhythms where energy aligns\, boundaries fade\, and the unexpected takes over.\nSet within one of Tulum’s most iconic jungle venues\, this day-to-night experience blends music\, movement\, and connection under the Caribbean sky.\n📍 Vagalume Tulum\, Quintana Roo\n📅 Monday\, January 19\, 2026\n⏰ 1:00 PM – 1:00 AM\n🔞 18+\n👗 Dress Code: Tulum Style\n🍾 VIP Tables & Bottle Service Available\nSecure your tickets and experience We’re Here in Tulum.
URL:https://yourkeyconcierge.com/event/pablo-fierro-presents-were-here-at-vagalume-tulum/
LOCATION:Vagalume Tulum Beach Club – Day & Night Experience\, Tulum\, Mexico
ATTACH;FMTTYPE=image/jpeg:https://yourkeyconcierge.com/wp-content/uploads/2026/01/db_file_img_134205_1200xauto.jpg
END:VEVENT
BEGIN:VEVENT
DTSTART;TZID=America/Cancun:20260119T220000
DTEND;TZID=America/Cancun:20260120T030000
DTSTAMP:20260419T160711
CREATED:20260112T174818Z
LAST-MODIFIED:20260112T174818Z
UID:4909-1768860000-1768878000@yourkeyconcierge.com
SUMMARY:Technasia at Bonbonniere Tulum
DESCRIPTION:Technasia brings its signature underground sound to Bonbonniere Tulum on Monday\, January 19\, 2026\, for a refined late-night electronic music experience in one of Tulum’s most exclusive clubs.\nFrom 10:00 PM till late\, expect powerful grooves\, immersive sound\, and a sophisticated nightlife atmosphere\, with VIP tables available for an elevated night out.\n📍 Bonbonniere Tulum\, Quintana Roo\n🕙 From 10:00 PM\n🔞 18+\n👔 Dress Code: Formal (strictly enforced)\n🍾 VIP Tables Available\nSecure your tickets and experience Technasia live in Tulum.
URL:https://yourkeyconcierge.com/event/technasia-at-bonbonniere-tulum/
LOCATION:Bonbonniere Tulum\, Carretera Estatal Tulum–Boca Paila\, Parcela 1744-A\, Tulum\, Quintana Roo\, 777760\, Mexico
ATTACH;FMTTYPE=image/jpeg:https://yourkeyconcierge.com/wp-content/uploads/2026/01/db_file_img_135715_1200xauto.jpg
END:VEVENT
BEGIN:VEVENT
DTSTART;TZID=America/Cancun:20260120T130000
DTEND;TZID=America/Cancun:20260121T010000
DTSTAMP:20260419T160711
CREATED:20260115T150430Z
LAST-MODIFIED:20260115T150430Z
UID:4912-1768914000-1768957200@yourkeyconcierge.com
SUMMARY:Sasha at Vagalume Sessions Tulum | Electronic Music Experience
DESCRIPTION:Vagalume Sessions presents Sasha for an unforgettable electronic music experience in Tulum.\nOn Tuesday\, January 20\, 2026\, immerse yourself in a full-day journey of sound\, connection\, and rhythm at Vagalume Tulum\, set under the Caribbean sky.\nFrom 1:00 PM to 1:00 AM\, enjoy world-class electronic music with an international lineup led by Sasha\, alongside Hardt Antoine\, Neo Human\, and Nadi Cabbad. Experience the essence of Tulum’s music culture with a stylish crowd\, vibrant energy\, and premium production.\n🎟️ Tickets & VIP tables with bottle service available\n👗 Dress Code: Tulum Style\n🔞 Age: 18+\nJoin us and rediscover the magic of human connection through music at one of Tulum’s most iconic venues. \n🎧 Lineup\nSASHA\nHardt Antoine\nNeo Human\nNadi Cabbad
URL:https://yourkeyconcierge.com/event/sasha-at-vagalume-sessions-tulum-electronic-music-experience/
LOCATION:Vagalume Tulum Beach Club – Day & Night Experience\, Tulum\, Mexico
ATTACH;FMTTYPE=image/jpeg:https://yourkeyconcierge.com/wp-content/uploads/2026/01/694c33ea4c4ba1.73155795.jpg
END:VEVENT
END:VCALENDAR