BEGIN:VCALENDAR
VERSION:2.0
PRODID:-// - ECPv6.15.12.2//NONSGML v1.0//EN
CALSCALE:GREGORIAN
METHOD:PUBLISH
X-ORIGINAL-URL:https://yourkeyconcierge.com
X-WR-CALDESC:Events for 
REFRESH-INTERVAL;VALUE=DURATION:PT1H
X-Robots-Tag:noindex
X-PUBLISHED-TTL:PT1H
BEGIN:VTIMEZONE
TZID:Europe/Madrid
BEGIN:DAYLIGHT
TZOFFSETFROM:+0100
TZOFFSETTO:+0200
TZNAME:CEST
DTSTART:20250330T010000
END:DAYLIGHT
BEGIN:STANDARD
TZOFFSETFROM:+0200
TZOFFSETTO:+0100
TZNAME:CET
DTSTART:20251026T010000
END:STANDARD
BEGIN:DAYLIGHT
TZOFFSETFROM:+0100
TZOFFSETTO:+0200
TZNAME:CEST
DTSTART:20260329T010000
END:DAYLIGHT
BEGIN:STANDARD
TZOFFSETFROM:+0200
TZOFFSETTO:+0100
TZNAME:CET
DTSTART:20261025T010000
END:STANDARD
BEGIN:DAYLIGHT
TZOFFSETFROM:+0100
TZOFFSETTO:+0200
TZNAME:CEST
DTSTART:20270328T010000
END:DAYLIGHT
BEGIN:STANDARD
TZOFFSETFROM:+0200
TZOFFSETTO:+0100
TZNAME:CET
DTSTART:20271031T010000
END:STANDARD
END:VTIMEZONE
BEGIN:VTIMEZONE
TZID:America/Cancun
BEGIN:STANDARD
TZOFFSETFROM:-0500
TZOFFSETTO:-0500
TZNAME:EST
DTSTART:20250101T000000
END:STANDARD
END:VTIMEZONE
BEGIN:VEVENT
DTSTART;TZID=Europe/Madrid:20260113T190000
DTEND;TZID=Europe/Madrid:20260114T010000
DTSTAMP:20260419T160518
CREATED:20251210T230601Z
LAST-MODIFIED:20251210T230601Z
UID:4584-1768330800-1768352400@yourkeyconcierge.com
SUMMARY:ÀNIMS at Vagalume
DESCRIPTION:Experience one of the Riviera Maya’s most magical beachfront venues as ÀNIMS brings a powerful lineup of artists\, curated to deliver a deep\, emotional\, and immersive electronic showcase.\nThis year’s edition features an exceptional blend of global talent — Lorena\, Tim Engelhardt\, Yamagucci\, and Pole Position — each bringing signature sounds and unique energy to create a transformative night from start to finish.\nDance under the Tulum sky\, connect with the music\, and be part of a community-driven event known for its soulful atmosphere and artistic approach to electronic music.\n🎟 Tickets Available\nEarly Bird: $605 MXN\nFirst Release: $880 MXN\nSecond Release: $1\,210 MXN\nFinal Release: $1\,540 MXN\n🍾 VIP Tables & Bottle Service\nElevate your experience with exclusive bottle service packages:\nWhite Table — $49\,680 MXN\nGreen Table — $24\,840 MXN\nPink Table — $18\,630 MXN\nDinner Table — $7\,590 MXN\n📅 Event Time: 7:00 PM – 1:00 AM\n📍 Location: Vagalume Tulum\, Quintana Roo\n👗 Dress Code: Tulum Style \n✨ Join us at Vagalume for a magical night of music\, connection\, and dance. Secure your tickets to ÀNIMS and immerse yourself in a one-of-a-kind Tulum experience.
URL:https://yourkeyconcierge.com/event/anims-at-vagalume/
LOCATION:Vagalume Tulum Beach Club – Day & Night Experience\, Tulum\, Mexico
ATTACH;FMTTYPE=image/jpeg:https://yourkeyconcierge.com/wp-content/uploads/2025/12/db_file_img_134679_1200xauto.jpg
END:VEVENT
BEGIN:VEVENT
DTSTART;TZID=Europe/Madrid:20260113T190000
DTEND;TZID=Europe/Madrid:20260114T020000
DTSTAMP:20260419T160518
CREATED:20251226T235502Z
LAST-MODIFIED:20251226T235502Z
UID:4774-1768330800-1768356000@yourkeyconcierge.com
SUMMARY:Arena Lunar Guest Access: Santa Pirata (Win Butler & Paul Beaubrun of Arcade Fire) + Cosmo Gonik | Ikal Arena Tulum
DESCRIPTION:On January 13\, 2026\, Arena Lunar returns to Ikal Arena Tulum with a special Guest Access night featuring Santa Pirata — Win Butler & Paul Beaubrun of Arcade Fire — alongside DJ Cosmo Gonik for DJ Take Over Part 2.\nThis experience operates on a bar credit model: no cover fee\, your ticket value is fully redeemable toward drinks throughout the night. From sunset into the early hours\, expect adventurous DJ sets\, pirate energy\, and a free-flowing atmosphere guided by instinct\, rhythm\, and the pulse of the sea.\nA lunar night of discovery\, movement\, and connection under the Tulum sky.\n📅 Tuesday\, January 13\, 2026\n🕖 7:00 PM – 2:00 AM\n📍 Ikal Arena\, Tulum Hotel Zone (Km 4.2\, next to Habitas)\n🍸 Guest Access = Bar Credit | 21+
URL:https://yourkeyconcierge.com/event/arena-lunar-guest-access-santa-pirata-win-butler-paul-beaubrun-of-arcade-fire-cosmo-gonik-ikal-arena-tulum/
LOCATION:Arena\, Km. 4.2 Avenida Bocapaila\, Zona Hotelera\, Tulum\, Q.Roo\, 77780\, Mexico
ATTACH;FMTTYPE=image/jpeg:https://yourkeyconcierge.com/wp-content/uploads/2025/12/a3pgge0jhrxftxg5osyu-1.jpg
END:VEVENT
BEGIN:VEVENT
DTSTART;TZID=Europe/Madrid:20260113T220000
DTEND;TZID=Europe/Madrid:20260114T033000
DTSTAMP:20260419T160518
CREATED:20251210T231308Z
LAST-MODIFIED:20251210T231308Z
UID:4590-1768341600-1768361400@yourkeyconcierge.com
SUMMARY:Amazone Project @ Bonbonniere Tulum
DESCRIPTION:Get ready for an unforgettable night in the heart of Tulum as Amazone Project takes over the iconic Bonbonniere Tulum. Join us on Tuesday\, January 13th\, for a high-energy night filled with cutting-edge sounds\, luxury ambiance\, and the signature Bonbonniere nightlife experience.\nThis exclusive event brings together top talent\, a glamorous crowd\, and world-class production—making it one of the most anticipated parties of the season in Tulum.\n🎟️ Tickets\nTIER 1 — $1\,000 MXN (excl. fees)\n🍾 VIP Table Reservations\nSecure your premium nightlife experience with VIP bottle service:\nBackstage – $115\,000 MXN\nDiamond – $69\,000 MXN\nPlatinum – $46\,000 MXN\nGold – $34\,500 MXN\nSilver – $23\,000 MXN\nEach table includes bottle service and a designated guest capacity to enjoy the night in style.\n👗 Dress Code\nBonbonniere enforces a strict formal dress code.\nTo ensure entry\, please avoid:\nSwimsuits\nCaps\nSandals\nSport shorts\nDress to impress.
URL:https://yourkeyconcierge.com/event/amazone-project-bonbonniere-tulum/
LOCATION:Bonbonniere Tulum\, Carretera Estatal Tulum–Boca Paila\, Parcela 1744-A\, Tulum\, Quintana Roo\, 777760\, Mexico
ATTACH;FMTTYPE=image/jpeg:https://yourkeyconcierge.com/wp-content/uploads/2025/12/db_file_img_135114_1200xauto.jpg
END:VEVENT
BEGIN:VEVENT
DTSTART;TZID=Europe/Madrid:20260114T120000
DTEND;TZID=Europe/Madrid:20260115T003000
DTSTAMP:20260419T160518
CREATED:20251221T001155Z
LAST-MODIFIED:20251221T001155Z
UID:4692-1768392000-1768437000@yourkeyconcierge.com
SUMMARY:Iluminal II – Closing Season at UMI Tulum
DESCRIPTION:Iluminal II closes the season at UMI Tulum with a full-day underground gathering crafted for true dancefloor lovers. From warm daytime grooves to deep\, hypnotic night rhythms\, this final chapter delivers a refined musical journey shaped by precision\, texture\, and intention.\n📅 Wednesday\, January 14\, 2026\n🕛 12:00 PM – Late\n📍 UMI Tulum – Hotel Zone\n🔞 18+ | Limited capacity\nLineup Highlights:\nVery Special Guest (France) · Shonky · C.C (TDL) b2b J. Rojas · Lagunes Jr · M Lee · Etienne\n🎟️ Tickets on sale now. Early purchase strongly recommended.
URL:https://yourkeyconcierge.com/event/iluminal-ii-closing-season-at-umi-tulum/
LOCATION:UMI\, Carr. Tulum-Boca Paila Km 8.5\, Zona Hotelera Tulum\, Tulum\, Q.R.\, 77760\, Mexico
ATTACH;FMTTYPE=image/png:https://yourkeyconcierge.com/wp-content/uploads/2025/12/Captura-de-pantalla-2025-12-20-a-las-1.09.11-p.m.png
END:VEVENT
BEGIN:VEVENT
DTSTART;TZID=Europe/Madrid:20260114T150000
DTEND;TZID=Europe/Madrid:20260114T233000
DTSTAMP:20260419T160518
CREATED:20251227T224612Z
LAST-MODIFIED:20251227T224612Z
UID:4823-1768402800-1768433400@yourkeyconcierge.com
SUMMARY:La Playa: Tom Trago / Tiago Oudman b2b Toni Aparisi / Shoao at Nomade
DESCRIPTION:
URL:https://yourkeyconcierge.com/event/la-playa-tom-trago-tiago-oudman-b2b-toni-aparisi-shoao-at-nomade/
LOCATION:Nomade Tulum\, Tulum\, Mexico
ATTACH;FMTTYPE=image/png:https://yourkeyconcierge.com/wp-content/uploads/2025/12/Captura-de-pantalla-2025-12-27-a-las-11.41.45-a.m.png
END:VEVENT
BEGIN:VEVENT
DTSTART;TZID=Europe/Madrid:20260114T150000
DTEND;TZID=Europe/Madrid:20260115T010000
DTSTAMP:20260419T160518
CREATED:20251210T231459Z
LAST-MODIFIED:20251210T231459Z
UID:4592-1768402800-1768438800@yourkeyconcierge.com
SUMMARY:MAGIC CARPET @ Vagalume Tulum
DESCRIPTION:Step onto the MAGIC CARPET\, a musical journey inspired by freedom\, imagination\, and limitless possibilities. This signature Vagalume Tulum experience invites you to escape the ordinary and immerse yourself in a powerful fusion of sound\, energy\, and connection.\nLet the music guide you as top electronic artists deliver a night designed to transport you far beyond the expected—an unforgettable ride through melodies\, rhythms\, and hypnotic beats beneath the Tulum sky.\n✨ Lineup\nDORIAN CRAFT B2B BARON\nSOÑADORA\nLEONARDO B2B RAMI\nNEGRINM\n🎟️ Tickets\nEarly Bird: $605 MXN\nFirst Release: $880 MXN\nSecond Release: $1\,210 MXN\nFinal Release: $1\,540 MXN\n🍾 VIP Tables & Bottle Service\nExclusive table packages available:\nWhite Table — $49\,680 MXN\nGreen Table — $24\,840 MXN\nPink Table — $18\,630 MXN\nDinner Table — $7\,590 MXN
URL:https://yourkeyconcierge.com/event/magic-carpet-vagalume-tulum/
LOCATION:Vagalume Tulum Beach Club – Day & Night Experience\, Tulum\, Mexico
ATTACH;FMTTYPE=image/jpeg:https://yourkeyconcierge.com/wp-content/uploads/2025/12/68ff920f4643e4.66339643.jpg
END:VEVENT
BEGIN:VEVENT
DTSTART;TZID=America/Cancun:20260114T220000
DTEND;TZID=America/Cancun:20260115T030000
DTSTAMP:20260419T160518
CREATED:20260112T164020Z
LAST-MODIFIED:20260112T164020Z
UID:4886-1768428000-1768446000@yourkeyconcierge.com
SUMMARY:Damian Lazarus at Bonbonniere Tulum
DESCRIPTION:Damian Lazarus arrives at Bonbonniere Tulum for an exclusive late-night experience on Wednesday\, January 14\, 2026. One of the most influential figures in underground electronic music\, Lazarus delivers a hypnotic journey of deep house and techno in Tulum’s most sophisticated nightlife venue.\nExpect refined energy\, immersive sound\, and a high-end club atmosphere designed for true music lovers.\n📍 Bonbonniere Tulum\, Quintana Roo\n🕙 From 10:00 PM till late\n🔞 18+\n👔 Dress Code: Formal (strictly enforced)\n🍾 VIP Tables Available\nSecure your tickets and experience Damian Lazarus live in Tulum.
URL:https://yourkeyconcierge.com/event/damian-lazarus-at-bonbonniere-tulum/
LOCATION:Bonbonniere Tulum\, Carretera Estatal Tulum–Boca Paila\, Parcela 1744-A\, Tulum\, Quintana Roo\, 777760\, Mexico
ATTACH;FMTTYPE=image/jpeg:https://yourkeyconcierge.com/wp-content/uploads/2026/01/db_file_img_135283_1200xauto.jpg
END:VEVENT
END:VCALENDAR