BEGIN:VCALENDAR
VERSION:2.0
PRODID:-// - ECPv6.15.12.2//NONSGML v1.0//EN
CALSCALE:GREGORIAN
METHOD:PUBLISH
X-ORIGINAL-URL:https://yourkeyconcierge.com
X-WR-CALDESC:Events for 
REFRESH-INTERVAL;VALUE=DURATION:PT1H
X-Robots-Tag:noindex
X-PUBLISHED-TTL:PT1H
BEGIN:VTIMEZONE
TZID:Europe/Madrid
BEGIN:DAYLIGHT
TZOFFSETFROM:+0100
TZOFFSETTO:+0200
TZNAME:CEST
DTSTART:20250330T010000
END:DAYLIGHT
BEGIN:STANDARD
TZOFFSETFROM:+0200
TZOFFSETTO:+0100
TZNAME:CET
DTSTART:20251026T010000
END:STANDARD
BEGIN:DAYLIGHT
TZOFFSETFROM:+0100
TZOFFSETTO:+0200
TZNAME:CEST
DTSTART:20260329T010000
END:DAYLIGHT
BEGIN:STANDARD
TZOFFSETFROM:+0200
TZOFFSETTO:+0100
TZNAME:CET
DTSTART:20261025T010000
END:STANDARD
BEGIN:DAYLIGHT
TZOFFSETFROM:+0100
TZOFFSETTO:+0200
TZNAME:CEST
DTSTART:20270328T010000
END:DAYLIGHT
BEGIN:STANDARD
TZOFFSETFROM:+0200
TZOFFSETTO:+0100
TZNAME:CET
DTSTART:20271031T010000
END:STANDARD
END:VTIMEZONE
BEGIN:VTIMEZONE
TZID:America/Cancun
BEGIN:STANDARD
TZOFFSETFROM:-0500
TZOFFSETTO:-0500
TZNAME:EST
DTSTART:20250101T000000
END:STANDARD
END:VTIMEZONE
BEGIN:VEVENT
DTSTART;TZID=Europe/Madrid:20260112T130000
DTEND;TZID=Europe/Madrid:20260113T010000
DTSTAMP:20260419T160809
CREATED:20251210T225948Z
LAST-MODIFIED:20251210T225948Z
UID:4579-1768222800-1768266000@yourkeyconcierge.com
SUMMARY:JORIS VOORN & NIC FANCULLI: DISORDER at Vagalume Tulum
DESCRIPTION:Experience one of the most anticipated electronic music events of the season as Joris Voorn and Nic Fanciulli headline DISORDER at Vagalume Tulum on Monday\, January 12\, 2026\, from 1:00 PM to 1:00 AM.\nHeld in the iconic beachfront venue Vagalume Tulum\, this 12-hour gathering blends world-class melodic techno\, deep house\, and the signature Tulum vibe into an unforgettable daytime-to-night experience.\n🎧 About the Headliners\nJoris Voorn\, a global force in melodic techno\, brings masterful soundscapes shaped through his work with labels like Kompakt\, Rejected\, Green\, and Cocoon.\nNic Fanciulli\, founder of Saved Records\, delivers timeless house and techno grooves with the unmistakable signature that has marked his international career.\nTogether\, they unite two of the most respected visions in the electronic music scene.\n🔊 Supporting Lineup\nEnhancing the journey are top-tier supporting acts:\n• Sebastian Konrad\n• Miul\n• Negrinm\nExpect a powerful\, meticulously curated musical flow designed for true electronic music lovers.\n🎟 Tickets\nChoose your ticket tier before prices rise:\nEarly Bird: $880 MXN\nFirst Release: $1\,210 MXN\nSecond Release: $1\,540 MXN\nLast Release: $1\,870 MXN\nVIP tables with bottle service are available in multiple sections\, including Red\, Blue\, Orange\, Purple\, Yellow\, Green Table\, and Dinner Table options.
URL:https://yourkeyconcierge.com/event/joris-voorn-nic-fanculli-disorder-at-vagalume-tulum/
LOCATION:Vagalume Tulum Beach Club – Day & Night Experience\, Tulum\, Mexico
ATTACH;FMTTYPE=image/jpeg:https://yourkeyconcierge.com/wp-content/uploads/2025/12/db_file_img_134774_1200xauto.jpg
END:VEVENT
BEGIN:VEVENT
DTSTART;TZID=America/Cancun:20260112T190000
DTEND;TZID=America/Cancun:20260113T040000
DTSTAMP:20260419T160809
CREATED:20260112T163308Z
LAST-MODIFIED:20260112T163308Z
UID:4883-1768244400-1768276800@yourkeyconcierge.com
SUMMARY:PPP Presents: WIKKA at Papaya Playa Project Tulum
DESCRIPTION:WIKKA arrives at Papaya Playa Project on January 12\, 2026\, opening a living portal on the Caribbean shore. This immersive experience blends live music\, ritual performances\, and mystic characters into a night where intuition\, rhythm\, and connection guide the journey.\nFrom sunset onward\, step into a shared-frequency gathering designed to awaken inner magic\, dissolve boundaries\, and transform the dance floor into a sensorial ritual.\n📍 Papaya Playa Project\, Tulum\n📅 Monday\, January 12\, 2026\n⏰ From 7:00 PM\n🔞 18+\n✨ Mayan Dinner Experience\, Room Packages & Signature Cocktails Available\nCapacity is limited to preserve the intimacy of the experience. Secure your place and enter the world of WIKKA.
URL:https://yourkeyconcierge.com/event/ppp-presents-wikka-at-papaya-playa-project-tulum/
LOCATION:Papaya Playa Project
ATTACH;FMTTYPE=image/png:https://yourkeyconcierge.com/wp-content/uploads/2026/01/Captura-de-pantalla-2026-01-12-a-las-11.31.59-a.m.png
END:VEVENT
BEGIN:VEVENT
DTSTART;TZID=Europe/Madrid:20260112T220000
DTEND;TZID=Europe/Madrid:20260113T040000
DTSTAMP:20260419T160809
CREATED:20251210T230257Z
LAST-MODIFIED:20251210T230257Z
UID:4581-1768255200-1768276800@yourkeyconcierge.com
SUMMARY:Paco Osuna at Bonbonniere Tulum
DESCRIPTION:Get ready for an electrifying evening as one of the world’s top techno icons takes over one of Tulum’s most exclusive nightlife destinations. Doors open at 10:00 PM and the party continues till late\, bringing cutting-edge sound\, world-class production\, and the signature Bonbonniere luxury vibe.\nSecure your entrance with Tier 1 tickets (MEX $1\,000) or elevate the experience with premium table reservations\, including SILVER\, GOLD\, PLATINUM\, DIAMOND\, and BACKSTAGE options for you and your guests. Enjoy personalized service\, exclusive areas\, and the best view of the show.\nDress code: Formal\n(No swimwear\, caps\, sandals\, or sport shorts. Entry may be denied if dress code is not followed.)\nDon’t miss this high-energy techno experience during Tulum’s peak season. Book your tickets and tables now before they sell out.
URL:https://yourkeyconcierge.com/event/paco-osuna-at-bonbonniere-tulum/
LOCATION:Bonbonniere Tulum\, Carretera Estatal Tulum–Boca Paila\, Parcela 1744-A\, Tulum\, Quintana Roo\, 777760\, Mexico
ATTACH;FMTTYPE=image/jpeg:https://yourkeyconcierge.com/wp-content/uploads/2025/12/db_file_img_135124_1200xauto.jpg
END:VEVENT
BEGIN:VEVENT
DTSTART;TZID=Europe/Madrid:20260113T150000
DTEND;TZID=Europe/Madrid:20260113T233000
DTSTAMP:20260419T160809
CREATED:20251227T224244Z
LAST-MODIFIED:20251227T224254Z
UID:4817-1768316400-1768347000@yourkeyconcierge.com
SUMMARY:Nomade Anniversary: Acid Pauli / Julioo / LUM at Nomade
DESCRIPTION:
URL:https://yourkeyconcierge.com/event/nomade-anniversary-acid-pauli-julioo-lum/
LOCATION:Nomade Tulum\, Tulum\, Mexico
ATTACH;FMTTYPE=image/png:https://yourkeyconcierge.com/wp-content/uploads/2025/12/Captura-de-pantalla-2025-12-27-a-las-11.41.19-a.m.png
END:VEVENT
BEGIN:VEVENT
DTSTART;TZID=Europe/Madrid:20260113T190000
DTEND;TZID=Europe/Madrid:20260114T010000
DTSTAMP:20260419T160809
CREATED:20251210T230601Z
LAST-MODIFIED:20251210T230601Z
UID:4584-1768330800-1768352400@yourkeyconcierge.com
SUMMARY:ÀNIMS at Vagalume
DESCRIPTION:Experience one of the Riviera Maya’s most magical beachfront venues as ÀNIMS brings a powerful lineup of artists\, curated to deliver a deep\, emotional\, and immersive electronic showcase.\nThis year’s edition features an exceptional blend of global talent — Lorena\, Tim Engelhardt\, Yamagucci\, and Pole Position — each bringing signature sounds and unique energy to create a transformative night from start to finish.\nDance under the Tulum sky\, connect with the music\, and be part of a community-driven event known for its soulful atmosphere and artistic approach to electronic music.\n🎟 Tickets Available\nEarly Bird: $605 MXN\nFirst Release: $880 MXN\nSecond Release: $1\,210 MXN\nFinal Release: $1\,540 MXN\n🍾 VIP Tables & Bottle Service\nElevate your experience with exclusive bottle service packages:\nWhite Table — $49\,680 MXN\nGreen Table — $24\,840 MXN\nPink Table — $18\,630 MXN\nDinner Table — $7\,590 MXN\n📅 Event Time: 7:00 PM – 1:00 AM\n📍 Location: Vagalume Tulum\, Quintana Roo\n👗 Dress Code: Tulum Style \n✨ Join us at Vagalume for a magical night of music\, connection\, and dance. Secure your tickets to ÀNIMS and immerse yourself in a one-of-a-kind Tulum experience.
URL:https://yourkeyconcierge.com/event/anims-at-vagalume/
LOCATION:Vagalume Tulum Beach Club – Day & Night Experience\, Tulum\, Mexico
ATTACH;FMTTYPE=image/jpeg:https://yourkeyconcierge.com/wp-content/uploads/2025/12/db_file_img_134679_1200xauto.jpg
END:VEVENT
BEGIN:VEVENT
DTSTART;TZID=Europe/Madrid:20260113T190000
DTEND;TZID=Europe/Madrid:20260114T020000
DTSTAMP:20260419T160809
CREATED:20251226T235502Z
LAST-MODIFIED:20251226T235502Z
UID:4774-1768330800-1768356000@yourkeyconcierge.com
SUMMARY:Arena Lunar Guest Access: Santa Pirata (Win Butler & Paul Beaubrun of Arcade Fire) + Cosmo Gonik | Ikal Arena Tulum
DESCRIPTION:On January 13\, 2026\, Arena Lunar returns to Ikal Arena Tulum with a special Guest Access night featuring Santa Pirata — Win Butler & Paul Beaubrun of Arcade Fire — alongside DJ Cosmo Gonik for DJ Take Over Part 2.\nThis experience operates on a bar credit model: no cover fee\, your ticket value is fully redeemable toward drinks throughout the night. From sunset into the early hours\, expect adventurous DJ sets\, pirate energy\, and a free-flowing atmosphere guided by instinct\, rhythm\, and the pulse of the sea.\nA lunar night of discovery\, movement\, and connection under the Tulum sky.\n📅 Tuesday\, January 13\, 2026\n🕖 7:00 PM – 2:00 AM\n📍 Ikal Arena\, Tulum Hotel Zone (Km 4.2\, next to Habitas)\n🍸 Guest Access = Bar Credit | 21+
URL:https://yourkeyconcierge.com/event/arena-lunar-guest-access-santa-pirata-win-butler-paul-beaubrun-of-arcade-fire-cosmo-gonik-ikal-arena-tulum/
LOCATION:Arena\, Km. 4.2 Avenida Bocapaila\, Zona Hotelera\, Tulum\, Q.Roo\, 77780\, Mexico
ATTACH;FMTTYPE=image/jpeg:https://yourkeyconcierge.com/wp-content/uploads/2025/12/a3pgge0jhrxftxg5osyu-1.jpg
END:VEVENT
BEGIN:VEVENT
DTSTART;TZID=Europe/Madrid:20260113T220000
DTEND;TZID=Europe/Madrid:20260114T033000
DTSTAMP:20260419T160809
CREATED:20251210T231308Z
LAST-MODIFIED:20251210T231308Z
UID:4590-1768341600-1768361400@yourkeyconcierge.com
SUMMARY:Amazone Project @ Bonbonniere Tulum
DESCRIPTION:Get ready for an unforgettable night in the heart of Tulum as Amazone Project takes over the iconic Bonbonniere Tulum. Join us on Tuesday\, January 13th\, for a high-energy night filled with cutting-edge sounds\, luxury ambiance\, and the signature Bonbonniere nightlife experience.\nThis exclusive event brings together top talent\, a glamorous crowd\, and world-class production—making it one of the most anticipated parties of the season in Tulum.\n🎟️ Tickets\nTIER 1 — $1\,000 MXN (excl. fees)\n🍾 VIP Table Reservations\nSecure your premium nightlife experience with VIP bottle service:\nBackstage – $115\,000 MXN\nDiamond – $69\,000 MXN\nPlatinum – $46\,000 MXN\nGold – $34\,500 MXN\nSilver – $23\,000 MXN\nEach table includes bottle service and a designated guest capacity to enjoy the night in style.\n👗 Dress Code\nBonbonniere enforces a strict formal dress code.\nTo ensure entry\, please avoid:\nSwimsuits\nCaps\nSandals\nSport shorts\nDress to impress.
URL:https://yourkeyconcierge.com/event/amazone-project-bonbonniere-tulum/
LOCATION:Bonbonniere Tulum\, Carretera Estatal Tulum–Boca Paila\, Parcela 1744-A\, Tulum\, Quintana Roo\, 777760\, Mexico
ATTACH;FMTTYPE=image/jpeg:https://yourkeyconcierge.com/wp-content/uploads/2025/12/db_file_img_135114_1200xauto.jpg
END:VEVENT
END:VCALENDAR