BEGIN:VCALENDAR
VERSION:2.0
PRODID:-// - ECPv6.15.12.2//NONSGML v1.0//EN
CALSCALE:GREGORIAN
METHOD:PUBLISH
X-ORIGINAL-URL:https://yourkeyconcierge.com
X-WR-CALDESC:Events for 
REFRESH-INTERVAL;VALUE=DURATION:PT1H
X-Robots-Tag:noindex
X-PUBLISHED-TTL:PT1H
BEGIN:VTIMEZONE
TZID:Europe/Madrid
BEGIN:DAYLIGHT
TZOFFSETFROM:+0100
TZOFFSETTO:+0200
TZNAME:CEST
DTSTART:20250330T010000
END:DAYLIGHT
BEGIN:STANDARD
TZOFFSETFROM:+0200
TZOFFSETTO:+0100
TZNAME:CET
DTSTART:20251026T010000
END:STANDARD
BEGIN:DAYLIGHT
TZOFFSETFROM:+0100
TZOFFSETTO:+0200
TZNAME:CEST
DTSTART:20260329T010000
END:DAYLIGHT
BEGIN:STANDARD
TZOFFSETFROM:+0200
TZOFFSETTO:+0100
TZNAME:CET
DTSTART:20261025T010000
END:STANDARD
BEGIN:DAYLIGHT
TZOFFSETFROM:+0100
TZOFFSETTO:+0200
TZNAME:CEST
DTSTART:20270328T010000
END:DAYLIGHT
BEGIN:STANDARD
TZOFFSETFROM:+0200
TZOFFSETTO:+0100
TZNAME:CET
DTSTART:20271031T010000
END:STANDARD
END:VTIMEZONE
BEGIN:VTIMEZONE
TZID:America/Cancun
BEGIN:STANDARD
TZOFFSETFROM:-0500
TZOFFSETTO:-0500
TZNAME:EST
DTSTART:20250101T000000
END:STANDARD
END:VTIMEZONE
BEGIN:VEVENT
DTSTART;TZID=Europe/Madrid:20260101T120000
DTEND;TZID=Europe/Madrid:20260102T010000
DTSTAMP:20260419T160647
CREATED:20251129T092136Z
LAST-MODIFIED:20251129T092136Z
UID:4283-1767268800-1767315600@yourkeyconcierge.com
SUMMARY:ACUARIO – SONASCRIBE @ MÍA TULUM
DESCRIPTION:January 1\, 2026 · 12:00 PM – 11:00 PM · Ages 18+ \nStart the year where the ocean meets the music. On January 1st\, Mía Tulum and Sonascribe present ACUARIO — a daytime celebration of flow\, renewal\, rhythm\, and connection. As the first sun of 2026 rises over the Caribbean\, the beach becomes a sanctuary of sound and energy\, setting the tone for your entire year ahead. \nFrom noon until sunset and beyond\, immerse yourself in uplifting melodies\, hypnotic beats\, and that unmistakable Mía vibe: breezy\, vibrant\, and effortlessly magical. Dance barefoot in the sand\, toast to new beginnings\, and let the waves wash in a fresh cycle of inspiration. \nThis is how you welcome 2026. \nThis is ACUARIO. 🌊 \n🎶 LINEUP \nALFRED BECK\nPATO SHOUCAIR\nMARIO EIGHTA\nESCOTO\nCORCUERA \n🎫 Tickets \nEarly Bird — $1\,150 MXN (Exc. fees)\nTier 1 — $1\,725 MXN (Exc. fees)\nFinal Tier — $2\,300 MXN (Exc. fees) \n🥂 VIP Lounges & Premium Spaces \nOceanfront VIP Lounges — $55\,200 MXN\nOceanfront Sunbeds — $34\,500 MXN\nDJ’s Backstage Lounges — $27\,600 MXN\nBalinese Beds — $27\,600 MXN\nOceanfront Dining Room — $11\,500 MXN\nOceanview Dining Room — $9\,200 MXN \nEach space offers premium comfort\, curated views\, and an elevated experience unique to Mía Tulum. \n📍 Venue \nMía Beach Club & Resort — Tulum\, Quintana Roo \nA beachfront destination known for its refined atmosphere\, sunset rituals\, and world-class electronic music programming. \n🕒 Event Schedule \nJanuary 1st\n12:00 PM – 11:00 PM \nA full-day celebration of music\, movement\, and renewal.
URL:https://yourkeyconcierge.com/event/acuario-sonascribe-mia-tulum/
LOCATION:Mia Beach Club Tulum\, Tulum\, 777760\, Mexico
ATTACH;FMTTYPE=image/png:https://yourkeyconcierge.com/wp-content/uploads/2025/11/mia-acuario.png
END:VEVENT
BEGIN:VEVENT
DTSTART;TZID=Europe/Madrid:20260101T130000
DTEND;TZID=Europe/Madrid:20260102T010000
DTSTAMP:20260419T160647
CREATED:20251129T092431Z
LAST-MODIFIED:20251129T092903Z
UID:4286-1767272400-1767315600@yourkeyconcierge.com
SUMMARY:VISIONARI @ VAGALUME TULUM
DESCRIPTION:January 1\, 2026 · 1:00 PM – 1:00 AM · Ages 18+ \nVagalume opens the new year with VISIONARI\, a daytime-to-night experience designed to ignite inspiration\, movement\, and connection. After a year of transformation\, the Visionari collective returns to Tulum’s iconic beachfront sanctuary for a full-day celebration of rhythm\, creativity\, and community. \nFeel the pulse of the jungle\, the warmth of the Caribbean sun\, and the energy of a global crowd as world-class artists guide you through a powerful musical journey. From soulful grooves to expansive melodic soundscapes\, each performance is crafted to move both body and spirit. \nLimited capacity — reserve early and step into the first chapter of 2026 with Visionari. \n🎶 LINEUP \nOLIVER KOLETZKI\nLEMURIAN b2b ETNA\nFRIDA DARKO\nJOEL KIM\nÁNGEL-A\nADIB \n🎫 Tickets \nEarly Bird — $880 MXN (Inc. fees)\nFirst Release — $1\,210 MXN (Inc. fees)\nSecond Release — $1\,540 MXN (Inc. fees)\nLast Release — $1\,870 MXN (Inc. fees) \n🍾 VIP Tables \nRed Table — $111\,780 MXN\nBlue Table — $86\,940 MXN\nOrange Table — $62\,100 MXN\nPurple Table — $49\,680 MXN\nYellow Table — $37\,260 MXN\nGreen Table — $24\,840 MXN\nDinner Table — $7\,590 MXN \nPremium beachfront views\, dedicated service\, and an elevated experience throughout the event. \n📍 Venue \nVagalume Tulum – Tulum\, Quintana Roo \nWhere the jungle meets the sea and music meets magic. \n🕒 Schedule \nJanuary 1st\n1:00 PM – 1:00 AM \nA full 12-hour experience to welcome 2026 in true Tulum fashion.
URL:https://yourkeyconcierge.com/event/visionari-vagalume-tulum/
LOCATION:Mia Beach Club Tulum\, Tulum\, 777760\, Mexico
ATTACH;FMTTYPE=image/jpeg:https://yourkeyconcierge.com/wp-content/uploads/2025/11/visionari.jpg
END:VEVENT
BEGIN:VEVENT
DTSTART;TZID=Europe/Madrid:20260102T100000
DTEND;TZID=Europe/Madrid:20260103T060000
DTSTAMP:20260419T160647
CREATED:20251129T064156Z
LAST-MODIFIED:20251129T064156Z
UID:4171-1767348000-1767420000@yourkeyconcierge.com
SUMMARY:David Guetta at Zamna Tulum
DESCRIPTION:January 2\, 2026 — 10:00 PM\nVenue: Zamna Tulum\, Quintana Roo\, Mexico\nAges 18+ \nOne of the world’s most influential electronic artists returns to Zamna Tulum for one of the most anticipated nights of the season. After an unforgettable performance last year\, David Guetta is back on January 2\, 2026\, ready to ignite the jungle with his explosive energy\, massive anthems\, and unmatched stage presence. \nThis night will reaffirm why Zamna is considered one of the top electronic music destinations in the world—a place where global stars\, cutting-edge production\, and the power of the jungle converge. \n🎧 ABOUT THE EVENT \nFrom global chart-toppers to festival-shaking drops\, David Guetta continues to lead the world of electronic and dance music. His return to Zamna promises a night of emotional highs\, heavy bass\, and euphoric moments set against the iconic Tulum jungle atmosphere. \nThe perfect fusion of sound\, nature\, and energy awaits. \n🎶 FULL LINEUP \nDavid Guetta (Headliner) \nZamna Soundsystem \nMassano \nRAMI \nMëstiza \nASAL \nA powerful blend of global icons and cutting-edge artists setting the tone for an unforgettable night. \n🎟️ TICKET OPTIONS\nGeneral Admission \n• Second Release – 140 USD\n(Last units) \nVIP Access \n• First Release – 250 USD\nIncludes: \nPriority entry \nExclusive lounge area \nVIP restrooms \nBottle service available \nBackstage Experience \n• Early Bird – 2\,196 USD\nBackstage is the most premium way to experience the event—offering the closest proximity to the artists\, curated hospitality\, and unmatched view of Zamna’s incredible stage production. \n🏨 HOTEL PACKAGES \nComplete your night with the ease of curated accommodations: \n🏝️ Zamna Hotel – Cabanas inside the festival area\n🏨 Na’ala Hotel – 4-star boutique hotel\, Aldea Zama\n🏨 Holiday Inn Tulum – 3-star modern comfort near the venue \nStay close\, stay comfortable\, and stay immersed in the Zamna atmosphere. \n🌙 THE ZAMNA EXPERIENCE \nZamna is more than a festival—it is a world within a world. Expect: \n✨ Monumental jungle stage design\n✨ Immersive light & laser architecture\n✨ Grand-scale production\n✨ A united global crowd\n✨ Energy that elevates long after the night ends \nThis is Tulum’s most electrifying season—and this night is one of its defining moments. \n🔥 JANUARY 2\, 2026 – A NIGHT THAT DEFINES THE SEASON \nJoin thousands of music lovers for a massive night led by one of electronic music’s greatest icons.\nBegin 2026 in the jungle—present\, alive\, and surrounded by sound. \n👉 Tickets are selling fast. Secure your spot now.
URL:https://yourkeyconcierge.com/event/david-guetta-at-zamna-tulum/
LOCATION:Zamna Tulum\, Tulum\, Mexico
ATTACH;FMTTYPE=image/png:https://yourkeyconcierge.com/wp-content/uploads/2025/11/020126-Zamna-TULUM-line-up-square.png
END:VEVENT
BEGIN:VEVENT
DTSTART;TZID=Europe/Madrid:20260102T120000
DTEND;TZID=Europe/Madrid:20260102T230000
DTSTAMP:20260419T160647
CREATED:20251210T004307Z
LAST-MODIFIED:20251221T003532Z
UID:4507-1767355200-1767394800@yourkeyconcierge.com
SUMMARY:PISCIS – OFF at Mía Tulum
DESCRIPTION:Start the New Year in perfect flow.\nOn January 2\, 2026\, Mía Beach Club & Resort and OFF present PISCIS\, the third chapter in a 12-sign zodiac journey—an immersive daytime experience inspired by intuition\, movement\, and the fluid energy of water.\nSet on the shores of Tulum’s iconic coastline\, PISCIS transforms the beach into a world of dreamy rhythms\, emotional depth\, and pure connection. From 12 PM to sunset\, let yourself be carried by deep melodic waves curated by an exceptional lineup:\n🌊 Confirmed Artists\nBautista – Soulful\, organic\, warm house grooves\nDmitri Saidi – Mexico’s rising House & Tech House powerhouse\nThe Funk District – Funk\, soul\, disco and afro-inspired movement\nDouble Vie & Carballo – Deep\, rhythmic energy made for dancing\n✨ EVENT EXPERIENCE\nAs the tides shift and the year resets\, PISCIS invites you to release\, reconnect\, and move with intention.\nFeel the ocean at your feet\, sun on your skin\, and music flowing through every moment.\nPisces is sensitivity.\nPisces is intuition.\nPisces is rhythm that touches the soul.\nWelcome 2026 through music\, waves\, and shared energy—this is your ritual of renewal.\n📍 EVENT DETAILS\n📅 Date: Friday\, January 2\, 2026\n⏰ Time: 12 PM – 11 PM\n📌 Location: Mía Beach Club & Resort\, Tulum\, Quintana Roo\n👥 Ages: 18+\n🎟️ TICKETS\nGeneral Admission\nEarly Bird: $1\,150 MXN\nTier 1: $1\,725 MXN\nFinal Tier: $2\,300 MXN\nTable Reservations\nOceanfront VIP Lounges: $55\,200 MXN\nOceanfront Sunbeds: $34\,500 MXN\nDJ’s Backstage Lounges: $27\,600 MXN\nBalinese Beds: $27\,600 MXN\nOceanfront Dining Room: $11\,500 MXN\nOceanview Dining Room: $9\,200 MXN\nPrices exclude service fees. All reservations include premium hospitality and dedicated service.\n🌊 ARTIST SPOTLIGHT\nBautista\nColombian DJ with 17+ years shaping the evolution of house. Known for deep\, soulful\, and fluid sets that create warm\, natural connection on every dancefloor.\nDmitri Saidi\nOne of Mexico’s top House & Tech House producers. With global chart success and support from Jamie Jones\, Solardo\, Paco Osuna & more\, Dmitri brings high-impact rhythm and dynamic energy.\nThe Funk District\nInternationally recognized for blending funk\, soul\, disco\, and Afro influences. Known for groove-heavy sets driven by rhythm\, nostalgia\, and movement.
URL:https://yourkeyconcierge.com/event/piscis-off-at-mia-tulum/
LOCATION:Mia Beach Club Tulum\, Tulum\, 777760\, Mexico
ATTACH;FMTTYPE=image/png:https://yourkeyconcierge.com/wp-content/uploads/2025/12/45a5a4a1-09c7-41db-a349-e33705e3caef.png
END:VEVENT
BEGIN:VEVENT
DTSTART;TZID=Europe/Madrid:20260102T130000
DTEND;TZID=Europe/Madrid:20260103T010000
DTSTAMP:20260419T160647
CREATED:20251129T093841Z
LAST-MODIFIED:20251129T093841Z
UID:4291-1767358800-1767402000@yourkeyconcierge.com
SUMMARY:MAGNIFIK at Vagalume Tulum
DESCRIPTION:January 2\, 2026 · 1:00 PM – 1:00 AM · Ages 18+ \nVagalume opens 2026 with MAGNIFIK\, the signature imprint of Samm and Ajna — a label defined by refined grooves\, deep textures\, and a distinctly intentional sound. Every performance on this lineup reflects the artistic identity of the brand: precise\, immersive\, and built to create connection on the dancefloor. \nExpect an all-day journey shaped by melodic tension\, understated energy\, and the magic of Tulum’s jungle-meets-sea atmosphere. This is a showcase crafted for true music lovers — one where every moment feels curated. \nCapacity is limited. Secure your place and step into the world of MAGNIFIK. \n🎶 LINEUP \nAJNA b2b SAMM\nLUCH\nXANDRO\nNEGRINM\nMIUL \n🎫 Tickets \nEarly Bird — $880 MXN (Inc. fees)\nFirst Release — $1\,210 MXN (Inc. fees)\nSecond Release — $1\,540 MXN (Inc. fees)\nLast Release — $1\,870 MXN (Inc. fees) \n🍾 VIP Tables \nRed Table — $111\,780 MXN\nBlue Table — $86\,940 MXN\nOrange Table — $62\,100 MXN\nPurple Table — $49\,680 MXN\nYellow Table — $37\,260 MXN\nGreen Table — $24\,840 MXN\nDinner Table — $7\,590 MXN \nPremium placement\, elevated views\, and dedicated service throughout the event. \n📍 Venue \nVagalume Tulum – Tulum\, Quintana Roo \nAn iconic beachfront playground where music\, art\, and nature merge into one. \n🕒 Schedule \nJanuary 2nd\n1:00 PM – 1:00 AM \nA full 12-hour MAGNIFIK experience to open the year with intention and rhythm.
URL:https://yourkeyconcierge.com/event/magnifik-at-vagalume-tulum/
LOCATION:Vagalume Tulum Beach Club – Day & Night Experience\, Tulum\, Mexico
ATTACH;FMTTYPE=image/jpeg:https://yourkeyconcierge.com/wp-content/uploads/2025/11/magnifik.jpg
END:VEVENT
BEGIN:VEVENT
DTSTART;TZID=Europe/Madrid:20260102T150000
DTEND;TZID=Europe/Madrid:20260103T233000
DTSTAMP:20260419T160647
CREATED:20251227T012740Z
LAST-MODIFIED:20251227T012740Z
UID:4784-1767366000-1767483000@yourkeyconcierge.com
SUMMARY:La Playa: Yamagucci / Julioo / Badaoui at Nomade
DESCRIPTION:
URL:https://yourkeyconcierge.com/event/la-playa-yamagucci-julioo-badaoui-at-nomade/
LOCATION:Nomade Tulum\, Tulum\, Mexico
ATTACH;FMTTYPE=image/png:https://yourkeyconcierge.com/wp-content/uploads/2025/12/Captura-de-pantalla-2025-12-26-a-las-2.26.17-p.m.png
END:VEVENT
BEGIN:VEVENT
DTSTART;TZID=Europe/Madrid:20260102T160000
DTEND;TZID=Europe/Madrid:20260102T233000
DTSTAMP:20260419T160647
CREATED:20251210T005048Z
LAST-MODIFIED:20251210T230922Z
UID:4510-1767369600-1767396600@yourkeyconcierge.com
SUMMARY:CLOONEE at Bagatelle Tulum – Sunset Sessions
DESCRIPTION:Join us for one of the most anticipated events of the new year as Bagatelle Tulum presents CLOONEE on January 2nd\, 2026. Step into an afternoon of cutting-edge house music\, premium atmosphere\, and Tulum’s unmistakable coastal magic—right where the jungle meets the Caribbean Sea.\n🌅 A Signature Bagatelle Sunset Session\nFrom the moment doors open at 4:00 PM\, experience a refined fusion of seaside luxury\, international talent\, and elevated vibes. As the sun sets over Tulum\, Cloonee—global house heavyweight and festival favorite—delivers an exclusive performance designed to ignite the 2026 season.\nExpect:\nWorld-class house music curated by Cloonee\nA stylish\, chic beachfront setting\nAn immersive vibe where music\, culture\, and nature collide\nA sophisticated crowd ready to celebrate the new year in iconic Tulum fashion\n🎵 About CLOONEE\nCloonee has risen to the top of the global house scene with chart-topping releases\, viral dance-floor anthems\, and performances across the world’s leading festivals. His sound blends infectious grooves with modern underground energy—perfectly suited for Bagatelle’s legendary Sunset Sessions.\n🍾 VIP Tables & Bottle Service\nElevate your experience with VIP bottle service packages designed for groups looking for premium comfort and exclusive spaces:\nBackstage VIP\nLounge Tables\nCabanas\nEach option includes dedicated service\, premium views\, and the perfect setting to enjoy Cloonee’s performance.\n👗 Dress Code\nFresh • Chic • Effortlessly Elegant\nInspired by Tulum’s iconic beach-luxury aesthetic.\n📍 Event Details\nDate: Friday\, January 2\, 2026\nTime: 4:00 PM – Late\nVenue: Bagatelle Tulum\, Quintana Roo\nAge: 18+ only\nStart the year with one of Tulum’s most stylish gatherings—where music\, fashion\, and coastal energy come together for an unforgettable experience.
URL:https://yourkeyconcierge.com/event/cloonee-at-bagatelle-tulum-sunset-sessions/
LOCATION:Bagatelle Tulum
ATTACH;FMTTYPE=image/png:https://yourkeyconcierge.com/wp-content/uploads/2025/12/0a301453-d210-4dfc-be8e-556d30421ac0.png
END:VEVENT
BEGIN:VEVENT
DTSTART;TZID=America/Cancun:20260102T180000
DTEND;TZID=America/Cancun:20260103T010000
DTSTAMP:20260419T160647
CREATED:20251210T005452Z
LAST-MODIFIED:20251210T212130Z
UID:4513-1767376800-1767402000@yourkeyconcierge.com
SUMMARY:GITANO Jungle – Gypsy Disco Friday Night Experience
DESCRIPTION:Step into the magic of Tulum’s most iconic Friday night party — Gypsy Disco at GITANO Jungle.\nA signature blend of Modern Mexican dining\, mezcal cocktails\, disco glamour\, and jungle nightlife\, this immersive experience transforms your evening from dinner under the palms into a vibrant\, late-night celebration.\nBegin your night with a candlelit dinner surrounded by lush tropical greenery. Enjoy smoky mezcal creations\, refined cuisine\, and the unmistakable GITANO atmosphere. As the night evolves\, the energy rises with:\n✨ Exclusive GITANO cabaret performances\n🎧 International DJs & curated jungle-disco sounds\n💡 Shimmering disco lights & our legendary disco ball\n💃 A dance floor alive beneath the jungle canopy \nFor guests looking for an elevated celebration\, bottle service brings the party to your table\, offering a premium nightlife experience as Gypsy Disco reaches its peak.\nImportant Information\nTables are yours for the entire night\nDinner seating available from 6:00 PM – 11:00 PM\nEnsure your full group size is included in the reservation to be seated together\nGratuity not included\nJoin us for a night of music\, mezcal\, glamour\, and unforgettable moments in the heart of Tulum’s jungle. \n✅ Event Details (for sidebar / details section)\nDate: Friday\, January 2\, 2026\nTime: 6:00 PM – Late\nVenue: GITANO Jungle\, Tulum\, Quintana Roo\nAge: All ages welcome\nExperiences Available:\nCover / Skip The Line\nGroup Dinner (6+ guests)\nBottles & Bites (4+ guests)\nVIP Gypsy Disco (4+ guests) \n🎟 Ticket Options\nCover / Skip The Line – MX$1\,100\nGroup Dinner – From MX$18\,792 (min. 6 guests)\nBottles & Bites – From MX$17\,280 (min. 4 guests)\nVIP Gypsy Disco – From MX$25\,920 (min. 4 guests)
URL:https://yourkeyconcierge.com/event/gitano-jungle-gypsy-disco-friday-night-experience/
LOCATION:GITANO Jungle
ATTACH;FMTTYPE=image/png:https://yourkeyconcierge.com/wp-content/uploads/2025/12/1678a6c5-e913-4059-b5af-0a734aac243b.png
END:VEVENT
BEGIN:VEVENT
DTSTART;TZID=Europe/Madrid:20260102T220000
DTEND;TZID=Europe/Madrid:20260103T040000
DTSTAMP:20260419T160647
CREATED:20251222T231245Z
LAST-MODIFIED:20251222T231245Z
UID:4725-1767391200-1767412800@yourkeyconcierge.com
SUMMARY:Dubfire B2B Nicole Moudaber at Bonbonniere Tulum
DESCRIPTION:Two global techno icons unite for an exclusive back-to-back set as Dubfire B2B Nicole Moudaber take over Bonbonniere Tulum. Experience a powerful night of cutting-edge sound\, refined ambiance\, and elite nightlife in one of Tulum’s most iconic venues.\nThis is a must-attend event for true electronic music lovers\, featuring premium production\, VIP table service\, and a strictly curated atmosphere.\n📅 Friday\, January 2\, 2026\n🕙 10:00 PM – Late\n📍 Bonbonniere Tulum\, Quintana Roo\n🔞 18+\n👔 Formal Dress Code (Strictly Enforced)\n🍾 VIP Tables & Bottle Service Available
URL:https://yourkeyconcierge.com/event/dubfire-b2b-nicole-moudaber-at-bonbonniere-tulum/
LOCATION:Bonbonniere Tulum\, Carretera Estatal Tulum–Boca Paila\, Parcela 1744-A\, Tulum\, Quintana Roo\, 777760\, Mexico
ATTACH;FMTTYPE=image/jpeg:https://yourkeyconcierge.com/wp-content/uploads/2025/12/6938b7c9caace3.90526440.jpg
END:VEVENT
END:VCALENDAR