BEGIN:VCALENDAR
VERSION:2.0
PRODID:-// - ECPv6.15.12.2//NONSGML v1.0//EN
CALSCALE:GREGORIAN
METHOD:PUBLISH
X-ORIGINAL-URL:https://yourkeyconcierge.com
X-WR-CALDESC:Events for 
REFRESH-INTERVAL;VALUE=DURATION:PT1H
X-Robots-Tag:noindex
X-PUBLISHED-TTL:PT1H
BEGIN:VTIMEZONE
TZID:Europe/Madrid
BEGIN:DAYLIGHT
TZOFFSETFROM:+0100
TZOFFSETTO:+0200
TZNAME:CEST
DTSTART:20240331T010000
END:DAYLIGHT
BEGIN:STANDARD
TZOFFSETFROM:+0200
TZOFFSETTO:+0100
TZNAME:CET
DTSTART:20241027T010000
END:STANDARD
BEGIN:DAYLIGHT
TZOFFSETFROM:+0100
TZOFFSETTO:+0200
TZNAME:CEST
DTSTART:20250330T010000
END:DAYLIGHT
BEGIN:STANDARD
TZOFFSETFROM:+0200
TZOFFSETTO:+0100
TZNAME:CET
DTSTART:20251026T010000
END:STANDARD
BEGIN:DAYLIGHT
TZOFFSETFROM:+0100
TZOFFSETTO:+0200
TZNAME:CEST
DTSTART:20260329T010000
END:DAYLIGHT
BEGIN:STANDARD
TZOFFSETFROM:+0200
TZOFFSETTO:+0100
TZNAME:CET
DTSTART:20261025T010000
END:STANDARD
END:VTIMEZONE
BEGIN:VEVENT
DTSTART;TZID=Europe/Madrid:20251224T220000
DTEND;TZID=Europe/Madrid:20251228T030000
DTSTAMP:20260419T175428
CREATED:20251221T221023Z
LAST-MODIFIED:20251221T221115Z
UID:4713-1766613600-1766890800@yourkeyconcierge.com
SUMMARY:Xmas Party: Ephimera x Deeplomatic
DESCRIPTION:Ephimera x Deeplomatic unite for a one-night-only Christmas Party that goes beyond tradition. No clichés\, no filler — just music with intent\, a curated crowd and an atmosphere that only happens once a year.\nFrom 10:00 PM till late\, experience two stages of underground sound featuring a hand-picked lineup of local and international selectors\, immersive energy and a setting designed for those who know why they’re there.\n📅 Wednesday\, December 24\, 2025\n🕙 10:00 PM – Late\n📍 Secret Location – Jacinto Pat\, Quintana Roo\n🔞 21+ | ID Required\n🚐 Free Shuttle Service Available\n🎟 Limited Capacity | Locals Discount with ID\nTables and Absolut Christmas packages available.
URL:https://yourkeyconcierge.com/event/xmas-party-ephimera-x-deeplomatic/
LOCATION:Cenote venue Tulum Jungle
ATTACH;FMTTYPE=image/png:https://yourkeyconcierge.com/wp-content/uploads/2025/12/Captura-de-pantalla-2025-12-21-a-las-11.09.07-a.m.png
END:VEVENT
BEGIN:VEVENT
DTSTART;TZID=Europe/Madrid:20251227T030000
DTEND;TZID=Europe/Madrid:20251228T010000
DTSTAMP:20260419T175428
CREATED:20251129T074418Z
LAST-MODIFIED:20251129T074418Z
UID:4225-1766804400-1766883600@yourkeyconcierge.com
SUMMARY:MITA GAMI x SINNER @ Vagalume Tulum
DESCRIPTION:Saturday\, December 27\, 2025 – 3:00 PM to 1:00 AM\nVagalume Tulum – Ages 18+ \nSINNER returns for its fourth season\, bringing back Tulum’s most seductive Saturday experience. Created by DJs and producers VITE and Miganova\, SINNER blends music\, art\, and atmosphere into a boutique party that elevates every sense. \nThis edition features a special guest: MITA GAMI\, bringing deep grooves\, hypnotic textures\, and a sound that transforms Vagalume into a playground of rhythm and temptation. \nEvery detail of the night is crafted to immerse you—from curated lighting and signature aesthetics to the iconic beachfront energy of Vagalume Tulum. \n🎶 LINE-UP \nMITA GAMI \nVITE + MIGANOVA \nMiul \nRenê \nNegrinm \nExpect a journey through melodic house\, Afro-infused beats\, and captivating underground sounds designed to keep you dancing until late. \n🎟 TICKETS\nGeneral Admission \nEarly Bird: Mex$880 \nFirst Release: Mex$1\,210 \nSecond Release: Mex$1\,540 \nLast Release: Mex$1\,870 \nEach tier is limited — secure yours early. \n🍾 VIP TABLES + BOTTLE SERVICE \nPremium reserved tables for groups seeking an elevated experience with exclusive seating and bottle service. \nTable Options \nRed Table: Mex$111\,780 \nBlue Table: Mex$86\,940 \nOrange Table: Mex$62\,100 \nPurple Table: Mex$49\,680 \nYellow Table: Mex$37\,260 \nGreen Table: Mex$24\,840 \nDinner Table: Mex$7\,590 \nIdeal for celebrating\, hosting friends\, or enjoying the night with maximum comfort and style. \n✨ EVENT OVERVIEW \nVenue: Vagalume Tulum \nDate: December 27\, 2025 \nTime: 3:00 PM – 1:00 AM \nAge Requirement: 18+ \nDress Code: All Black / Sexy Attire \nAtmosphere: Boutique party\, seductive ambiance\, deep house energy \nStep into a world where music meets mystique — a night designed to tempt\, transform\, and thrill.
URL:https://yourkeyconcierge.com/event/mita-gami-x-sinner-vagalume-tulum/
LOCATION:Vagalume Tulum Beach Club – Day & Night Experience\, Tulum\, Mexico
ATTACH;FMTTYPE=image/jpeg:https://yourkeyconcierge.com/wp-content/uploads/2025/11/mita.jpg
END:VEVENT
BEGIN:VEVENT
DTSTART;TZID=Europe/Madrid:20251227T030000
DTEND;TZID=Europe/Madrid:20251228T010000
DTSTAMP:20260419T175428
CREATED:20251129T074918Z
LAST-MODIFIED:20251129T074918Z
UID:4228-1766804400-1766883600@yourkeyconcierge.com
SUMMARY:Astradanza @ Papaya Playa Project
DESCRIPTION:Papaya Playa Project presents Astradanza\, returning to the shores of Tulum for an evening of cosmic\, hypnotic\, and groove-driven house. On December 27th\, the oceanfront sanctuary becomes the backdrop for a deeply immersive musical journey framed by jungle\, moonlight\, and rhythm. \nAstradanza is known for its textured soundscapes\, subtle builds\, and warm\, trippy layers that create an atmosphere perfect for barefoot dancing on the sand. This edition brings a beautifully curated lineup designed to make the night feel intimate\, elevated\, and transportive. \n🎶 LINE-UP \nMaayan Nidam \nDaniel Weil \nOssios \nExpect deep grooves\, melodic progression\, and cosmic tones shaping the night from sunset into late hours. \n🎟 TICKET OPTIONS\nGeneral Admission \nTrust The Vibe Ticket: Mex$1\,100 \n🛏 ROOM PACKAGES\nArt Village Tulum \nJungle Room + Event for 2 — Mex$12\,960 \nJungle Room + Mayan Dinner + Event for 2 — Mex$16\,686 \nOceanview Room + Event for 2 — Mex$13\,780.80 \nOceanview + Mayan Dinner + Event for 2 — Mex$17\,506.80 \nPapaya Playa Project \nJungle Casita + Event for 2 — Mex$11\,404.80 \nJungle Casita + Mayan Dinner + Event for 2 — Mex$15\,130.80 \nJungle Casita Rooftop Pool + Event for 2 — Mex$12\,765.60 \nJungle Casita Rooftop Pool + Mayan Dinner + Event for 2 — Mex$16\,491.60 \nRoom packages offer the complete Tulum escape—privacy\, comfort\, and the luxury of staying just steps away from the beach and the celebration. \n✨ EXPERIENCE \nMayan Dinner Experience \nSignature Cocktails \nCurated Wines \nImmersive Art \nSunset-to-late musical journey \nBeachfront dance floor \nAstradanza invites you to connect with music\, nature\, community\, and yourself in one of Tulum’s most intimate and atmospheric settings. \nCapacity is intentionally limited to preserve the energy and flow of the night. \n🎟 Tickets are limited — secure your place for December 27 at Papaya Playa Project.
URL:https://yourkeyconcierge.com/event/astradanza-papaya-playa-project/
LOCATION:Papaya Playa Project
ATTACH;FMTTYPE=image/png:https://yourkeyconcierge.com/wp-content/uploads/2025/11/astradanza.png
END:VEVENT
BEGIN:VEVENT
DTSTART;TZID=Europe/Madrid:20251227T220000
DTEND;TZID=Europe/Madrid:20251228T030000
DTSTAMP:20260419T175428
CREATED:20251221T221740Z
LAST-MODIFIED:20251221T221740Z
UID:4719-1766872800-1766890800@yourkeyconcierge.com
SUMMARY:Collé: Eagles & Butterflies at Bonbonniere Tulum
DESCRIPTION:Eagles & Butterflies by Collé lands at Bonbonniere Tulum for an elegant late-night experience inspired by sound\, style and exclusivity. Join us on Saturday\, December 27 for a refined club night where music and atmosphere take center stage.\nExpect a sophisticated crowd\, premium production and the signature energy of Bonbonniere\, one of Tulum’s most iconic nightlife venues.\n📅 Saturday\, December 27\, 2025\n🕙 10:00 PM – Late\n📍 Bonbonniere Tulum\, Quintana Roo\n🔞 18+\n👔 Formal Dress Code (Strictly Enforced)\n🍾 VIP Tables & Bottle Service Available
URL:https://yourkeyconcierge.com/event/colle-eagles-butterflies-at-bonbonniere-tulum/
LOCATION:Bonbonniere Tulum\, Carretera Estatal Tulum–Boca Paila\, Parcela 1744-A\, Tulum\, Quintana Roo\, 777760\, Mexico
ATTACH;FMTTYPE=image/jpeg:https://yourkeyconcierge.com/wp-content/uploads/2025/12/693afa8fda1f51.75220872.jpg
END:VEVENT
BEGIN:VEVENT
DTSTART;TZID=Europe/Madrid:20251228T070000
DTEND;TZID=Europe/Madrid:20251229T010000
DTSTAMP:20260419T175428
CREATED:20251129T075132Z
LAST-MODIFIED:20251129T075132Z
UID:4231-1766905200-1766970000@yourkeyconcierge.com
SUMMARY:ELYSIUM at Vagalume Tulum
DESCRIPTION:Sunday\, December 28\, 2025 – 7:00 PM to 1:00 AM\nVagalume Tulum — Tulum\, Quintana Roo\nAges 18+ \nVagalume presents ELYSIUM\, returning to Tulum with a breathtaking new chapter of its global showcase. \nAfter a monumental season across Spain and Ibiza\, Elysium brings its signature fusion of emotion\, energy\, and cutting-edge sound back to the jungle. Curated by Afshin Momadi\, one of Germany’s Top 10 Emerging Artists for the second year in a row\, the night promises a journey into modern utopia—where nature\, rhythm\, and visual design create a fully immersive world. \nFresh off the viral success of his latest single\, which surpassed 1.5 million streams in under a week and broke into the Top 3 German charts\, Afshin returns to Vagalume following appearances on some of the world’s biggest stages\, including Tomorrowland\, Zamna Festival\, and Ushuaïa Ibiza.\nThis December\, ELYSIUM arrives with an all-new concept created exclusively for Tulum. \n🎶 LINEUP \nTBA\nA carefully curated lineup will be revealed soon\, bringing together rising stars and international talent for a night of unforgettable house and melodic rhythms. \n🎟 TICKET OPTIONS\nGeneral Admission \nEarly Bird – $605 MXN \nFirst Release – $880 MXN \nSecond Release – $1\,210 MXN \nFinal Release – $1\,540 MXN \n🍾 VIP TABLES – Bottle Service \nExclusive bottle service tables available across the venue: \nWhite Table – $49\,680 MXN \nGreen Table – $24\,840 MXN \nPink Table – $18\,630 MXN \nDinner Table – $7\,590 MXN \nTables offer premium seating\, a dedicated service team\, and the ideal setting for an elevated nightlife experience. \n✨ THE EXPERIENCE \nStep into Elysium — A Journey Into Utopia\, where: \nCutting-edge house music blends with the natural beauty of the Tulum jungle \nImmersive light and design create a dreamlike visual landscape \nThe dance floor becomes a sanctuary of movement\, freedom\, and connection \n👗 DRESS CODE \nTulum Style – effortless\, elevated\, bohemian luxury. \n🎟 Reserve Your Night in Utopia \nBe part of one of December’s most anticipated electronic events in Tulum.\nSecure your tickets now and experience ELYSIUM at Vagalume.
URL:https://yourkeyconcierge.com/event/elysium-at-vagalume-tulum/
LOCATION:Vagalume Tulum Beach Club – Day & Night Experience\, Tulum\, Mexico
ATTACH;FMTTYPE=image/jpeg:https://yourkeyconcierge.com/wp-content/uploads/2025/11/elysium.jpg
END:VEVENT
BEGIN:VEVENT
DTSTART;TZID=Europe/Madrid:20251228T100000
DTEND;TZID=Europe/Madrid:20251229T010000
DTSTAMP:20260419T175428
CREATED:20251129T075352Z
LAST-MODIFIED:20251129T083603Z
UID:4234-1766916000-1766970000@yourkeyconcierge.com
SUMMARY:ANCESTRAL SOUL @ Bonbonniere Tulum
DESCRIPTION:Sunday\, December 28\, 2025 – 10:00 PM until late\nBonbonniere Tulum — Tulum\, Quintana Roo\nAges 18+ \nStep into the deep\, tribal\, and organic essence of ANCESTRAL SOUL\, an electrifying Sunday night experience at Bonbonniere Tulum\, where rhythm\, elegance\, and mystique merge inside one of Tulum’s most luxurious nightlife venues. \nThis special edition brings a powerful lineup of artists known for blending melodic textures with earthy percussion\, global influences\, and soulful energy. Under Bonbonniere’s iconic lighting and signature design\, the dance floor becomes a place of pure connection. \n🎶 LINEUP \nMonkey Safari \nAryme \nRami \nTandrah Souls \nExpect warm grooves\, hypnotic rhythms\, and deep global house sounds designed for an elevated\, late-night journey. \n🎟 TICKET OPTIONS\nGeneral Admission \nTier 1 – $1\,000 MXN (exc. fees) \n🍾 VIP TABLES – Bottle Service \nPremium table packages designed for an unforgettable night: \nBackstage – $115\,000 MXN \nDiamond – $69\,000 MXN \nPlatinum – Sold Out \nGold – $34\,500 MXN \nSilver – $23\,000 MXN \nEach table includes exclusive seating\, dedicated service\, and the perfect vantage point to enjoy the night in style. \n👗 DRESS CODE – FORMAL \nStrictly enforced.\nTo maintain the elevated Bonbonniere aesthetic\, the following are not permitted: \nSwimwear \nCaps \nSandals \nSports shorts \nPlease arrive dressed in formal\, refined evening attire. \n🌙 EXPERIENCE \nBonbonniere Tulum delivers a luxurious nightlife setting with: \nWorld-class music curation \nSignature lighting and visual design \nHigh-end bottle service \nAn elegant\, intimate dance-floor atmosphere \nCelebrate the night with a sound that blends ancient soul with modern rhythm — an experience made for those who seek depth\, emotion\, and style. \nSecure your entry or reserve your VIP table for ANCESTRAL SOUL and step into a night crafted for true music lovers.
URL:https://yourkeyconcierge.com/event/ancestral-soul-bonbonniere-tulum/
LOCATION:Bonbonniere Tulum\, Carretera Estatal Tulum–Boca Paila\, Parcela 1744-A\, Tulum\, Quintana Roo\, 777760\, Mexico
ATTACH;FMTTYPE=image/webp:https://yourkeyconcierge.com/wp-content/uploads/2025/11/monkey.webp
END:VEVENT
BEGIN:VEVENT
DTSTART;TZID=Europe/Madrid:20251228T150000
DTEND;TZID=Europe/Madrid:20251228T233000
DTSTAMP:20260419T175428
CREATED:20251227T003231Z
LAST-MODIFIED:20251227T003231Z
UID:4778-1766934000-1766964600@yourkeyconcierge.com
SUMMARY:SLOWMINGO: Anstascia / Jo.ke / Rico Loop at Nomade
DESCRIPTION:
URL:https://yourkeyconcierge.com/event/slowmingo-anstascia-jo-ke-rico-loop-at-nomade/
LOCATION:Nomade Tulum\, Tulum\, Mexico
ATTACH;FMTTYPE=image/png:https://yourkeyconcierge.com/wp-content/uploads/2025/12/Captura-de-pantalla-2025-12-26-a-las-1.06.22-p.m.png
END:VEVENT
END:VCALENDAR