BEGIN:VCALENDAR
VERSION:2.0
PRODID:-// - ECPv6.15.12.2//NONSGML v1.0//EN
CALSCALE:GREGORIAN
METHOD:PUBLISH
X-ORIGINAL-URL:https://yourkeyconcierge.com
X-WR-CALDESC:Events for 
REFRESH-INTERVAL;VALUE=DURATION:PT1H
X-Robots-Tag:noindex
X-PUBLISHED-TTL:PT1H
BEGIN:VTIMEZONE
TZID:America/Cancun
BEGIN:STANDARD
TZOFFSETFROM:-0500
TZOFFSETTO:-0500
TZNAME:EST
DTSTART:20240101T000000
END:STANDARD
END:VTIMEZONE
BEGIN:VTIMEZONE
TZID:Europe/Madrid
BEGIN:DAYLIGHT
TZOFFSETFROM:+0100
TZOFFSETTO:+0200
TZNAME:CEST
DTSTART:20240331T010000
END:DAYLIGHT
BEGIN:STANDARD
TZOFFSETFROM:+0200
TZOFFSETTO:+0100
TZNAME:CET
DTSTART:20241027T010000
END:STANDARD
BEGIN:DAYLIGHT
TZOFFSETFROM:+0100
TZOFFSETTO:+0200
TZNAME:CEST
DTSTART:20250330T010000
END:DAYLIGHT
BEGIN:STANDARD
TZOFFSETFROM:+0200
TZOFFSETTO:+0100
TZNAME:CET
DTSTART:20251026T010000
END:STANDARD
BEGIN:DAYLIGHT
TZOFFSETFROM:+0100
TZOFFSETTO:+0200
TZNAME:CEST
DTSTART:20260329T010000
END:DAYLIGHT
BEGIN:STANDARD
TZOFFSETFROM:+0200
TZOFFSETTO:+0100
TZNAME:CET
DTSTART:20261025T010000
END:STANDARD
END:VTIMEZONE
BEGIN:VEVENT
DTSTART;TZID=America/Cancun:20251224T190000
DTEND;TZID=America/Cancun:20251225T010000
DTSTAMP:20260419T175335
CREATED:20251210T205040Z
LAST-MODIFIED:20251210T205514Z
UID:4526-1766602800-1766624400@yourkeyconcierge.com
SUMMARY:DOMINIK – Immersive Electronic Experience at Vagalume Tulum
DESCRIPTION:Step into DOMINIK — a deep\, emotional\, and sensory musical journey born in the heart of Tulum.\nThis December 24th\, Vagalume transforms into a space where routine melts away\, the ego disappears\, and authentic human connection flows through sound\, rhythm\, and energy.\nCreated in Tulum and inspired by its natural mystique\, DOMINIK unites locals and travelers in an atmosphere where organic jungle vibrations meet underground electronic beats. This is more than a party — it’s a return to your truest self through music.\n🌿 LINEUP\nExperience an unforgettable night with a powerful musical curation:\nGiorgio Stefano\nLeón V\nRebecca Lasmar\nIrinna\n🎟️ TICKETS\nChoose your access tier and secure your spot:\nEarly Bird: $605 MXN\nFirst Release: $880 MXN\nSecond Release: $1\,210 MXN\n🍾 VIP TABLES & BOTTLE SERVICE\nUpgrade your night with exclusive table options:\nWhite Table – $37\,260 MXN\nGreen Table – $18\,630 MXN\nDinner Table – $3\,795 MXN
URL:https://yourkeyconcierge.com/event/dominik-immersive-electronic-experience-at-vagalume-tulum/
LOCATION:Vagalume Tulum Beach Club – Day & Night Experience\, Tulum\, Mexico
ATTACH;FMTTYPE=image/jpeg:https://yourkeyconcierge.com/wp-content/uploads/2025/12/db_file_img_133668_1200xauto.jpg
END:VEVENT
BEGIN:VEVENT
DTSTART;TZID=Europe/Madrid:20251224T220000
DTEND;TZID=Europe/Madrid:20251228T030000
DTSTAMP:20260419T175335
CREATED:20251221T221023Z
LAST-MODIFIED:20251221T221115Z
UID:4713-1766613600-1766890800@yourkeyconcierge.com
SUMMARY:Xmas Party: Ephimera x Deeplomatic
DESCRIPTION:Ephimera x Deeplomatic unite for a one-night-only Christmas Party that goes beyond tradition. No clichés\, no filler — just music with intent\, a curated crowd and an atmosphere that only happens once a year.\nFrom 10:00 PM till late\, experience two stages of underground sound featuring a hand-picked lineup of local and international selectors\, immersive energy and a setting designed for those who know why they’re there.\n📅 Wednesday\, December 24\, 2025\n🕙 10:00 PM – Late\n📍 Secret Location – Jacinto Pat\, Quintana Roo\n🔞 21+ | ID Required\n🚐 Free Shuttle Service Available\n🎟 Limited Capacity | Locals Discount with ID\nTables and Absolut Christmas packages available.
URL:https://yourkeyconcierge.com/event/xmas-party-ephimera-x-deeplomatic/
LOCATION:Cenote venue Tulum Jungle
ATTACH;FMTTYPE=image/png:https://yourkeyconcierge.com/wp-content/uploads/2025/12/Captura-de-pantalla-2025-12-21-a-las-11.09.07-a.m.png
END:VEVENT
BEGIN:VEVENT
DTSTART;TZID=America/Cancun:20251225T190000
DTEND;TZID=America/Cancun:20251226T010000
DTSTAMP:20260419T175335
CREATED:20251210T205432Z
LAST-MODIFIED:20251210T205432Z
UID:4528-1766689200-1766710800@yourkeyconcierge.com
SUMMARY:MELLOW at Vagalume Tulum
DESCRIPTION:Step into the soul of Tulum’s electronic scene this December 25th as Vagalume presents MELLOW\, a night designed for rhythm seekers\, dreamers\, and lovers of immersive sound. From 7:00 PM to 1:00 AM\, lose yourself at one of Tulum’s most iconic beachfront venues\, where music\, nature\, and energy collide.\n✨ LINEUP\nFeel the pulse of the night with an exceptional artist selection:\nRAMYEN\nGAVIÑO\nMIUL\nLet hypnotic beats flow with the breeze as you dance beneath the stars\, surrounded by Vagalume’s signature wooden architecture and a stunning beachfront atmosphere.\n🎟 TICKETS\nChoose the release that best suits you:\nEarly Bird: $605 MXN\nFirst Release: $880 MXN\nSecond Release: $1\,210 MXN\nFinal Release: $1\,540 MXN\nReserve early—tickets increase as the event approaches.\n🍾 VIP TABLES & BOTTLE SERVICE\nElevate your night with premium table packages:\nWhite Table – $49\,680 MXN\nGreen Table – $24\,840 MXN\nPink Table – $18\,630 MXN\nDinner Table – $3\,795 MXN\nEnjoy dedicated service\, premium bottles\, and the best views of the stage. \n📍 Location:\nVagalume Tulum – A breathtaking beachfront venue in the heart of Tulum’s nightlife district.\n⏰ Event Time:\n7:00 PM – 1:00 AM\n👗 Dress Code:\nTulum Style – effortless\, chic\, and inspired by nature.\nDon’t miss your chance to experience a night of pure electronic magic. Get your tickets now and immerse yourself in the MELLOW rhythm at Vagalume Tulum.
URL:https://yourkeyconcierge.com/event/mellow-at-vagalume-tulum/
LOCATION:Vagalume Tulum Beach Club – Day & Night Experience\, Tulum\, Mexico
ATTACH;FMTTYPE=image/jpeg:https://yourkeyconcierge.com/wp-content/uploads/2025/12/db_file_img_134724_1200xauto.jpg
END:VEVENT
BEGIN:VEVENT
DTSTART;TZID=Europe/Madrid:20251225T220000
DTEND;TZID=Europe/Madrid:20251226T040000
DTSTAMP:20260419T175335
CREATED:20251210T210203Z
LAST-MODIFIED:20251210T210203Z
UID:4530-1766700000-1766721600@yourkeyconcierge.com
SUMMARY:BORA UZER at Bonbonniere Tulum
DESCRIPTION:Step into an unforgettable Christmas Night as Bora Uzer brings his signature live electronic performance to Bonbonniere Tulum on Thursday\, December 25th\, from 10:00 PM until late.\n Experience a glamorous night of music\, style\, and high-energy celebration inside one of Tulum’s most iconic nightlife venues.\nBonbonniere’s luxurious atmosphere meets Bora Uzer’s magnetic sound—where deep grooves\, live instrumental elements\, and immersive beats create a night designed for those who live for extraordinary moments.\n⭐ What to Expect\nA world-class performance by BORA UZER\nElite nightlife energy in an upscale Tulum setting\nPremium sound\, lighting\, and immersive ambiance\nVIP bottle service tables available in multiple categories\nStrict dress code for an elevated luxury experience\n🎟️ Tickets\nTier 1: $1\,000 MXN (excl. fees)\n🥂 VIP Tables\nBackstage – $115\,000 MXN\nDiamond – $92\,000 MXN\nPlatinum – $69\,000 MXN\nGold – $57\,500 MXN\nSilver – $46\,000 MXN\nIncludes premium bottle service & exclusive areas depending on table category.\n👗 Dress Code – Formal\nTo preserve the luxury experience\, Bonbonniere enforces a strict formal dress code:\n❌ No swimwear\n❌ No caps\n❌ No sandals\n❌ No sport shorts\nEntry will be denied if dress code is not respected.\nCelebrate Christmas night in style—a glamorous evening\, extraordinary music\, and the magnetic energy of Tulum nightlife.
URL:https://yourkeyconcierge.com/event/bora-uzer-at-bonbonniere-tulum/
LOCATION:Bonbonniere Tulum\, Carretera Estatal Tulum–Boca Paila\, Parcela 1744-A\, Tulum\, Quintana Roo\, 777760\, Mexico
ATTACH;FMTTYPE=image/jpeg:https://yourkeyconcierge.com/wp-content/uploads/2025/12/db_file_img_135178_1200xauto.jpg
END:VEVENT
END:VCALENDAR