BEGIN:VCALENDAR
VERSION:2.0
PRODID:-// - ECPv6.15.12.2//NONSGML v1.0//EN
CALSCALE:GREGORIAN
METHOD:PUBLISH
X-ORIGINAL-URL:https://yourkeyconcierge.com
X-WR-CALDESC:Events for 
REFRESH-INTERVAL;VALUE=DURATION:PT1H
X-Robots-Tag:noindex
X-PUBLISHED-TTL:PT1H
BEGIN:VTIMEZONE
TZID:Europe/Madrid
BEGIN:DAYLIGHT
TZOFFSETFROM:+0100
TZOFFSETTO:+0200
TZNAME:CEST
DTSTART:20240331T010000
END:DAYLIGHT
BEGIN:STANDARD
TZOFFSETFROM:+0200
TZOFFSETTO:+0100
TZNAME:CET
DTSTART:20241027T010000
END:STANDARD
BEGIN:DAYLIGHT
TZOFFSETFROM:+0100
TZOFFSETTO:+0200
TZNAME:CEST
DTSTART:20250330T010000
END:DAYLIGHT
BEGIN:STANDARD
TZOFFSETFROM:+0200
TZOFFSETTO:+0100
TZNAME:CET
DTSTART:20251026T010000
END:STANDARD
BEGIN:DAYLIGHT
TZOFFSETFROM:+0100
TZOFFSETTO:+0200
TZNAME:CEST
DTSTART:20260329T010000
END:DAYLIGHT
BEGIN:STANDARD
TZOFFSETFROM:+0200
TZOFFSETTO:+0100
TZNAME:CET
DTSTART:20261025T010000
END:STANDARD
END:VTIMEZONE
BEGIN:VEVENT
DTSTART;TZID=Europe/Madrid:20251221T190000
DTEND;TZID=Europe/Madrid:20251222T040000
DTSTAMP:20260419T175530
CREATED:20251218T001757Z
LAST-MODIFIED:20251220T233942Z
UID:4655-1766343600-1766376000@yourkeyconcierge.com
SUMMARY:Elysium at Vagalume Tulum
DESCRIPTION:Elysium returns to Tulum for an exclusive jungle residency at Vagalume. After a standout season in Ibiza and Europe\, Afshin Momadi brings his acclaimed concept back to Mexico for a night of immersive sound\, elevated energy\, and utopian vibes under the palms.\nFeaturing Afshin Momadi\, Belladona\, and Vite\, this curated experience blends melodic house\, world-class production\, and Tulum’s iconic atmosphere.\n📍 Vagalume Tulum\, Quintana Roo\n📅 Sunday\, December 21\, 2025 | 7:00 PM – 1:00 AM\n🔞 18+ event\n👗 Dress code: Tulum Style\n🎟️ General admission & VIP bottle service tables available
URL:https://yourkeyconcierge.com/event/elysium-at-vagalume-tulum-2/
LOCATION:Vagalume Tulum Beach Club – Day & Night Experience\, Tulum\, Mexico
ATTACH;FMTTYPE=image/jpeg:https://yourkeyconcierge.com/wp-content/uploads/2025/12/db_file_img_135371_1200xauto.jpg
END:VEVENT
BEGIN:VEVENT
DTSTART;TZID=Europe/Madrid:20251221T220000
DTEND;TZID=Europe/Madrid:20251222T040000
DTSTAMP:20260419T175530
CREATED:20251221T220632Z
LAST-MODIFIED:20251221T220632Z
UID:4710-1766354400-1766376000@yourkeyconcierge.com
SUMMARY:Ancestral Soul at Bonbonniere Tulum
DESCRIPTION:Ancestral Soul arrives at Bonbonniere Tulum for a refined Sunday night experience blending deep electronic rhythms with elegant nightlife energy.\nFrom 10:00 PM till late\, immerse yourself in a curated sound journey led by Rami b2b Leonardo\, Moaré\, and Cuevas\, set inside one of Tulum’s most exclusive nightlife venues.\nExpect elevated production\, a sophisticated crowd and an intimate dancefloor atmosphere designed for late-night connection and movement.\n📅 Sunday\, December 21\, 2025\n🕙 10:00 PM – Late\n📍 Bonbonniere Tulum\, Quintana Roo\n🔞 18+ | Limited Capacity\n👔 Dress Code: Formal (Strictly Enforced)\nVIP tables and backstage experiences available.
URL:https://yourkeyconcierge.com/event/ancestral-soul-at-bonbonniere-tulum-2/
LOCATION:Bonbonniere Tulum\, Carretera Estatal Tulum–Boca Paila\, Parcela 1744-A\, Tulum\, Quintana Roo\, 777760\, Mexico
ATTACH;FMTTYPE=image/png:https://yourkeyconcierge.com/wp-content/uploads/2025/12/Captura-de-pantalla-2025-12-21-a-las-11.05.22-a.m.png
END:VEVENT
END:VCALENDAR